BEGIN:VCALENDAR
VERSION:2.0
PRODID:-//Treibhaus Döbeln - ECPv6.15.13//NONSGML v1.0//EN
CALSCALE:GREGORIAN
METHOD:PUBLISH
X-ORIGINAL-URL:https://treibhaus-doebeln.de
X-WR-CALDESC:Veranstaltungen für Treibhaus Döbeln
REFRESH-INTERVAL;VALUE=DURATION:PT1H
X-Robots-Tag:noindex
X-PUBLISHED-TTL:PT1H
BEGIN:VTIMEZONE
TZID:Europe/Berlin
BEGIN:DAYLIGHT
TZOFFSETFROM:+0100
TZOFFSETTO:+0200
TZNAME:CEST
DTSTART:20250330T010000
END:DAYLIGHT
BEGIN:STANDARD
TZOFFSETFROM:+0200
TZOFFSETTO:+0100
TZNAME:CET
DTSTART:20251026T010000
END:STANDARD
BEGIN:DAYLIGHT
TZOFFSETFROM:+0100
TZOFFSETTO:+0200
TZNAME:CEST
DTSTART:20260329T010000
END:DAYLIGHT
BEGIN:STANDARD
TZOFFSETFROM:+0200
TZOFFSETTO:+0100
TZNAME:CET
DTSTART:20261025T010000
END:STANDARD
BEGIN:DAYLIGHT
TZOFFSETFROM:+0100
TZOFFSETTO:+0200
TZNAME:CEST
DTSTART:20270328T010000
END:DAYLIGHT
BEGIN:STANDARD
TZOFFSETFROM:+0200
TZOFFSETTO:+0100
TZNAME:CET
DTSTART:20271031T010000
END:STANDARD
END:VTIMEZONE
BEGIN:VEVENT
DTSTART;TZID=Europe/Berlin:20260209T100000
DTEND;TZID=Europe/Berlin:20260209T120000
DTSTAMP:20260424T020652
CREATED:20260113T104202Z
LAST-MODIFIED:20260113T133556Z
UID:18470-1770631200-1770638400@treibhaus-doebeln.de
SUMMARY:WORKSHOP: Buchbinden - Winterferienprogramm KULTURLABOR
DESCRIPTION:Hier gestaltest du dein eigenes kleines Buch. Du kannst die Seiten selbst binden und entscheiden\, womit du dein Buch füllst: Erfinde eine spannende Geschichte\, male einen Comic\, schreibe Gedichte oder gestalte eine bunte Collage wie ein Zine. Deiner Fantasie sind keine Grenzen gesetzt – dein Buch wird ein echtes Unikat. \n  \n📍 Wo? Café Courage\, Bahnhofstraße 56 in Döbeln \n🕙 10.00 bis 12.00 Uhr \n💵 5€ pro Person \n📝 Anmeldung Dafür könnt ihr das Formular per Mail an anmeldung@treibhaus-doebeln.de schicken oder bei uns vor Ort abgeben. \nAnmeldeschluss ist der 6. Februar 2026. \n  \nIm Anschluss an den Workshop laden wir euch zu einem gemeinsamen Mittagessen ein. Ab 13.30 Uhr geht es dann mit dem Bunten Nachmittag im Café weiter – mit Spielen\, Aktionen und guter Laune bis 17.00 Uhr. \n\n\n  \n\n\n\nWir freuen uns auf eine tolle Winterferienwoche mit euch! ❄️😊 Hier gehts zum kompletten Programm. \n  \nBei Fragen könnt ihr uns gerne kontaktieren: \nJulia Kaden\nFon +49 (0) 3431 / 60 52 978\nMail anmeldung@treibhaus-doebeln.de
URL:https://treibhaus-doebeln.de/event/workshop-buchbinden-winterferienprogramm-kulturlabor/
LOCATION:Café Courage\, Bahnhofstraße 56\, Döbeln\, Sachsen\, 04720\, Deutschland
CATEGORIES:Kinderprogramm,Kunst,Kurs,Workshop
ATTACH;FMTTYPE=image/jpeg:https://treibhaus-doebeln.de/wp-content/uploads/2026/01/HP-Buchbinden-scaled.jpg
ORGANIZER;CN="Treibhaus e.V. D%C3%B6beln":MAILTO:info@treibhaus-doebeln.de
END:VEVENT
BEGIN:VEVENT
DTSTART;TZID=Europe/Berlin:20260210T100000
DTEND;TZID=Europe/Berlin:20260210T120000
DTSTAMP:20260424T020652
CREATED:20260113T122131Z
LAST-MODIFIED:20260113T133659Z
UID:18491-1770717600-1770724800@treibhaus-doebeln.de
SUMMARY:WORKSHOP: Siebdruck - Winterferienprogramm KULTURLABOR
DESCRIPTION:In diesem Workshop lernst du\, wie Siebdruck funktioniert. Wir haben coole Comicmotive und lässige Sprüche für euch vorbereitet. Du druckst die Motive mit Farbe auf Papier oder Stoff und kannst kreativ sein. Gerne kannst du auch eigene Textilien zum Verschönern mitbringen. Kleine Papiersachen und ein Beutel sind im Preis inbegriffen.\nMit etwas Taschengeld kannst du dir vor Ort außerdem noch weitere Dinge zum Bedrucken kaufen. \n  \n📍 Wo? Café Courage\, Bahnhofstraße 56 in Döbeln \n🕙 10.00 bis 12.00 Uhr \n💵 5€ pro Person \n📝 Anmeldung Dafür könnt ihr das Formular per Mail an anmeldung@treibhaus-doebeln.de schicken oder bei uns vor Ort abgeben. \nAnmeldeschluss ist der 6. Februar 2026. \n  \nIm Anschluss an den Workshop laden wir euch zu einem gemeinsamen Mittagessen ein. Ab 13.30 Uhr geht es dann zu einem Ausflug zu Karls\, zum Schlittschuhlaufen. \n\n\n  \n\n\n\nWir freuen uns auf eine tolle Winterferienwoche mit euch! ❄️😊 Hier gehts zum kompletten Programm. \n  \nBei Fragen könnt ihr uns gerne kontaktieren: \nJulia Kaden\nFon +49 (0) 3431 / 60 52 978\nMail anmeldung@treibhaus-doebeln.de
URL:https://treibhaus-doebeln.de/event/workshop-siebdruck-winterferienprogramm-kulturlabor/
LOCATION:Café Courage\, Bahnhofstraße 56\, Döbeln\, Sachsen\, 04720\, Deutschland
CATEGORIES:Kinderprogramm,Kunst,Kurs,Siebdruck,Workshop
ATTACH;FMTTYPE=image/jpeg:https://treibhaus-doebeln.de/wp-content/uploads/2026/01/HP-Siebdruck-scaled.jpg
ORGANIZER;CN="Treibhaus e.V. D%C3%B6beln":MAILTO:info@treibhaus-doebeln.de
END:VEVENT
END:VCALENDAR