BEGIN:VCALENDAR
VERSION:2.0
PRODID:-//Treibhaus Döbeln - ECPv6.15.13//NONSGML v1.0//EN
CALSCALE:GREGORIAN
METHOD:PUBLISH
X-ORIGINAL-URL:https://treibhaus-doebeln.de
X-WR-CALDESC:Veranstaltungen für Treibhaus Döbeln
REFRESH-INTERVAL;VALUE=DURATION:PT1H
X-Robots-Tag:noindex
X-PUBLISHED-TTL:PT1H
BEGIN:VTIMEZONE
TZID:Europe/Berlin
BEGIN:DAYLIGHT
TZOFFSETFROM:+0100
TZOFFSETTO:+0200
TZNAME:CEST
DTSTART:20240331T010000
END:DAYLIGHT
BEGIN:STANDARD
TZOFFSETFROM:+0200
TZOFFSETTO:+0100
TZNAME:CET
DTSTART:20241027T010000
END:STANDARD
BEGIN:DAYLIGHT
TZOFFSETFROM:+0100
TZOFFSETTO:+0200
TZNAME:CEST
DTSTART:20250330T010000
END:DAYLIGHT
BEGIN:STANDARD
TZOFFSETFROM:+0200
TZOFFSETTO:+0100
TZNAME:CET
DTSTART:20251026T010000
END:STANDARD
BEGIN:DAYLIGHT
TZOFFSETFROM:+0100
TZOFFSETTO:+0200
TZNAME:CEST
DTSTART:20260329T010000
END:DAYLIGHT
BEGIN:STANDARD
TZOFFSETFROM:+0200
TZOFFSETTO:+0100
TZNAME:CET
DTSTART:20261025T010000
END:STANDARD
END:VTIMEZONE
BEGIN:VEVENT
DTSTART;TZID=Europe/Berlin:20251208T143000
DTEND;TZID=Europe/Berlin:20251208T163000
DTSTAMP:20260422T124357
CREATED:20251106T100001Z
LAST-MODIFIED:20251106T100001Z
UID:18080-1765204200-1765211400@treibhaus-doebeln.de
SUMMARY:Siebdruckworkshop: CHRISTMAS PRINTING
DESCRIPTION:Zusatztermin \nIn diesem Workshop möchten wir gemeinsam Siebdruck ausprobieren\, kreativ sein und dabei noch wunderschöne Prints auf Stoff und Papier herstellen\, die sich super verschenken lassen. \nBei unseren Workshops kannst du aus einer großen Auswahl an Druckträgern und Motiven wählen\, die wir zum Thema vorbereiten. Der Teilnahmebeitrag liegt bei 15-25 € pro Person (5-10 € Ermäßigt)\, zusätzlich zahlst du nur\, was du auch wirklich verdruckst. Du musst nichts vorbereiten und brauchst auch keine Vorkenntnisse\, nur etwas Zeit und Lust zum Experimentieren! \nDu willst dabei sein? Dann melde dich an\, die Teilnehmer*innenanzahl ist begrenzt! \nBeginn: 14.30 Uhr\nEnde: ca. 16.30 Uhr \nBezahlung ist vor Ort in bar möglich oder per PayPal. \nAnmeldung\nJulia Kaden\nMail: siebdruck@treibhaus-doebeln.de\nFon: +49 (0) 3431 / 60 52 978
URL:https://treibhaus-doebeln.de/event/siebdruckworkshop-christmas-printing-14/
LOCATION:Café Courage\, Bahnhofstraße 56\, Döbeln\, Sachsen\, 04720\, Deutschland
CATEGORIES:Kunst,Kurs,Siebdruck,Workshop
ATTACH;FMTTYPE=image/jpeg:https://treibhaus-doebeln.de/wp-content/uploads/2025/03/FB-3-scaled.jpg
ORGANIZER;CN="Treibhaus e.V. D%C3%B6beln":MAILTO:info@treibhaus-doebeln.de
END:VEVENT
BEGIN:VEVENT
DTSTART;TZID=Europe/Berlin:20251208T173000
DTEND;TZID=Europe/Berlin:20251208T193000
DTSTAMP:20260422T124357
CREATED:20251106T095939Z
LAST-MODIFIED:20251126T091536Z
UID:18081-1765215000-1765222200@treibhaus-doebeln.de
SUMMARY:Siebdruckworkshop: CHRISTMAS PRINTING (ausgebucht)
DESCRIPTION:Zusatztermin \nIn diesem Workshop möchten wir gemeinsam Siebdruck ausprobieren\, kreativ sein und dabei noch wunderschöne Prints auf Stoff und Papier herstellen\, die sich super verschenken lassen. \nBei unseren Workshops kannst du aus einer großen Auswahl an Druckträgern und Motiven wählen\, die wir zum Thema vorbereiten. Der Teilnahmebeitrag liegt bei 15-25 € pro Person (5-10 € Ermäßigt)\, zusätzlich zahlst du nur\, was du auch wirklich verdruckst. Du musst nichts vorbereiten und brauchst auch keine Vorkenntnisse\, nur etwas Zeit und Lust zum Experimentieren! \nDu willst dabei sein? Dann melde dich an\, die Teilnehmer*innenanzahl ist begrenzt! \nBeginn: 17.30 Uhr\nEnde: ca. 19.30 Uhr \nBezahlung ist vor Ort in bar möglich oder per PayPal. \nAnmeldung\nJulia Kaden\nMail: siebdruck@treibhaus-doebeln.de\nFon: +49 (0) 3431 / 60 52 978
URL:https://treibhaus-doebeln.de/event/siebdruckworkshop-christmas-printing-13/
LOCATION:Café Courage\, Bahnhofstraße 56\, Döbeln\, Sachsen\, 04720\, Deutschland
CATEGORIES:Kunst,Kurs,Siebdruck,Workshop
ATTACH;FMTTYPE=image/jpeg:https://treibhaus-doebeln.de/wp-content/uploads/2025/03/FB-3-scaled.jpg
ORGANIZER;CN="Treibhaus e.V. D%C3%B6beln":MAILTO:info@treibhaus-doebeln.de
END:VEVENT
BEGIN:VEVENT
DTSTART;TZID=Europe/Berlin:20251209T143000
DTEND;TZID=Europe/Berlin:20251209T163000
DTSTAMP:20260422T124357
CREATED:20250314T124952Z
LAST-MODIFIED:20251127T103431Z
UID:17171-1765290600-1765297800@treibhaus-doebeln.de
SUMMARY:Siebdruckworkshop: CHRISTMAS PRINTING (ausgebucht)
DESCRIPTION:In diesem Workshop möchten wir gemeinsam Siebdruck ausprobieren\, kreativ sein und dabei noch wunderschöne Prints auf Stoff und Papier herstellen\, die sich super verschenken lassen. \nBei unseren Workshops kannst du aus einer großen Auswahl an Druckträgern und Motiven wählen\, die wir zum Thema vorbereiten. Der Teilnahmebeitrag liegt bei 15-25 € pro Person (5-10 € Ermäßigt)\, zusätzlich zahlst du nur\, was du auch wirklich verdruckst. Du musst nichts vorbereiten und brauchst auch keine Vorkenntnisse\, nur etwas Zeit und Lust zum Experimentieren! \nDu willst dabei sein? Dann melde dich an\, die Teilnehmer*innenanzahl ist begrenzt! \nBeginn: 14.30 Uhr\nEnde: ca. 16.30 Uhr \nBezahlung ist vor Ort in bar möglich oder per PayPal. \nAnmeldung\nJulia Kaden\nMail: siebdruck@treibhaus-doebeln.de\nFon: +49 (0) 3431 / 60 52 978
URL:https://treibhaus-doebeln.de/event/siebdruckworkshop-christmas-printing-9/
LOCATION:Café Courage\, Bahnhofstraße 56\, Döbeln\, Sachsen\, 04720\, Deutschland
CATEGORIES:Kunst,Kurs,Siebdruck,Workshop
ATTACH;FMTTYPE=image/jpeg:https://treibhaus-doebeln.de/wp-content/uploads/2025/03/FB-3-scaled.jpg
ORGANIZER;CN="Treibhaus e.V. D%C3%B6beln":MAILTO:info@treibhaus-doebeln.de
END:VEVENT
BEGIN:VEVENT
DTSTART;TZID=Europe/Berlin:20251209T173000
DTEND;TZID=Europe/Berlin:20251209T193000
DTSTAMP:20260422T124357
CREATED:20250314T125039Z
LAST-MODIFIED:20251126T091518Z
UID:17172-1765301400-1765308600@treibhaus-doebeln.de
SUMMARY:Siebdruckworkshop: CHRISTMAS PRINTING (ausgebucht)
DESCRIPTION:In diesem Workshop möchten wir gemeinsam Siebdruck ausprobieren\, kreativ sein und dabei noch wunderschöne Prints auf Stoff und Papier herstellen\, die sich super verschenken lassen. \nBei unseren Workshops kannst du aus einer großen Auswahl an Druckträgern und Motiven wählen\, die wir zum Thema vorbereiten. Der Teilnahmebeitrag liegt bei 15-25 € pro Person (5-10 € Ermäßigt)\, zusätzlich zahlst du nur\, was du auch wirklich verdruckst. Du musst nichts vorbereiten und brauchst auch keine Vorkenntnisse\, nur etwas Zeit und Lust zum Experimentieren! \nDu willst dabei sein? Dann melde dich an\, die Teilnehmer*innenanzahl ist begrenzt! \nBeginn: 17.30 Uhr\nEnde: ca. 19.30 Uhr \nBezahlung ist vor Ort in bar möglich oder per PayPal. \nAnmeldung\nJulia Kaden\nMail: siebdruck@treibhaus-doebeln.de\nFon: +49 (0) 3431 / 60 52 978
URL:https://treibhaus-doebeln.de/event/siebdruckworkshop-christmas-printing-10/
LOCATION:Café Courage\, Bahnhofstraße 56\, Döbeln\, Sachsen\, 04720\, Deutschland
CATEGORIES:Kunst,Kurs,Siebdruck,Workshop
ATTACH;FMTTYPE=image/jpeg:https://treibhaus-doebeln.de/wp-content/uploads/2025/03/FB-3-scaled.jpg
ORGANIZER;CN="Treibhaus e.V. D%C3%B6beln":MAILTO:info@treibhaus-doebeln.de
END:VEVENT
BEGIN:VEVENT
DTSTART;TZID=Europe/Berlin:20251211T173000
DTEND;TZID=Europe/Berlin:20251211T200000
DTSTAMP:20260422T124357
CREATED:20250114T131757Z
LAST-MODIFIED:20250114T131757Z
UID:16676-1765474200-1765483200@treibhaus-doebeln.de
SUMMARY:Diskussion: #06 Mediencheck Roßwein
DESCRIPTION:Am 11. Dezember treffen wir uns zum sechsten Mediencheck Stammtisch\, in Roßwein. Jeden zweiten Donnerstag aller zwei Monate treffen wir uns und wollen kritisch-konstruktiv über die Medienwelt ins Gespräch kommen. Zur Debatte stehen immer aktuelle Themen aus der Nachrichtenwelt\, neue Entwicklungen oder auch politische Dimensionen. \n⏰ Zeit\n11. Dezember\n17:30 – 20:00 Uhr \n🏡 Ort\nBürgerhaus Roßwein\nAm Markt 8\n04741 Roßwein \n📝 Anmeldung\nWir bitten um vorherige Anmeldung (Siehe unten).\n \n📯 Ansprechpersonen\nJohannes Fischer & Johannes Gersten\nMail: spektrum3000@treibhaus-doebeln.de\nWhatsApp & Telegram: +49 (0) 1575 / 0888 948\nFon: +49 (0) 3431 / 67 87 403 \nWir sind im Raum Döbeln\, Riesa und Oschatz für Sie unterwegs und wollen vor Ort mit unseren Angeboten die Medienkompetenz in Mittelsachsen stärken. Zu diesem Zweck bieten wir eine breite Auswahl an Veranstaltungen\, aus der Sie sich\, die für Sie passende\, auswählen können. Von Workshops & Kursen\, über Beratungsangebote\, bis hin zu Vorträgen können wir alles realisieren\, was Sie sich wünschen. Schauen Sie gern auf unsere Projektseite\, auch neue und individuelle Ideen können wir mit Ihnen angehen. \nDas Projekt Spektrum3000 wird von der Sächsischen Landesmedienanstalt gefördert. In Kooperation mit dem Bürgerhaus Roßwein.
URL:https://treibhaus-doebeln.de/event/diskussion-06-mediencheck-rosswein/
LOCATION:Bürgerhaus Roßwein\, Markt 08\, Roßwein\, Sachsen\, 04741\, Deutschland
CATEGORIES:Diskussion,Gespräch
ATTACH;FMTTYPE=image/jpeg:https://treibhaus-doebeln.de/wp-content/uploads/2024/12/Lehrkraefte-Fortbildung-Neue-Medien-scaled.jpg
END:VEVENT
BEGIN:VEVENT
DTSTART;TZID=Europe/Berlin:20251212T100000
DTEND;TZID=Europe/Berlin:20251212T120000
DTSTAMP:20260422T124357
CREATED:20250116T100442Z
LAST-MODIFIED:20250430T095625Z
UID:16720-1765533600-1765540800@treibhaus-doebeln.de
SUMMARY:Beratung: Medien-Kaffeeklatsch für Erwachsene
DESCRIPTION:Am 12. Dezember sind wir in den Räumen des E-Werk Oschatz für Sie ansprechbar. Bei Fragen zu Medien wie Internet\, Smartphone\, Persönlichkeitsrechte und vielem mehr können wir helfen. Bringen Sie Ihr Gerät mit oder sprechen mit uns\, wenn Sie vorhaben eines zu kaufen. Das Ziel der Veranstaltung ist es\, Ihnen den Zugang zu (neuen) Medien zu erleichtern und Hemmungen abzubauen. Sie können mit einer ganz konkreten Frage zu uns kommen\, oder im Gespräch mit uns herausfinden\, wie Medien Sie in ihrem Alltag unterstützen können. Dabei können Sie kommen und gehen\, wann Sie wollen. \nThemenvorschläge und mögliche Fragen sind: \n\nBrauche ich überhaupt ein Smartphone oder Tablet?\nWas bedeuten die Zeichen und Bilder auf dem Smartphone/Tablet? (Begriffe & Hintergründe)\nSchnelle Hilfe im Internet: Hilfe es brennt\, was kann ich tun? An wen kann ich mich wenden?\nHabe ich einen Virus auf dem Smartphone oder was ist passiert? (Internetsicherheit)\nKann ich das Internet löschen?\nWas sind App-Berechtigungen\, Benutzerkonten und sichere Passwörter? (Einstellungen)\nWas das alles kostet! Gibt es da auch alternative Wege?\n\nWir wissen\, dass neue Technik oft einschüchternd wirken kann. Deshalb sind wir für Sie da und nehmen uns Zeit für Ihre Fragen und Bedenken. Wir können zuhören\, viele Fragen beantworten\, helfen und begleiten. Dieses Angebot ist jedoch keine juristische\, psychische oder psycho-soziale Beratung. \n⏰ Zeit\n12. Dezember\n10:00 – 12:00 Uhr \n🏡 Ort\nE-Werk Oschatz\nLichtstraße 1\n04758 Oschatz \n📝 Anmeldung\nEs ist keine Anmeldung erforderlich! Bei Fragen wenden Sie sich gern an\nFrau Anja Kohlbach\n01747124027\nanja.kohlbach@ewerk-oschatz.de\nwww.ewerk-oschatz.de\n \n📯 Ansprechpersonen\nJohannes Fischer & Johannes Gersten\nMail: spektrum3000@treibhaus-doebeln.de\nWhatsApp & Telegram: +49 (0) 1575 / 0888 948\nFon: +49 (0) 3431 / 67 87 403 \nWir sind im Raum Döbeln\, Riesa und Oschatz für Sie unterwegs und wollen vor Ort mit unseren Angeboten die Medienkompetenz in Mittelsachsen stärken. Zu diesem Zweck bieten wir eine breite Auswahl an Veranstaltungen\, aus der Sie sich\, die für Sie passende\, auswählen können. Von Workshops & Kursen\, über Beratungsangebote\, bis hin zu Vorträgen können wir alles realisieren\, was Sie sich wünschen. Schauen Sie gern auf unsere Projektseite\, auch neue und individuelle Ideen können wir mit Ihnen angehen. \nDas Projekt Spektrum3000 wird von der Sächsischen Landesmedienanstalt gefördert. In Kooperation mit dem E-Werk Oschatz.
URL:https://treibhaus-doebeln.de/event/beratung-medien-kaffeeklatsch-fuer-erwachsene-14/
LOCATION:E-Werk Oschatz\, Lichtstraße 1\, Oschatz\, Sachsen\, 04758\, Deutschland
CATEGORIES:Beratung,Diskussion
ATTACH;FMTTYPE=image/png:https://treibhaus-doebeln.de/wp-content/uploads/2024/12/Seniorin-und-Smartphone-pexels-ron-lach-7884140-1200x628px.jpg.png
END:VEVENT
BEGIN:VEVENT
DTSTART;TZID=Europe/Berlin:20251216T143000
DTEND;TZID=Europe/Berlin:20251216T163000
DTSTAMP:20260422T124357
CREATED:20250314T125118Z
LAST-MODIFIED:20251126T091454Z
UID:17173-1765895400-1765902600@treibhaus-doebeln.de
SUMMARY:Siebdruckworkshop: CHRISTMAS PRINTING (ausgebucht)
DESCRIPTION:In diesem Workshop möchten wir gemeinsam Siebdruck ausprobieren\, kreativ sein und dabei noch wunderschöne Prints auf Stoff und Papier herstellen\, die sich super verschenken lassen. \nBei unseren Workshops kannst du aus einer großen Auswahl an Druckträgern und Motiven wählen\, die wir zum Thema vorbereiten. Der Teilnahmebeitrag liegt bei 15-25 € pro Person (5-10 € Ermäßigt)\, zusätzlich zahlst du nur\, was du auch wirklich verdruckst. Du musst nichts vorbereiten und brauchst auch keine Vorkenntnisse\, nur etwas Zeit und Lust zum Experimentieren! \nDu willst dabei sein? Dann melde dich an\, die Teilnehmer*innenanzahl ist begrenzt! \nBeginn: 14.30 Uhr\nEnde: ca. 16.30 Uhr \nBezahlung ist vor Ort in bar möglich oder per PayPal. \nAnmeldung\nJulia Kaden\nMail: siebdruck@treibhaus-doebeln.de\nFon: +49 (0) 3431 / 60 52 978
URL:https://treibhaus-doebeln.de/event/siebdruckworkshop-christmas-printing-11/
LOCATION:Café Courage\, Bahnhofstraße 56\, Döbeln\, Sachsen\, 04720\, Deutschland
CATEGORIES:Kunst,Kurs,Siebdruck,Workshop
ATTACH;FMTTYPE=image/jpeg:https://treibhaus-doebeln.de/wp-content/uploads/2025/03/FB-3-scaled.jpg
ORGANIZER;CN="Treibhaus e.V. D%C3%B6beln":MAILTO:info@treibhaus-doebeln.de
END:VEVENT
BEGIN:VEVENT
DTSTART;TZID=Europe/Berlin:20251216T150000
DTEND;TZID=Europe/Berlin:20251216T180000
DTSTAMP:20260422T124357
CREATED:20251211T145633Z
LAST-MODIFIED:20251216T090353Z
UID:18313-1765897200-1765908000@treibhaus-doebeln.de
SUMMARY:Menschen Blumen Worte (abgesagt)
DESCRIPTION:MENSCHEN BLUMEN WORTE \nDer Workshop verbindet kreative Gestaltung mit biografischer Reflexion.\nDie Teilnehmenden gestalten mit Porzellanfarben schmale Vasen\, die symbolisch für wichtige Personen in ihrem Leben stehen. Anschließend verfassen die Teilnehmenden für jede dargestellte Person einen Brief oder eine kurze Botschaft. Die beschriebenen Blätter werden zu Papierblumen gefaltet\, sodass jede Vase eine Blume erhält – oder anders gesagt: jede symbolisierte Person eine persönliche Botschaft. Durch die Ergänzung mit selbst gestalteten Blumen in Form eines Briefes entsteht eine künstlerische Installation\, die persönliche Ressourcen sichtbar macht. \nAlle Vasen werden zum Abschluss zu einer gemeinsamen Installation zusammengeführt. So entsteht ein sichtbares Bild davon\, dass wir alle Menschen in unserem Leben haben\, die uns tragen\, prägen oder begleiten – und die eine Erwähnung\, Würdigung oder eben eine Blume verdienen. \nDie entstandenen Werke werden Teil der ausgestellten Arbeiten für die Stadtraumgalerie 2027 vom Projekt Zeig mir deine Welt sein. \n  \nWo: im KreativWerk (Industriestraße 1 04720 Döbeln) \nWann: am 16.12.2025   15.00 Uhr
URL:https://treibhaus-doebeln.de/event/menschen-blumen-worte/
LOCATION:KreativWerk\, Industriestraße 1\, Döbeln\, Sachsen\, 04720\, Germany
CATEGORIES:Austausch,Begegnung,Gespräch,Kunst,Kurs
ATTACH;FMTTYPE=image/png:https://treibhaus-doebeln.de/wp-content/uploads/2025/12/Banner-Querformat_Menschen-Bluemen-Worte.png
ORGANIZER;CN="Treibhaus e.V. D%C3%B6beln":MAILTO:info@treibhaus-doebeln.de
END:VEVENT
BEGIN:VEVENT
DTSTART;TZID=Europe/Berlin:20251216T173000
DTEND;TZID=Europe/Berlin:20251216T193000
DTSTAMP:20260422T124357
CREATED:20250314T125205Z
LAST-MODIFIED:20251126T091501Z
UID:17174-1765906200-1765913400@treibhaus-doebeln.de
SUMMARY:Siebdruckworkshop: CHRISTMAS PRINTING (ausgebucht)
DESCRIPTION:In diesem Workshop möchten wir gemeinsam Siebdruck ausprobieren\, kreativ sein und dabei noch wunderschöne Prints auf Stoff und Papier herstellen\, die sich super verschenken lassen. \nBei unseren Workshops kannst du aus einer großen Auswahl an Druckträgern und Motiven wählen\, die wir zum Thema vorbereiten. Der Teilnahmebeitrag liegt bei 15-25 € pro Person (5-10 € Ermäßigt)\, zusätzlich zahlst du nur\, was du auch wirklich verdruckst. Du musst nichts vorbereiten und brauchst auch keine Vorkenntnisse\, nur etwas Zeit und Lust zum Experimentieren! \nDu willst dabei sein? Dann melde dich an\, die Teilnehmer*innenanzahl ist begrenzt! \nBeginn: 17.30 Uhr\nEnde: ca. 19.30 Uhr \nBezahlung ist vor Ort in bar möglich oder per PayPal. \nAnmeldung\nJulia Kaden\nMail: siebdruck@treibhaus-doebeln.de\nFon: +49 (0) 3431 / 60 52 978
URL:https://treibhaus-doebeln.de/event/siebdruckworkshop-christmas-printing-12/
LOCATION:Café Courage\, Bahnhofstraße 56\, Döbeln\, Sachsen\, 04720\, Deutschland
CATEGORIES:Kunst,Kurs,Siebdruck,Workshop
ATTACH;FMTTYPE=image/jpeg:https://treibhaus-doebeln.de/wp-content/uploads/2025/03/FB-3-scaled.jpg
ORGANIZER;CN="Treibhaus e.V. D%C3%B6beln":MAILTO:info@treibhaus-doebeln.de
END:VEVENT
BEGIN:VEVENT
DTSTART;TZID=Europe/Berlin:20251219T150000
DTEND;TZID=Europe/Berlin:20251219T180000
DTSTAMP:20260422T124357
CREATED:20250116T115002Z
LAST-MODIFIED:20251022T120944Z
UID:16777-1766156400-1766167200@treibhaus-doebeln.de
SUMMARY:Offene Siebdruckwerkstatt
DESCRIPTION:Offene Siebdruckwerkstatt\nDer Treibhaus e.V. beherbergt eine gut ausgestattete Siebdruckwerkstatt und lädt regelmäßig zur offenen Siebdruckwerkstatt ein. \nDie offene Siebdruckwerkstatt öffnet einmal im Monat von 15:00 bis 18:00 Uhr ihre Türen. Ihr habt die Möglichkeit vorbeizukommen\, Fragen zu stellen oder selbst Sachen zu bedrucken. Es gibt immer eine große Auswahl an Motiven und Druckträgern vor Ort. Auf Anfrage können auch individuelle Motive gedruckt werden – kontaktiert uns dazu bitte im Voraus. \nBitte beachtet\, dass im Juli und August keine offene Werkstatt stattfindet. Ihr könnt aber jederzeit einen Termin außerhalb der genannten Daten vereinbaren. \nÖffnungszeiten\n15.00 – 18.00 Uhr\n2. Etage // Bahnhofstraße 56 \nKontakt\nJulia Kaden\nMail: siebdruck@treibhaus-doebeln.de\nFon: +49 (0) 3431 / 60 52 978
URL:https://treibhaus-doebeln.de/event/offene-siebdruckwerkstatt-88/
LOCATION:2. OG Siebdruckwerkstatt\, Bahnhofstraße 56\, Döbeln\, Sachsen\, 04720\, Germany
CATEGORIES:Kunst,Kurs,Siebdruck
ATTACH;FMTTYPE=image/jpeg:https://treibhaus-doebeln.de/wp-content/uploads/2025/01/FB_HP-scaled.jpg
ORGANIZER;CN="Treibhaus e.V. D%C3%B6beln":MAILTO:info@treibhaus-doebeln.de
END:VEVENT
BEGIN:VEVENT
DTSTART;TZID=Europe/Berlin:20251219T190000
DTEND;TZID=Europe/Berlin:20251219T213000
DTSTAMP:20260422T124357
CREATED:20251006T125454Z
LAST-MODIFIED:20251006T125550Z
UID:17940-1766170800-1766179800@treibhaus-doebeln.de
SUMMARY:Jam Session
DESCRIPTION:Jam Session \nWir laden zur Jam Session ins Café Courage ein! Ob Profi oder Hobbymusiker*in\, musiziert und improvisiert gemeinsam auf unserer Bühne. Bringt eure Instrumente mit\, ölt eure Stimmen oder nutzt das\, was Ihr auf der Bühne findet. Wohin die musikalische Reise geht\, ist immer wieder eine Überraschung. \nWer nur zuhören mag und ein Getränk an der Bar genießen möchte\, ist natürlich ebenso willkommen. \nWir freuen uns über Spenden zur Instandhaltung und Ersetzung von Instrumenten und Technik. \nEintritt frei. \n 
URL:https://treibhaus-doebeln.de/event/jam-session-18/
LOCATION:Sachsen
CATEGORIES:Musik
ATTACH;FMTTYPE=image/jpeg:https://treibhaus-doebeln.de/wp-content/uploads/2025/10/20220906-Jam-session.jpg
END:VEVENT
END:VCALENDAR