BEGIN:VCALENDAR
VERSION:2.0
PRODID:-//Treibhaus Döbeln - ECPv6.15.13//NONSGML v1.0//EN
CALSCALE:GREGORIAN
METHOD:PUBLISH
X-ORIGINAL-URL:https://treibhaus-doebeln.de
X-WR-CALDESC:Veranstaltungen für Treibhaus Döbeln
REFRESH-INTERVAL;VALUE=DURATION:PT1H
X-Robots-Tag:noindex
X-PUBLISHED-TTL:PT1H
BEGIN:VTIMEZONE
TZID:Europe/Berlin
BEGIN:DAYLIGHT
TZOFFSETFROM:+0100
TZOFFSETTO:+0200
TZNAME:CEST
DTSTART:20250330T010000
END:DAYLIGHT
BEGIN:STANDARD
TZOFFSETFROM:+0200
TZOFFSETTO:+0100
TZNAME:CET
DTSTART:20251026T010000
END:STANDARD
BEGIN:DAYLIGHT
TZOFFSETFROM:+0100
TZOFFSETTO:+0200
TZNAME:CEST
DTSTART:20260329T010000
END:DAYLIGHT
BEGIN:STANDARD
TZOFFSETFROM:+0200
TZOFFSETTO:+0100
TZNAME:CET
DTSTART:20261025T010000
END:STANDARD
BEGIN:DAYLIGHT
TZOFFSETFROM:+0100
TZOFFSETTO:+0200
TZNAME:CEST
DTSTART:20270328T010000
END:DAYLIGHT
BEGIN:STANDARD
TZOFFSETFROM:+0200
TZOFFSETTO:+0100
TZNAME:CET
DTSTART:20271031T010000
END:STANDARD
END:VTIMEZONE
BEGIN:VEVENT
DTSTART;VALUE=DATE:20261109
DTEND;VALUE=DATE:20261110
DTSTAMP:20260425T211924
CREATED:20260330T113409Z
LAST-MODIFIED:20260401T085930Z
UID:19052-1794182400-1794268799@treibhaus-doebeln.de
SUMMARY:Stolperstein-Mahnwachen anlässlich der Novemberpogrome in Döbeln\, Rosswein\, Hartha\, Leisnig und Waldheim
DESCRIPTION:In der Nacht vom 9. auf den 10. November 1938 brannten im gesamten Deutschen Reich unzählige Synagogen\, jüdische Geschäfte und Friedhöfe wurden zerstört\, Versammlungsräume\, Wohnungen und Gebetsräume geplündert. Die Pogromnacht war ein weiterer Höhepunkt beispielloser Verfolgung und Entrechtung von Jüdinnen und Juden. Nach dem Ende der NS-Diktatur waren auch in der Region Döbeln Jüdinnen und Juden ermordet und vertrieben. Heute gibt es nur noch wenige Spuren\, die Aufschluss über die ehemaligen jüdischen Bürgerinnen und Bürger in den Städten geben. An den Stolpersteinen\, welche in Döbeln\, Rosswein\, Hartha\, Leisnig und Waldheim an den Wohnorten ehemaliger Jüdinnen und Juden verlegt sind\, gedenken wir den Opfern des nationalsozialistischen Terrors. Wir wenden uns entschlossen gegen jede Form von Menschenfeindlichkeit\, Rassismus und Antisemitismus und rufen dazu auf\, für ein demokratisches Miteinander\, für Weltoffenheit und Zivilcourage einzutreten.
URL:https://treibhaus-doebeln.de/event/stolperstein-mahnwachen-anlaesslich-der-novemberpogrome-in-doebeln-rosswein-hartha-leisnig-und-waldheim/
CATEGORIES:Gedenkveranstaltung
ATTACH;FMTTYPE=image/png:https://treibhaus-doebeln.de/wp-content/uploads/2026/03/09.11.2026-Stolperstein-Mahnwachen-scaled.png
END:VEVENT
END:VCALENDAR