BEGIN:VCALENDAR
VERSION:2.0
PRODID:-//Treibhaus Döbeln - ECPv6.15.13//NONSGML v1.0//EN
CALSCALE:GREGORIAN
METHOD:PUBLISH
X-WR-CALNAME:Treibhaus Döbeln
X-ORIGINAL-URL:https://treibhaus-doebeln.de
X-WR-CALDESC:Veranstaltungen für Treibhaus Döbeln
REFRESH-INTERVAL;VALUE=DURATION:PT1H
X-Robots-Tag:noindex
X-PUBLISHED-TTL:PT1H
BEGIN:VTIMEZONE
TZID:Europe/Berlin
BEGIN:DAYLIGHT
TZOFFSETFROM:+0100
TZOFFSETTO:+0200
TZNAME:CEST
DTSTART:20240331T010000
END:DAYLIGHT
BEGIN:STANDARD
TZOFFSETFROM:+0200
TZOFFSETTO:+0100
TZNAME:CET
DTSTART:20241027T010000
END:STANDARD
BEGIN:DAYLIGHT
TZOFFSETFROM:+0100
TZOFFSETTO:+0200
TZNAME:CEST
DTSTART:20250330T010000
END:DAYLIGHT
BEGIN:STANDARD
TZOFFSETFROM:+0200
TZOFFSETTO:+0100
TZNAME:CET
DTSTART:20251026T010000
END:STANDARD
BEGIN:DAYLIGHT
TZOFFSETFROM:+0100
TZOFFSETTO:+0200
TZNAME:CEST
DTSTART:20260329T010000
END:DAYLIGHT
BEGIN:STANDARD
TZOFFSETFROM:+0200
TZOFFSETTO:+0100
TZNAME:CET
DTSTART:20261025T010000
END:STANDARD
END:VTIMEZONE
BEGIN:VEVENT
DTSTART;TZID=Europe/Berlin:20250320T180000
DTEND;TZID=Europe/Berlin:20250320T200000
DTSTAMP:20260425T232016
CREATED:20250227T093153Z
LAST-MODIFIED:20250227T093153Z
UID:17083-1742493600-1742500800@treibhaus-doebeln.de
SUMMARY:Vortrag: Warum Demokratie manchmal so schwerfällt - Ein Abend über Pluralismus\, Steinzeitgehirne und das digitale Zeitalter
DESCRIPTION:Demokratie lebt vom Wettstreit der Ideen. Damit dieser Wettbewerb fair und friedlich bleibt\, braucht es Spielregeln\, über die sich alle einig sind. Diese Einigkeit scheint derzeit unter Druck zu geraten. Viele haben die digitalen Medien als Ursache im Verdacht. Schließlich können wir uns über soziale Medien unsere ganz eigene Mediendiät zusammenstellen. Im Ergebnis scheinen verschiedene Teile der Gesellschaft inzwischen manchmal in unterschiedlichen Realitäten zu leben. Aber nicht nur die Technik befeuert diese Dynamik\, sondern auch unser Gehirn selbst. Es wurde über hunderttausende von Jahren geformt\, während der wir Menschen die meiste Zeit in kleinen Jäger-und-Sammler-Gesellschaften gelebt haben. Menschen sind also schon biologisch nicht optimal daran angepasst\, sich in solchen komplexen technischen und politischen Verhältnissen zurechtzufinden. Stattdessen neigen wir dazu\, fest an die Erzählungen unseres eigenen „Stammes“ zu glauben und gemeinsam entschlossen gegen jene vorzugehen\, die die Welt anders sehen als wir. Die Demokratie ist also eine echte Zumutung für das menschliche Gehirn – erst recht im digitalen Zeitalter. Wie kann fairer und friedlicher Ideenwettstreit trotzdem auf Dauer gelingen? Welche gemeinsamen Spielregeln brauchen wir dafür? Und was können wir selbst tun\, um unsere Steinzeit-Gehirne für die pluralistische Demokratie fit zu machen? \nDer Sozialwissenschaftler Dr. Christoph Meißelbach möchte in dieser Vortrags- und Diskussionsveranstaltung über diese Fragen mit Ihnen ins Gespräch kommen. Er studierte und promovierte am Institut für Politikwissenschaft der Technischen Universität Dresden. Seit 2020 ist er der Wissenschaftliche Koordinator am Sächsischen Institut für Polizei- und Sicherheitsforschung (SIPS)\, im letzten Lahr vertrat er die Professur für gesellschaftspolitische Bildung an der Hochschule der Sächsischen Polizei (FH). In seiner Doktorarbeit mit dem Titel „Die Evolution der Kooperation“ hat Dr. Meißelbach die evolutionären und psychologischen Grundlagen von menschlichem Zusammenhalt und politischer Ordnung untersucht. \nDies ist eine Veranstaltung aus dem Programm “Kontrovers vor Ort” der Sächsischen Landeszentrale für politische Bildung (SLpB). \n⏰ Zeit\n20. März\nBeginn: 18:00 Uhr\nEnde: 20:00 Uhr \n🏡 Ort\nStadtbibliothek Riesa\nPoppitzer Platz 3\n01589 Riesa \n📝 Anmeldung\nEs ist keine Anmeldung erforderlich! \n \n📯 Ansprechpersonen\nJohannes Fischer & Johannes Gersten\nMail: spektrum3000@treibhaus-doebeln.de\nWhatsApp & Telegram: +49 (0) 1575 / 0888 948\nFon: +49 (0) 3431 / 67 87 403 \nWir sind im Raum Döbeln\, Riesa und Oschatz für Sie unterwegs und wollen vor Ort mit unseren Angeboten die Medienkompetenz in Mittelsachsen stärken. Zu diesem Zweck bieten wir eine breite Auswahl an Veranstaltungen\, aus der Sie sich\, die für Sie passende\, auswählen können. Von Workshops & Kursen\, über Beratungsangebote\, bis hin zu Vorträgen können wir alles realisieren\, was Sie sich wünschen. Schauen Sie gern auf unsere Projektseite\, auch neue und individuelle Ideen können wir mit Ihnen angehen. \nDas Projekt Spektrum3000 wird von der Sächsischen Landesanstalt für privaten Rundfunk und neue Medien gefördert. In Kooperation mit der Stadtbibliothek Riesa und der Sächsischen Landeszentrale für politische Bildung.
URL:https://treibhaus-doebeln.de/event/vortrag-warum-demokratie-manchmal-so-schwerfaellt-ein-abend-ueber-pluralismus-steinzeitgehirne-und-das-digitale-zeitalter/
LOCATION:Stadtbibliothek Riesa\, Poppitzer Platz 3\, Riesa\, Sachsen\, 01589\, Deutschland
CATEGORIES:Diskussion,Vortrag
ATTACH;FMTTYPE=image/jpeg:https://treibhaus-doebeln.de/wp-content/uploads/2025/02/2508-Bild-Warum-Demokratie-so-schwerfaellt.jpg
END:VEVENT
END:VCALENDAR