BEGIN:VCALENDAR
VERSION:2.0
PRODID:-//Treibhaus Döbeln - ECPv6.15.13//NONSGML v1.0//EN
CALSCALE:GREGORIAN
METHOD:PUBLISH
X-ORIGINAL-URL:https://treibhaus-doebeln.de
X-WR-CALDESC:Veranstaltungen für Treibhaus Döbeln
REFRESH-INTERVAL;VALUE=DURATION:PT1H
X-Robots-Tag:noindex
X-PUBLISHED-TTL:PT1H
BEGIN:VTIMEZONE
TZID:Europe/Berlin
BEGIN:DAYLIGHT
TZOFFSETFROM:+0100
TZOFFSETTO:+0200
TZNAME:CEST
DTSTART:20220327T010000
END:DAYLIGHT
BEGIN:STANDARD
TZOFFSETFROM:+0200
TZOFFSETTO:+0100
TZNAME:CET
DTSTART:20221030T010000
END:STANDARD
BEGIN:DAYLIGHT
TZOFFSETFROM:+0100
TZOFFSETTO:+0200
TZNAME:CEST
DTSTART:20230326T010000
END:DAYLIGHT
BEGIN:STANDARD
TZOFFSETFROM:+0200
TZOFFSETTO:+0100
TZNAME:CET
DTSTART:20231029T010000
END:STANDARD
BEGIN:DAYLIGHT
TZOFFSETFROM:+0100
TZOFFSETTO:+0200
TZNAME:CEST
DTSTART:20240331T010000
END:DAYLIGHT
BEGIN:STANDARD
TZOFFSETFROM:+0200
TZOFFSETTO:+0100
TZNAME:CET
DTSTART:20241027T010000
END:STANDARD
BEGIN:DAYLIGHT
TZOFFSETFROM:+0100
TZOFFSETTO:+0200
TZNAME:CEST
DTSTART:20250330T010000
END:DAYLIGHT
BEGIN:STANDARD
TZOFFSETFROM:+0200
TZOFFSETTO:+0100
TZNAME:CET
DTSTART:20251026T010000
END:STANDARD
BEGIN:DAYLIGHT
TZOFFSETFROM:+0100
TZOFFSETTO:+0200
TZNAME:CEST
DTSTART:20260329T010000
END:DAYLIGHT
BEGIN:STANDARD
TZOFFSETFROM:+0200
TZOFFSETTO:+0100
TZNAME:CET
DTSTART:20261025T010000
END:STANDARD
END:VTIMEZONE
BEGIN:VEVENT
DTSTART;TZID=Europe/Berlin:20250404T200000
DTEND;TZID=Europe/Berlin:20250404T220000
DTSTAMP:20260421T115548
CREATED:20250206T143827Z
LAST-MODIFIED:20250218T145906Z
UID:16994-1743796800-1743804000@treibhaus-doebeln.de
SUMMARY:Morgan Finlay (Singer-Songwriter aus Vancouver)
DESCRIPTION:Federleicht und optimistisch\, so nimmt man seine Songs wahr. Stilistisch bewegt sich Morgan Finlay durch ein großes Spektrum von Indie-Rock über Pop\, Folk und akustischen Singer-Songwriter-Stil mit Grunge-Einflüssen. Musikalische Verbindungen zu Jeff Buckley\, Damien Rice\, Bruce Cockburn oder Bryan Adams scheinen naheliegend. Jedoch besticht Morgan Finlay durch seinen ganz eigenen Stil und den unverkennbaren Einfluss seiner irischen Wurzeln. Seit über 20 Jahren begeistert er\, auf mehr als 1200 Bühnen in 13 verschiedenen Ländern\, sein Publikum. \nDer Weltenbummler begann seine Karriere in Toronto\, wo er bereits 2002 seinen Durchbruch in der Independent-Szene feierte. Mit der Single „zensong“ wurde er erstmals international wahrgenommen. Sie war die Initialzündung für eine akustische\nTour durch Deutschland und Österreich\, die zu einem großen Erfolg wurde. Mit jeder weiteren Tournee wuchs seine Fangemeinde in Europa. \nAb 2011 finanzierte der Indie-Musiker seine Alben durch Crowdfunding-Kampagnen. Der moderne\, logisch nächste Schritt für unabhängig arbeitende Künstler*innen\, war nun ein eigener Patreon-Kanal. Gleich acht Alben\, zwei EPs und zwei Singles konnte\nFinlay so\, unabhängig von Plattenfirmen\, veröffentlichen und seine Fans direkt in den kreativen Prozess einbeziehen. Alben und Tourneen sind für ihn ein Gemeinschaftsprojekt – mit Begeisterung lässt er sie für die Songs auf der Trackliste voten\, spielt als Dankeschön Wohnzimmerkonzerte oder schreibt individuelle Songs zu einem Herzensthema. \nAm 30. Juli 2021 veröffentlichte er sein aktuelles Album “Shots of Light“\, sowie vier Musikvideos\, ein weiteres Mal mit Hilfe seiner Fans.\nGemeinschaft ist außerdem wesentlich in seinem sozialen Engagement. Seit 2016 pflegt Morgan Finlay eine Freundschaft mit dem Lebenshilfe e.V.. Für die Menschen mit Beeinträchtigungen schrieb er einen persönlichen Song: „Das Herz in mir“ ist fester Bestandteil einer Tour\, die ihn jedes zweite Jahr im Juni durch die Lebenshilfen in ganz Deutschland führt. \nEintritt 5-10 Euro.
URL:https://treibhaus-doebeln.de/event/morgan-finlay-singer-songwriter-aus-vancouver/
LOCATION:Café Courage\, Bahnhofstraße 56\, Döbeln\, Sachsen\, 04720\, Deutschland
CATEGORIES:Konzert,Musik
ATTACH;FMTTYPE=image/jpeg:https://treibhaus-doebeln.de/wp-content/uploads/2025/02/copyright_Martin-Pohl-Ney360-scaled.jpg
ORGANIZER;CN="Treibhaus e.V. D%C3%B6beln":MAILTO:info@treibhaus-doebeln.de
END:VEVENT
BEGIN:VEVENT
DTSTART;TZID=Europe/Berlin:20241207T200000
DTEND;TZID=Europe/Berlin:20241207T220000
DTSTAMP:20260421T115548
CREATED:20241010T123557Z
LAST-MODIFIED:20241010T123557Z
UID:16202-1733601600-1733608800@treibhaus-doebeln.de
SUMMARY:Konzert für alle: Aloú String Quartet
DESCRIPTION:Das Alou String Quartet taucht in die Klangwelt des Jazz\, Groove und der Improvisation ein und webt facettenreiche Elemente in die Textur der klassischen Streichquartettbesetzung – à la Turtle Island String Quartet. \n  \nDie vier MusikerInnen\, Myrsini Bekakou (Violine)\, Alma Gröning (Violine)\, Yagmur Atagür (Viola) und Esther Thoben (Violoncello)\, die sich während ihres Studiums an den Musikhochschulen Leipzig und Hamburg kennenlernten\, bringen eine beeindruckende Kombination aus musikalischem Zusammenspiel und persönlicher Verbundenheit auf die Bühne. \nIn den modernen Arrangements und Eigenkompositionen spiegelt sich eine Vielseitigkeit wieder\, die sich aus den vier Lebenswegen und der Begeisterung für die verschiedenen Musikstile heraus entwickelt. \nDas Quartett lädt das Publikum dazu ein\, in eine Welt voll reicher Akkorde\, dynamischer Rhythmen und tiefer Improvisationen einzutauchen.
URL:https://treibhaus-doebeln.de/event/konzert-fuer-alle-alou-string-quartet/
LOCATION:Café Courage\, Bahnhofstraße 56\, Döbeln\, Sachsen\, 04720\, Deutschland
CATEGORIES:Konzert,Musik
ATTACH;FMTTYPE=image/jpeg:https://treibhaus-doebeln.de/wp-content/uploads/2024/10/DSC9506-scaled.jpeg
ORGANIZER;CN="Treibhaus e.V. D%C3%B6beln":MAILTO:info@treibhaus-doebeln.de
END:VEVENT
BEGIN:VEVENT
DTSTART;TZID=Europe/Berlin:20241207T160000
DTEND;TZID=Europe/Berlin:20241207T170000
DTSTAMP:20260421T115548
CREATED:20241010T123128Z
LAST-MODIFIED:20241014T145032Z
UID:16199-1733587200-1733590800@treibhaus-doebeln.de
SUMMARY:Konzert für Kids (4-10 Jahre): Aloú String Quartet
DESCRIPTION:Das Alou String Quartet präsentiert populäre Musik auf Streichinstrumenten! Kinder im Alter von 4 bis 10 Jahren erwartet ein abwechslungsreiches Konzert mit einem bunten Programm – von Kinderliedern bis hin zu Jazzstandards – perfekt zum Mitsingen\, Mitmachen und Mittanzen! \n  \nDas Quartett verbindet die klassische Streichbesetzung mit Elementen aus Pop\, Groove und Jazz und setzt dabei auf viel Improvisation. Freut euch auf eine spannende Mischung aus Konzertatmosphäre\, Bewegung und interaktiven Elementen. Natürlich sind auch die Eltern herzlich eingeladen\, mit dabei zu sein. \n  \nErlebt einen inspirierenden musikalischen Nachmittag voller Klang und Freude!
URL:https://treibhaus-doebeln.de/event/konzert-fuer-kids-4-8-jahre-alou-string-quartet/
LOCATION:Café Courage\, Bahnhofstraße 56\, Döbeln\, Sachsen\, 04720\, Deutschland
CATEGORIES:Konzert,Musik
ATTACH;FMTTYPE=image/jpeg:https://treibhaus-doebeln.de/wp-content/uploads/2024/10/DSC9506-scaled.jpeg
ORGANIZER;CN="Treibhaus e.V. D%C3%B6beln":MAILTO:info@treibhaus-doebeln.de
END:VEVENT
BEGIN:VEVENT
DTSTART;TZID=Europe/Berlin:20241116T200000
DTEND;TZID=Europe/Berlin:20241116T223000
DTSTAMP:20260421T115548
CREATED:20241010T104721Z
LAST-MODIFIED:20241021T083139Z
UID:16186-1731787200-1731796200@treibhaus-doebeln.de
SUMMARY:Konzert: Batiar Gang
DESCRIPTION:Der quietschende und rumpelnde Batiar-Nachtexpress schiebt sich auf den Gleisen aus Leipzig heran. Darin: Die BATIAR GANG! \nBalkaneske Klänge dringen aus den Gängen der Schlafwagen – aber schlafen wird hier niemand! \nDie Batiar Gang – das ist ein unverkennbares Kollektiv aus klirrendem Gebläse aus Trompeten\, Saxophonen und Klarinette\, ein artistisches Akkordeon\, einem scheppernden Schlagzeug\, einer gespickten Gitarre\, funzigem Bass und dazu unverkennbaren Gesängen Süd-Osteuropas. Die Menge darf tanzen und schwitzen zu heiß geliebten Traditionals und zu einem selbstgebrauten\, unverkennbaren Borschtsch aus Liedern aus der Bandgeschichte seit 2014\, entstanden unterwegs in Serbien\, Bosnien\, Mazedonien\, Bulgarien\, Rumänien und der Ukraine oder mit Fernweh im heimischen Proberaum. \nHajde! – aufgesprungen! Der Zug rollt wieder an… \nDoors: 19.30 Uhr \nBeginn: 20.00 Uhr \nEintritt: 5-10 Euro \n  \n 
URL:https://treibhaus-doebeln.de/event/konzert-batiar-gang/
LOCATION:Café Courage\, Bahnhofstraße 56\, Döbeln\, Sachsen\, 04720\, Deutschland
CATEGORIES:Konzert,Musik
ATTACH;FMTTYPE=image/jpeg:https://treibhaus-doebeln.de/wp-content/uploads/2024/10/Batiar-Gang-3-Photo-Sebastian-Brauer.jpg
ORGANIZER;CN="Treibhaus e.V. D%C3%B6beln":MAILTO:info@treibhaus-doebeln.de
END:VEVENT
BEGIN:VEVENT
DTSTART;TZID=Europe/Berlin:20240202T193000
DTEND;TZID=Europe/Berlin:20240202T220000
DTSTAMP:20260421T115548
CREATED:20231207T121101Z
LAST-MODIFIED:20240131T121250Z
UID:14915-1706902200-1706911200@treibhaus-doebeln.de
SUMMARY:KONZERT: Morgan Finlay
DESCRIPTION:Konzert mit Morgan Finlay\nFederleicht und optimistisch\, so nimmt man seine Songs wahr. Stilistisch bewegt sich Morgan Finlay durch ein großes Spektrum von Indie-Rock über Pop\, Folk und akustischen Singer-Songwriter-Stil mit Grunge-Einflüssen. Musikalische Verbindungen zu Jeff Buckley\, Damien Rice\, Bruce Cockburn oder Bryan Adams scheinen naheliegend. Jedoch besticht Morgan Finlay durch seinen ganz eigenen Stil und den unverkennbaren Einfluss seiner irischen Wurzeln. \nSeit über 20 Jahren begeistert er\, auf mehr als 1200 Bühnen in 13 verschiedenen Ländern\, sein Publikum. Der Weltenbummler begann seine Karriere in Toronto\, wo er bereits 2002 seinen Durchbruch in der Independent-Szene feierte. Mit der Single „zensong“ wurde er erstmals international wahrgenommen. Sie war die Initialzündung für eine akustische Tour durch Deutschland und Österreich\, die zu einem großen Erfolg wurde. Mit jeder weiteren Tournee wuchs seine Fangemeinde in Europa. Ab 2011 finanzierte der Indie-Musiker seine Alben durch Crowdfunding-Kampagnen. Der moderne\, logisch nächste Schritt für unabhängig arbeitende Künstler*innen\, war nun ein eigener Patreon-Kanal. Gleich acht Alben\, zwei EPs und zwei Singles konnte Finlay so\, unabhängig von Plattenfirmen\, veröffentlichen und seine Fans direkt in den kreativen Prozess einbeziehen. \nAlben und Tourneen sind für ihn ein Gemeinschaftsprojekt – mit Begeisterung lässt er sie für die Songs auf der Trackliste voten\, spielt als Dankeschön Wohnzimmerkonzerte oder schreibt individuelle Songs zu einem Herzensthema. Am 30. Juli 2021 veröffentlichte er sein aktuelles Album “Shots of Light“\, sowie vier Musikvideos\, ein weiteres Mal mit Hilfe seiner Fans. Gemeinschaft ist außerdem wesentlich in seinem sozialen Engagement. \nSeit 2016 pflegt Morgan Finlay eine Freundschaft mit dem Lebenshilfe e.V.. Für die Menschen mit Beeinträchtigungen schrieb er einen persönlichen Song: „Das Herz in mir“ ist fester Bestandteil einer Tour\, die ihn jedes zweite Jahr im Juni durch die Lebenshilfen in ganz Deutschland führt. Die letzte Lebenshilfe-Tour in 2023 wurde von einem Dokumentar-Filmer begleitet. Der Film dazu erscheint im Oktober des Jahres. Zusätzlich zu diesem Film hat Morgan Finlay mit gleich zwei neuen Singles und passenden Videos in der zweiten Jahreshälfte 2023 noch einiges vor. Das neue Live-Album “Rebel County Sessions” ist für das Frühjahr 2024 mit dazugehörigen Videos geplant. \nEinlass: 19.30 Uhr\nBeginn: 20.00 Uhr\nEintritt: 5 bis 10 Euro
URL:https://treibhaus-doebeln.de/event/konzert-morgan-finlay/
LOCATION:Café Courage\, Bahnhofstraße 56\, Döbeln\, Sachsen\, 04720\, Deutschland
CATEGORIES:Konzert,Musik
ATTACH;FMTTYPE=image/jpeg:https://treibhaus-doebeln.de/wp-content/uploads/2023/12/20240202_Morgan_Finlay_Header-scaled.jpg
ORGANIZER;CN="Treibhaus e.V. D%C3%B6beln":MAILTO:info@treibhaus-doebeln.de
END:VEVENT
BEGIN:VEVENT
DTSTART;TZID=Europe/Berlin:20231201T193000
DTEND;TZID=Europe/Berlin:20231201T220000
DTSTAMP:20260421T115548
CREATED:20231005T085608Z
LAST-MODIFIED:20231005T090008Z
UID:14762-1701459000-1701468000@treibhaus-doebeln.de
SUMMARY:Konzert mit Thea Klar & Band
DESCRIPTION:Augen zu\, Seele auf\, tiefen Texten und einer klaren Stimme lauschen – und es scheint\, als gäbe es Balsam für deine Wunden. \nTheas Musik schafft Klarheit\, so dass es weh tut\, legt den Finger in die Wunde und verbindet. Ihre Texte zeigen ihr Erlebtes und Beobachtetes: Genug von dem Geist unserer Zeit\, die versucht mit einem Pflaster eine Stichwunde zu heilen. Manchmal braucht es eben eine Operation. \nMit ihrer Stimme nimmt Thea Klar die Zuhörer*innen mal selbst begleitet mit Piano\, Drumpad und Loopstation\, mal im Duo mit E-Gitarrist*in\, mal mit kompletter Bandbesetzung mit in Gefühls- und Gedankenwelten. Dabei lässt sie sich von Singer/Songwriter*innen ebenso beeinflussen wie von Indierock und -pop Einflüssen. Inspiriert ist die Musik vom Glück und Unrecht dieser Welt\, von der Sehnsucht nach Versöhnung\, von der Freude am Unperfekten und Gebrochenen\, von der Wut über das vermeidbare Elend. Glasklar schaffen ihre vorwiegend deutschen Texte es\, Bilder von Erlebnissen zu malen\, die Thea darin verarbeitet: Der innere Kampf um Bewältigung in einer Zeit zwischen dem Zugzwang zu politischem Handeln und dem Unterlassen\, zwischen Aktivismus und Self-Care. \nDabei kommt ihre Stimme mal zart und flüsternd\, mal kämpferisch und stark daher. \nIhre zweite EP „Willkommen im Wartezimmer zu meiner Therapie“ erschien im Oktober 2022 unter dem Label “unserallereins” und erzählt von der Begegnung mit sich selbst zwischen Isolation und Verantwortung in dieser aufgewühlten Zeit. Thea verurteilt nicht\, doch sie benennt die Wunden\, die sie bei Menschen an ihren Grenzen und bei der Begegnung mit sich selbst erlebt hat. Mit ihrer neuen EP schuf sie eine Hymne ans Weitermachen\, an den Glauben\, dass sich der Plot noch dreht – eine Verneigung vor Menschen\, die sich noch immer auf die Straßen stellen und sich im Alltag positionieren gegen Schwurbelei und Menschenhass wie Rassismus oder Sexismus. \nSo klar ihre Stimme diese Geschichten erzählt\, so deutlich wird: In allem schlummert ein Funken Hoffnung. Ja\, es gibt Balsam für unsere Wunden. Songwriter-Indiepop mit Seele und Tiefgang. \nEinlass: 19.30 Uhr\nBeginn: 20.00 Uhr\nEintritt: 5 bis 10 Euro
URL:https://treibhaus-doebeln.de/event/konzert-mit-thea-klar-band/
LOCATION:Café Courage\, Bahnhofstraße 56\, Döbeln\, Sachsen\, 04720\, Deutschland
CATEGORIES:Konzert
ATTACH;FMTTYPE=image/jpeg:https://treibhaus-doebeln.de/wp-content/uploads/2023/10/Website_Slider_Thea_Klar-scaled.jpg
ORGANIZER;CN="Treibhaus e.V. D%C3%B6beln":MAILTO:info@treibhaus-doebeln.de
END:VEVENT
BEGIN:VEVENT
DTSTART;TZID=Europe/Berlin:20231118T193000
DTEND;TZID=Europe/Berlin:20231118T223000
DTSTAMP:20260421T115548
CREATED:20231005T082528Z
LAST-MODIFIED:20231005T082528Z
UID:14742-1700335800-1700346600@treibhaus-doebeln.de
SUMMARY:Konzert: 20 Jahre Strom & Wasser feat. Punkrocktresen
DESCRIPTION:20 Jahre Strom & Wasser – diese Band ist wie ein Feuerwerk! Ihr unvergleichlicher Mix aus Ska-Punk-Tango-Rock-Walzer-Jazz und Tingeltangel\, die witzige Show\, die politische Texte… Wenn Heinz Ratz erzählt\, kann man nicht weniger als einen Abenteuerroman erwarten. Was haben die Damen und Herren dieser Band nicht alles erlebt und bewirkt: nicht nur Tourneen in Schottland\, Albanien oder Island\, auch die spektakulären Aktionen seines moralischen Triathlons sind unvergessen\, in denen Heinz Ratz an drei aufeinander folgenden Jahren 1000 km für Wohnungslose durch Deutschland lief\, mehr als 850 km durch deutsche Flüsse für den Umweltschutz schwamm\, 7000 km im Winter mit dem Fahrrad für eine gerechtere Flüchtlingstour fuhr. Heute nun gibt es einen Querschnitt aus dem Programm und viele schillernde Anekdoten. Man darf sich auf einen unvergleichlichen Abend freuen! \nIm Anschluss könnt ihr mit der Crew vom Punkrocktresen an der Bar rumhängen und den Abend gemeinsam ausklingen lassen. \nEinlass: 19.30 Uhr\nBeginn: 20.00 Uhr\nEintritt: 5 bis 10 Euro
URL:https://treibhaus-doebeln.de/event/20-jahre-strom-wasser/
LOCATION:Café Courage\, Bahnhofstraße 56\, Döbeln\, Sachsen\, 04720\, Deutschland
CATEGORIES:Konzert
ATTACH;FMTTYPE=image/jpeg:https://treibhaus-doebeln.de/wp-content/uploads/2023/10/Website_Slider_SUW-scaled.jpg
ORGANIZER;CN="Treibhaus e.V. D%C3%B6beln":MAILTO:info@treibhaus-doebeln.de
END:VEVENT
BEGIN:VEVENT
DTSTART;TZID=Europe/Berlin:20230831T190000
DTEND;TZID=Europe/Berlin:20230831T230000
DTSTAMP:20260421T115548
CREATED:20230607T100015Z
LAST-MODIFIED:20230607T100120Z
UID:14188-1693508400-1693522800@treibhaus-doebeln.de
SUMMARY:TRAUTE FIEBRICH spielt: „KRA“ - Lieder aus Ambraport
DESCRIPTION:Ambraport\, eine kleine Stadt am Meer. Das Wasser ist schwarz und zieht manchmal Fäden. Der Hafen ist längst stillgelegt. Die Leute hier haben etwas Düsteres an sich in ihrer wortkargen vagen Art. Fahles Licht auf fahler Haut\, es nieselt. Kra kommt eines Abends an im Nebel und nimmt sich das Zimmer überm Wirtshaus. Dort arbeitet Ester. Poly ist Esters Schwester\, ihr Kind A misst täglich das Wasser. Das steigt\, aber was soll man da machen. Kra spricht nicht\, eckt aber trotzdem an. Zumindest ändert sich das allgemeine Gefühl auf eine unwohle Art. Den meisten wäre es lieber\, Kra würde wieder gehen. \nTraute Fiebrich hat sechs Köpfe und trinkt den Kaffee meistens bunt. Wegen ihrer Liebe zum Storytelling ließe sich ihr ein gewisser tantenhafter Zug andichten\, dieser Zug wäre dann allerdings längst abgefahren. Als abgefahren wiederum lässt sich auch Trautes Musik bezeichnen\, die sich irgendwo zwischen Folk und Alternative Chanson ihr eigenes Spektrum spannt\, in dem von Rap über Balladen bis zu fünfstimmigen Chorälen alles möglich zu sein scheint. Ihre Lieder erzählen die Geschichte aus Ambraport\, einer halb verlassenen Hafenstadt\, wo sich die Leute schon seit Langem so eingerichtet haben\, wie es jetzt ist. Dann taucht eines Abends Kra dort auf\, wodurch ein Stein nach dem anderen ins Rollen gerät. \nGesine Beiküfner: vocals\, songwriting / David Bircher: bass\, synth / Benjamin Graf: keys\, vocals\, kofferharmonium / Paula Hsu: bratsche / Dominik Läuchli: drums / Meret Schmid: vocals\, akkordeon \nEintritt: 7 – 10 Euro\nEinlass: 19.00 Uhr\nBeginn: 19.30 Uhr
URL:https://treibhaus-doebeln.de/event/traute-fiebrich-spielt-kra-lieder-aus-ambraport/
LOCATION:Café Courage\, Bahnhofstraße 56\, Döbeln\, Sachsen\, 04720\, Deutschland
CATEGORIES:Konzert,Musik
ATTACH;FMTTYPE=image/jpeg:https://treibhaus-doebeln.de/wp-content/uploads/2023/06/Traute_Friebrich_HEADER-scaled.jpg
ORGANIZER;CN="Treibhaus e.V. D%C3%B6beln":MAILTO:info@treibhaus-doebeln.de
END:VEVENT
BEGIN:VEVENT
DTSTART;TZID=Europe/Berlin:20230715T190000
DTEND;TZID=Europe/Berlin:20230715T230000
DTSTAMP:20260421T115548
CREATED:20230609T105042Z
LAST-MODIFIED:20230609T105831Z
UID:14207-1689447600-1689462000@treibhaus-doebeln.de
SUMMARY:Konzert mit Mattis Asmussen & Thatcher
DESCRIPTION:Thatcher aus Leipzig machen Post-Punk der\, ohne sich in politisches Parolengedresche zu ergeben\, Entfremdung von und Unverständnis für den gesellschaftlichen Zeitgeist zum Ausdruck bringt – verpackt in introspektive\, persönliche Texte\, die eher in sich abgeschlossene sprachliche Bilder malen\, als Konkretes auszudrücken. \nIhr Sound\, getragen von Drums\, Gitarren\, Bass und gelegentlichen Synthie-Akzenten\, und die Lyrics vereinen Einflüsse von Die Nerven über Ton Steine Scherben bis hin zu Fontaines D.C.\, und springen immer wieder hin und her zwischen Phasen von An- und Entspannung\, zwischen brachialen Breaks und getrageneren Passagen- und bringen so das zugrundeliegende Gefühl der Zerrissenheit aus den Texten auf die Bühne. \nAls zweiten Act präsentieren wir euch Mattis Asmussen. Über seine Musik sagt er: „Es ist ein bisschen Beatboxing\, es ist ein bisschen Gesang. Mit Looping. Und einem Hauch von Trance.“ \nEintritt: 7–10 Euro\nEinlass: 19.00 Uhr\nBeginn: 19.30 Uhr \nFoto Thatcher: Katharina Scheiter
URL:https://treibhaus-doebeln.de/event/konzert-mit-mattis-asmussen-thatcher/
LOCATION:Café Courage\, Bahnhofstraße 56\, Döbeln\, Sachsen\, 04720\, Deutschland
CATEGORIES:Konzert
ATTACH;FMTTYPE=image/jpeg:https://treibhaus-doebeln.de/wp-content/uploads/2023/06/Mattis_Thatcher_HEADER-scaled.jpg
ORGANIZER;CN="Treibhaus e.V. D%C3%B6beln":MAILTO:info@treibhaus-doebeln.de
END:VEVENT
BEGIN:VEVENT
DTSTART;TZID=Europe/Berlin:20230325T190000
DTEND;TZID=Europe/Berlin:20230325T220000
DTSTAMP:20260421T115548
CREATED:20230223T091317Z
LAST-MODIFIED:20230223T091317Z
UID:13718-1679770800-1679781600@treibhaus-doebeln.de
SUMMARY:Konzert des Sama Ensembles: Flug nach Persien
DESCRIPTION:FLUG NACH PERSIEN \nEIN KONZERTABEND MIT DEM SAMA ENSEMBLE – NACHHOLTERMIN \nAm 25. März 2023 holen wir das Konzert des SAMA Ensembles im Café Courage nach. Der Name der Gruppe bedeutet „mystischer Tanz“ und sie existierte in anderer Besetzung unter der Leitung von Ali Pirabi bereits von 1994 bis 2013 im Iran. Sie war dort eine feste Größe in der persischen klassischen Musik. Mit neuen Kolleg*innen erweckte Ali Pirabi die Formation 2014 wieder zum Leben. \nDer Iran setzt sich aus verschiedenen Kulturen zusammen\, von denen jede ihre eigene Musik und Kunst und in manchen Gegenden sogar ihre eigene Sprache hat. Das Ensemble versucht\, diese Musik in einem vielfältigen Programm zu präsentieren. Zum aktuellen Ensemble gehören Sahar Momenzadeh (Santur)\, Mehran Asgharzadeh (Daf und Tombak)\, Shafagh Aghaei (Gesang) und Ali Pirabi (Santur\, Kamancheh\, Oud und Tanbur). Seit der islamischen Revolution gilt im Iran ein striktes Gesangsverbot für Frauen\, sodass sie in der Öffentlichkeit nicht allein singen dürfen. Das Ensemble möchte dem entgegenwirken und bietet den drei iranischen Musikerinnen die Gelegenheit\, in Deutschland aufzutreten. \nEinlass 18.30 Uhr\nBeginn 19.00 Uhr \nDer Eintritt ist frei. Spenden sind herzlich willkommen. \nDiese Veranstaltung wird gefördert von Land in Sicht e.V.
URL:https://treibhaus-doebeln.de/event/prisma-konzert-flug-nach-persien-2/
LOCATION:Café Courage\, Bahnhofstraße 56\, Döbeln\, Sachsen\, 04720\, Deutschland
CATEGORIES:Konzert,Musik
ATTACH;FMTTYPE=image/jpeg:https://treibhaus-doebeln.de/wp-content/uploads/2022/08/20220930-SAMA-Ensemble_Header-scaled.jpg
ORGANIZER;CN="Treibhaus e.V. D%C3%B6beln":MAILTO:info@treibhaus-doebeln.de
END:VEVENT
BEGIN:VEVENT
DTSTART;TZID=Europe/Berlin:20230217T200000
DTEND;TZID=Europe/Berlin:20230217T220000
DTSTAMP:20260421T115548
CREATED:20221219T162447Z
LAST-MODIFIED:20230125T110430Z
UID:13231-1676664000-1676671200@treibhaus-doebeln.de
SUMMARY:Konzert: She just_Left
DESCRIPTION:Pizzicato\, Noise\, Rap und Melancholie\, Ernst und Verspieltheit\, Space und Präzision. Future?“\nDie FLINTA*-Band „She just_left“ kommt tatsächlich nach Döbeln und bespielt unser Café Courage. Ihre Musik bewegt sich zwischen HipHop\, Jazz\, NeoSoul\, Ambient und freier Improvisation und nimmt durch Stimme\, Geige\, Loopstation\, Synthesizer\, Electronix\, Bass und Schlagzeug Gestalt an. In ihrer Selbstbeschreibung heißt es: \n„Der Widerstand gegen die Erwartungen anderer bekommt durch Stimme\, Violine\, Bass und Schlagzeug einen Raum. Pizzicato\, Noise\, Rap und Melancholie\, Ernst und Verspieltheit\, Space und Präzision. Future?“ \nDie vier Musiker*innen Pauline Tschirschwitz (vocals\, synthesizer\, fx)\, Myrsini Bekakou (violin\, loopstation\, fx)\, Leonie Sobek (drums\, percussion) Paula Wünsch (bass\, fx) lernten sich in der Jazzabteilung der HMT Leipzig kennen und gründeten „She just Left“ im Herbst 2019. \nEinlass: 19.30 Uhr\nBeginn: 20.00 Uhr\nEintritt: 5 – 8 € \nErscheint zahlreich und lauscht! \nhttps://www.youtube.com/watch?v=T4v3WN0Xglg
URL:https://treibhaus-doebeln.de/event/konzert-she-just_left/
LOCATION:Café Courage\, Bahnhofstraße 56\, Döbeln\, Sachsen\, 04720\, Deutschland
CATEGORIES:Konzert,Musik
ATTACH;FMTTYPE=image/jpeg:https://treibhaus-doebeln.de/wp-content/uploads/2022/12/20230217-She_Just_Left_Header-Website.jpg
ORGANIZER;CN="Treibhaus e.V. D%C3%B6beln":MAILTO:info@treibhaus-doebeln.de
END:VEVENT
END:VCALENDAR