BEGIN:VCALENDAR
VERSION:2.0
PRODID:-//Treibhaus Döbeln - ECPv6.15.13//NONSGML v1.0//EN
CALSCALE:GREGORIAN
METHOD:PUBLISH
X-ORIGINAL-URL:https://treibhaus-doebeln.de
X-WR-CALDESC:Veranstaltungen für Treibhaus Döbeln
REFRESH-INTERVAL;VALUE=DURATION:PT1H
X-Robots-Tag:noindex
X-PUBLISHED-TTL:PT1H
BEGIN:VTIMEZONE
TZID:Europe/Berlin
BEGIN:DAYLIGHT
TZOFFSETFROM:+0100
TZOFFSETTO:+0200
TZNAME:CEST
DTSTART:20240331T010000
END:DAYLIGHT
BEGIN:STANDARD
TZOFFSETFROM:+0200
TZOFFSETTO:+0100
TZNAME:CET
DTSTART:20241027T010000
END:STANDARD
BEGIN:DAYLIGHT
TZOFFSETFROM:+0100
TZOFFSETTO:+0200
TZNAME:CEST
DTSTART:20250330T010000
END:DAYLIGHT
BEGIN:STANDARD
TZOFFSETFROM:+0200
TZOFFSETTO:+0100
TZNAME:CET
DTSTART:20251026T010000
END:STANDARD
BEGIN:DAYLIGHT
TZOFFSETFROM:+0100
TZOFFSETTO:+0200
TZNAME:CEST
DTSTART:20260329T010000
END:DAYLIGHT
BEGIN:STANDARD
TZOFFSETFROM:+0200
TZOFFSETTO:+0100
TZNAME:CET
DTSTART:20261025T010000
END:STANDARD
END:VTIMEZONE
BEGIN:VEVENT
DTSTART;TZID=Europe/Berlin:20250906T120000
DTEND;TZID=Europe/Berlin:20250906T200000
DTSTAMP:20260423T222937
CREATED:20250811T071814Z
LAST-MODIFIED:20250812T065635Z
UID:17712-1757160000-1757188800@treibhaus-doebeln.de
SUMMARY:Skatecontest Roßwein
DESCRIPTION:Der 1. Skatecontest in Roßwein wird am 06. September 2025 im Veit Lindner Skatepark stattfinden. \nDanke der großzügigen Unterstützung von Rico Soehnel und Henning Homann\, der Gerüstbau Gemeinhardt GmbH und den weiteren Sachspendern – Skateback Großenhain\, Schredderei Leipzig\, Beyond Collective\, Selectorz Großenhain\, Eiko Skate\, Skatedeluxe\, Quarter Distribution\, Inpeddo Skateboards\, BRONX Wheels und Über Skateboards – können 1.500 € Preisgeld und viele Sachspenden an die Gewinnerinnen verteilt werden. \nDer Contest wird in der Gruppe A\, für die gesponserten Starter\, in der Gruppe B für die nicht gesponserten Starter\, in der Gruppe C für die nicht gesponserten Starter bis 14 Jahre und in einer FLINTA* Gruppe ausgetragen. Zwei Runs in der Vorrunde und die besten Starter*innen messen sich dann nochmal in den Finals. Dabei gilt es\, die besten Tricks auf den verschiedenen Rampen zu zeigen. Angeheizt und bewertet wird durch die Skate Force Döbeln (SFD) mit lauter Musik und entsprechender Moderation. Anmeldungen werden vor Ort bis kurz vor Conteststart entgegengenommen. \nAblauf \n\nWICHTIG: Ab 12 Uhr könnt ihr euch für die einzelnen Gruppen anmelden.\n14 Uhr starten dann die Vorrunden der Gruppe C und der FLINTA* Gruppe\, falls es genügend Anmeldungen gibt.\nSpätestens gegen 15 Uhr starten die Vorrunden der Gruppen A und B.\nUm spätestens 19 Uhr soll die Siegerehrung die Gruppengewinner mit Geld- und Sachpreisen küren. Falls wir noch Sachpreise und Zeit haben\, dann gibt’s auch noch ein paar kurze Best Tricks.\n\nFür das musikalische Wohl sorgt DJ Nicki Minelli und für das leibliche Wohl wird das Team des Jugendhaus Roßwein sorgen. \nZeit \n06. September \nBeginn: 12:00 Uhr \nEnde: vrsl. 20 Uhr \nOrt \nStadtbadstraße 40 \n04741 Roßwein \nKontakt \nBei Fragen zum Contest meldet euch bitte bei: \nJugendhaus Roßwein e.V.\nMail: info@jugendhaus-rosswein.de\nFon: 034322 44671 \noder \nSkate Force Döbeln (SFD)\nMail: info@skateboarding-doebeln.de \noder \nMarie Krömer\nMail: marie_kroemer@treibhaus-doebeln.de\nFon: +49 (0) 3431 / 60 52 972\nMobil: +49 155 63529118 \n  \nDer Skatecontest wird durch das Jugendhaus Roßwein & die SFD des Treibhaus e.V. mit freundlicher Unterstützung von Urbanum Design und weiteren Sponsor*innen organisiert.
URL:https://treibhaus-doebeln.de/event/skatecontest-rosswein/
LOCATION:Veit Lindtner Skatepark\, Stadtbadstraße 40\, Roßwein\, Sachsen\, 04741\, Germany
CATEGORIES:Jugendbegegnung,Spiele,Sport
END:VEVENT
END:VCALENDAR