BEGIN:VCALENDAR
VERSION:2.0
PRODID:-//Treibhaus Döbeln - ECPv6.15.13//NONSGML v1.0//EN
CALSCALE:GREGORIAN
METHOD:PUBLISH
X-WR-CALNAME:Treibhaus Döbeln
X-ORIGINAL-URL:https://treibhaus-doebeln.de
X-WR-CALDESC:Veranstaltungen für Treibhaus Döbeln
REFRESH-INTERVAL;VALUE=DURATION:PT1H
X-Robots-Tag:noindex
X-PUBLISHED-TTL:PT1H
BEGIN:VTIMEZONE
TZID:Europe/Berlin
BEGIN:DAYLIGHT
TZOFFSETFROM:+0100
TZOFFSETTO:+0200
TZNAME:CEST
DTSTART:20240331T010000
END:DAYLIGHT
BEGIN:STANDARD
TZOFFSETFROM:+0200
TZOFFSETTO:+0100
TZNAME:CET
DTSTART:20241027T010000
END:STANDARD
BEGIN:DAYLIGHT
TZOFFSETFROM:+0100
TZOFFSETTO:+0200
TZNAME:CEST
DTSTART:20250330T010000
END:DAYLIGHT
BEGIN:STANDARD
TZOFFSETFROM:+0200
TZOFFSETTO:+0100
TZNAME:CET
DTSTART:20251026T010000
END:STANDARD
BEGIN:DAYLIGHT
TZOFFSETFROM:+0100
TZOFFSETTO:+0200
TZNAME:CEST
DTSTART:20260329T010000
END:DAYLIGHT
BEGIN:STANDARD
TZOFFSETFROM:+0200
TZOFFSETTO:+0100
TZNAME:CET
DTSTART:20261025T010000
END:STANDARD
END:VTIMEZONE
BEGIN:VEVENT
DTSTART;TZID=Europe/Berlin:20251203T190000
DTEND;TZID=Europe/Berlin:20251203T210000
DTSTAMP:20260424T143508
CREATED:20251006T115500Z
LAST-MODIFIED:20251203T093047Z
UID:17932-1764788400-1764795600@treibhaus-doebeln.de
SUMMARY:ABGESAGT Demokratie - geliebt und missverstanden
DESCRIPTION:Demokratie – geliebt und missverstanden \nDie Demokratie ist in der Krise – so scheint es. Geliebt als alternativlos\, missverstanden als “Ich bin das Volk”\, gefährdet durch nicht nur verbale Angriffe. \nDie letzten Wahljahre zeigten\, dass es vielerorts an Grundlagenwissen mangelt. Deshalb möchte die Volkshochschule über einige demokratische Grundbegriffe informieren:\nGewaltenteilung\, Föderalismus und Freiheitsrechte werden ebenso erläutert wie das Wahlsystem und Möglichkeiten der Bürgerbeteiligung auf kommunaler\, Landes- und Bundesebene. \nDemokratie lebt vom Mitmachen – auch außerhalb der Wahlen! Lassen Sie sich dazu einladen. \nWICHTIG: Eine Anmeldung bei der VHS Mittelsachsen ist für diese Veranstaltung erfoderlich. Siehe Link unten. \n  \nWANN: 3.12.2025 \nBEGINN: 19:00 Uhr \nWO: Café Courage \nEintritt frei \nAnmeldung hier: https://www.vhs-mittelsachsen.de/suche/kursdetails.html/A/course/P/26/I/590-C-52D10201/demokratie-geliebt-und-missverstanden \n 
URL:https://treibhaus-doebeln.de/event/demokratie-geliebt-und-missverstanden/
LOCATION:Café Courage\, Bahnhofstraße 56\, Döbeln\, Sachsen\, 04720\, Deutschland
CATEGORIES:Austausch,Diskussion,Gespräch
ORGANIZER;CN="VHS Mittelsachsen":MAILTO:vhs@vhs-mittelsachsen.de
END:VEVENT
END:VCALENDAR