BEGIN:VCALENDAR
VERSION:2.0
PRODID:-//Treibhaus Döbeln - ECPv6.15.13//NONSGML v1.0//EN
CALSCALE:GREGORIAN
METHOD:PUBLISH
X-WR-CALNAME:Treibhaus Döbeln
X-ORIGINAL-URL:https://treibhaus-doebeln.de
X-WR-CALDESC:Veranstaltungen für Treibhaus Döbeln
REFRESH-INTERVAL;VALUE=DURATION:PT1H
X-Robots-Tag:noindex
X-PUBLISHED-TTL:PT1H
BEGIN:VTIMEZONE
TZID:Europe/Berlin
BEGIN:DAYLIGHT
TZOFFSETFROM:+0100
TZOFFSETTO:+0200
TZNAME:CEST
DTSTART:20250330T010000
END:DAYLIGHT
BEGIN:STANDARD
TZOFFSETFROM:+0200
TZOFFSETTO:+0100
TZNAME:CET
DTSTART:20251026T010000
END:STANDARD
BEGIN:DAYLIGHT
TZOFFSETFROM:+0100
TZOFFSETTO:+0200
TZNAME:CEST
DTSTART:20260329T010000
END:DAYLIGHT
BEGIN:STANDARD
TZOFFSETFROM:+0200
TZOFFSETTO:+0100
TZNAME:CET
DTSTART:20261025T010000
END:STANDARD
BEGIN:DAYLIGHT
TZOFFSETFROM:+0100
TZOFFSETTO:+0200
TZNAME:CEST
DTSTART:20270328T010000
END:DAYLIGHT
BEGIN:STANDARD
TZOFFSETFROM:+0200
TZOFFSETTO:+0100
TZNAME:CET
DTSTART:20271031T010000
END:STANDARD
END:VTIMEZONE
BEGIN:VEVENT
DTSTART;TZID=Europe/Berlin:20261029T150000
DTEND;TZID=Europe/Berlin:20261029T170000
DTSTAMP:20260421T050255
CREATED:20260217T123506Z
LAST-MODIFIED:20260217T123506Z
UID:18911-1793286000-1793293200@treibhaus-doebeln.de
SUMMARY:Vortrag: Online-Banking und Bezahlen ohne Risiko
DESCRIPTION:Vortrag: Online-Banking und Bezahlen ohne Risiko\nWir laden Sie herzlich zu einem informativen Themennachmittag in die Stadtbibliothek Riesa ein. Lernen Sie in entspannter Atmosphäre\, wie Sie sicher und unkompliziert im Internet bezahlen und Online-Banking nutzen können. Wir diskutieren mit Ihnen gängigen Bezahlservices und sprechen darüber\, warum bekannten Onlinehändler wie Temu\, Alibaba und Amazon zwar bequemes Einkaufen versprechen\, aber doch nicht ohne Vorsicht zu nutzen sind. \nUnser Ziel ist es\, Ihnen das nötige Wissen zu vermitteln\, damit Sie sich im digitalen Raum sicher und wohl fühlen. Erfahren Sie\, wie Sie Ihre Daten schützen und Risiken vermeiden können. \n⏰ Zeit\n29. Oktober 2026\n15:00 – 17:00 Uhr \n🏡 Ort\nStadtbibliothek Riesa\,\nPoppitzer Platz 3\n01589 Riesa \n📝 Anmeldung\nEine Anmeldung ist nicht erforderlich. \n📯 Ansprechpersonen\nJohannes Fischer & Johannes Gersten\nMail: spektrum3000@treibhaus-doebeln.de\nWhatsApp & Telegram: +49 (0) 1575 / 0888 948\nFon: +49 (0) 3431 / 67 87 403 \nWir sind im Raum Döbeln\, Riesa und Oschatz für Sie unterwegs und wollen vor Ort mit unseren Angeboten die Medienkompetenz in Mittelsachsen stärken. Zu diesem Zweck bieten wir eine breite Auswahl an Veranstaltungen\, aus der Sie sich\, die für Sie passende\, auswählen können. Von Workshops & Kursen\, über Beratungsangebote\, bis hin zu Vorträgen können wir alles realisieren\, was Sie sich wünschen. Schauen Sie gern auf unsere Projektseite\, auch neue und individuelle Ideen können wir mit Ihnen angehen. \nDas Projekt Spektrum3000 wird von der Sächsischen Landesmedienanstalt gefördert. In Kooperation mit der Stadtbibliothek Riesa.
URL:https://treibhaus-doebeln.de/event/vortrag-online-banking-und-bezahlen-ohne-risiko/
LOCATION:Stadtbibliothek Riesa\, Poppitzer Platz 3\, Riesa\, Sachsen\, 01589\, Deutschland
CATEGORIES:Beratung,Gespräch,Projekt,Vortrag
ATTACH;FMTTYPE=image/png:https://treibhaus-doebeln.de/wp-content/uploads/2025/01/Onlinebanking_pexels-energepiccom-2988232.png
END:VEVENT
END:VCALENDAR