BEGIN:VCALENDAR
VERSION:2.0
PRODID:-//Treibhaus Döbeln - ECPv6.15.13//NONSGML v1.0//EN
CALSCALE:GREGORIAN
METHOD:PUBLISH
X-WR-CALNAME:Treibhaus Döbeln
X-ORIGINAL-URL:https://treibhaus-doebeln.de
X-WR-CALDESC:Veranstaltungen für Treibhaus Döbeln
REFRESH-INTERVAL;VALUE=DURATION:PT1H
X-Robots-Tag:noindex
X-PUBLISHED-TTL:PT1H
BEGIN:VTIMEZONE
TZID:Europe/Berlin
BEGIN:DAYLIGHT
TZOFFSETFROM:+0100
TZOFFSETTO:+0200
TZNAME:CEST
DTSTART:20250330T010000
END:DAYLIGHT
BEGIN:STANDARD
TZOFFSETFROM:+0200
TZOFFSETTO:+0100
TZNAME:CET
DTSTART:20251026T010000
END:STANDARD
BEGIN:DAYLIGHT
TZOFFSETFROM:+0100
TZOFFSETTO:+0200
TZNAME:CEST
DTSTART:20260329T010000
END:DAYLIGHT
BEGIN:STANDARD
TZOFFSETFROM:+0200
TZOFFSETTO:+0100
TZNAME:CET
DTSTART:20261025T010000
END:STANDARD
BEGIN:DAYLIGHT
TZOFFSETFROM:+0100
TZOFFSETTO:+0200
TZNAME:CEST
DTSTART:20270328T010000
END:DAYLIGHT
BEGIN:STANDARD
TZOFFSETFROM:+0200
TZOFFSETTO:+0100
TZNAME:CET
DTSTART:20271031T010000
END:STANDARD
END:VTIMEZONE
BEGIN:VEVENT
DTSTART;TZID=Europe/Berlin:20260303T150000
DTEND;TZID=Europe/Berlin:20260303T180000
DTSTAMP:20260425T175418
CREATED:20260217T084225Z
LAST-MODIFIED:20260218T094101Z
UID:18867-1772550000-1772560800@treibhaus-doebeln.de
SUMMARY:Workshop LegoDruck
DESCRIPTION:Workshop LegoDruck \nEntdecke die kreative Welt des Legodrucks! \nIn diesem Workshop erfährst du\, wie du aus flachen Lego-Steinen einzigartige Motive gestaltest und daraus farbenfrohe Kunstwerke druckst. Ob abstrakte Formen\, Tiere\, Blumen oder Schrift – deiner Kreativität sind kaum Grenzen gesetzt. Egal ob jung oder alt: Alle Kreativen sind herzlich eingeladen\, mit uns zu experimentieren und herauszufinden\, welche Spuren Lego auf dem Papier hinterlassen kann. Die Technik ist leicht zu erlernen\, macht viel Freude und erfordert keinerlei Vorkenntnisse. \n  \nWir würden uns über eine Anmeldung freuen unter: \nAnmeldung: \nMail: sarah_wurdinger@treibhaus-doebeln.de  \nFon: +49(0) 176 87 09 92 38
URL:https://treibhaus-doebeln.de/event/workshop-legodruck-3/
LOCATION:KreativWerk\, Industriestraße 1\, Döbeln\, Sachsen\, 04720\, Germany
CATEGORIES:Begegnung,Jugendbegegnung,Kunst,Workshop
ATTACH;FMTTYPE=image/png:https://treibhaus-doebeln.de/wp-content/uploads/2026/02/LegoDruck-am-3.3.2026.png
END:VEVENT
END:VCALENDAR