BEGIN:VCALENDAR
VERSION:2.0
PRODID:-//Treibhaus Döbeln - ECPv6.15.13//NONSGML v1.0//EN
CALSCALE:GREGORIAN
METHOD:PUBLISH
X-WR-CALNAME:Treibhaus Döbeln
X-ORIGINAL-URL:https://treibhaus-doebeln.de
X-WR-CALDESC:Veranstaltungen für Treibhaus Döbeln
REFRESH-INTERVAL;VALUE=DURATION:PT1H
X-Robots-Tag:noindex
X-PUBLISHED-TTL:PT1H
BEGIN:VTIMEZONE
TZID:Europe/Berlin
BEGIN:DAYLIGHT
TZOFFSETFROM:+0100
TZOFFSETTO:+0200
TZNAME:CEST
DTSTART:20240331T010000
END:DAYLIGHT
BEGIN:STANDARD
TZOFFSETFROM:+0200
TZOFFSETTO:+0100
TZNAME:CET
DTSTART:20241027T010000
END:STANDARD
BEGIN:DAYLIGHT
TZOFFSETFROM:+0100
TZOFFSETTO:+0200
TZNAME:CEST
DTSTART:20250330T010000
END:DAYLIGHT
BEGIN:STANDARD
TZOFFSETFROM:+0200
TZOFFSETTO:+0100
TZNAME:CET
DTSTART:20251026T010000
END:STANDARD
BEGIN:DAYLIGHT
TZOFFSETFROM:+0100
TZOFFSETTO:+0200
TZNAME:CEST
DTSTART:20260329T010000
END:DAYLIGHT
BEGIN:STANDARD
TZOFFSETFROM:+0200
TZOFFSETTO:+0100
TZNAME:CET
DTSTART:20261025T010000
END:STANDARD
END:VTIMEZONE
BEGIN:VEVENT
DTSTART;TZID=Europe/Berlin:20251007T090000
DTEND;TZID=Europe/Berlin:20251007T140000
DTSTAMP:20260423T175634
CREATED:20250305T085550Z
LAST-MODIFIED:20260205T111925Z
UID:17117-1759827600-1759845600@treibhaus-doebeln.de
SUMMARY:Workshop: Aufbaukurs - Noch besserer Umgang mit Internet\, Smartphone & Tablet
DESCRIPTION:Aufbaukurs: Noch besserer Umgang mit Internet\, Smartphone & Tablet\nJa\, ja die Technik?! Smartphones und Tablets bringen den Menschen heutzutage zwar allerhand Freude oder zumindest in vielerlei Bereichen große Erleichterung\, aber dafür muss man die Geräte bedienen können und wissen\, was es bei der Nutzung des Internets zu beachten gilt. Womit die Jugend heutzutage aufwächst\, bleibt aber für viele Erwachsene und ältere Menschen ein Buch mit sieben Siegeln. \nDamit Sie Ihr neu erworbenes\, oder vielleicht von den Kindern geschenktes\, Smartphone oder Tablet sicher und mit Freude nutzen können\, bieten wir eine Aufbau-Schulung an\, die Ihnen viele weitere praktische Anwendungsmöglichkeiten bringt. Der Workshop eignet sich für Erwachsene jeden Alters\, die schon ein Smartphone und das Internet nutzen. Neben dem geschickten Umgang mit Ihrem eigenen schon vorhandenen Gerät\, zeigt Ihnen der Profi auch\, was es bei der Nutzung von Internet oder Apps zu beachten gilt. Der Workshop bietet gerade für Einsteiger:innen eine optimale Erweiterung und begleitet ihre nächsten Schritte. Erste Vorkenntnisse sind erforderlich. Einzig mitzubringen gilt das bereits vorhandene Gerät\, welches Sie auch in Zukunft weiterhin nutzen möchten. \n⏰ Zeit\n07. Oktober\nBeginn: 09:00 Uhr\nEnde: 14:00 Uhr \n🏡 Ort\nCaritasverband für das Dekanat Meißen e.V.\, Geschäftsstelle Döbeln\nKreuzstraße 2\n04720 Döbeln \n📝 Anmeldung\nEine Anmeldung ist unbedingt erforderlich.\n \nBitte melden Sie sich direkt beim Caritasverband Meißen e.V. in der Kreuzstraße 2 an:\nTelefon +49 (0) 3431 / 72 97 941\nMail leben-im-alter@caritas-meissen.de \n📯 Ansprechpersonen\nJohannes Fischer & Johannes Gersten\nMail: spektrum3000@treibhaus-doebeln.de\nWhatsApp & Telegram: +49 (0) 1575 / 0888 948\nFon: +49 (0) 3431 / 67 87 403 \nWir sind im Raum Döbeln\, Riesa und Oschatz für Sie unterwegs und wollen vor Ort mit unseren Angeboten die Medienkompetenz in Mittelsachsen stärken. Zu diesem Zweck bieten wir eine breite Auswahl an Veranstaltungen\, aus der Sie sich\, die für Sie passende\, auswählen können. Von Workshops & Kursen\, über Beratungsangebote\, bis hin zu Vorträgen können wir alles realisieren\, was Sie sich wünschen. Schauen Sie gern auf unsere Projektseite\, auch neue und individuelle Ideen können wir mit Ihnen angehen. \nDas Projekt Spektrum3000 wird von der Sächsischen Landesmedienanstalt gefördert. In Kooperation mit dem Caritasverband für das Dekanat Meißen e.V.
URL:https://treibhaus-doebeln.de/event/workshop-aufbaukurs-noch-besserer-umgang-mit-internet-smartphone-tablet-4/
LOCATION:Caritasverband Meißen\, Kreuzstraße 2\, Döbeln\, Sachsen\, 04720\, Deutschland
CATEGORIES:Beratung,Kurs,Seminar,Workshop
ATTACH;FMTTYPE=image/png:https://treibhaus-doebeln.de/wp-content/uploads/2025/01/Seniorin-Smartphone_04_pexels-andrea-piacquadio-3791664.png
END:VEVENT
BEGIN:VEVENT
DTSTART;TZID=Europe/Berlin:20251010T200000
DTEND;TZID=Europe/Berlin:20251010T220000
DTSTAMP:20260423T175634
CREATED:20250729T132325Z
LAST-MODIFIED:20250911T091003Z
UID:17650-1760126400-1760133600@treibhaus-doebeln.de
SUMMARY:Konzert Oh Nico (Garage Rock/New Wave) | Tinted House (Psych Pop)
DESCRIPTION:Einlass: 19.30 Uhr \nBeginn 20.00 Uhr \nOh Nico ist ein Geheimtipp! Wer seine Konzerte besucht\, erlebt\, wie er die Bühne in ein vielstimmiges Rock’n’Roll-Orchester verwandelt. Schlagzeug\, E-Gitarre\, Orgel und Gesang setzt der Musiker meist simultan oder im Wechsel in Szene. Es entsteht eine facettenreiche Mischung aus Garage\, Pop\, New Wave und psychedelischen Sounds\, die an die Velvet Underground\, Courtney Barnett und The Cure erinnern. Durch unvorhersehbare Live-Momente und seiner Liebe zur Improvisation\, taucht Oh Nico mit seinem Publikum ins Hier und Jetzt und schafft Musik\, die über den Moment hinaus im Kopf bleibt. \nIhr Sound lässt es nicht vermuten\, aber ja – Tinted House ist eine Dresdner Band und mit Mitgliedern aus den USA und UK international besetzt. Ihr Debütalbum “Heavens” (2021) ließ sich relativ klar als Psychedelic Dream Pop beschreiben\, das neue Album geht nun in alle Richtungen. Auf “Heartbeat-Shake” ziehen Tempo und Kreativität deutlich an. Neben Spuren von 60s Beat\, Psych und Folk sind auch Synth- und Krautrock zu entdecken. Denkt mal an Mazzy Star\, an Kurangbin\, Yo La Tengo\, Mild High Club und The Velvet Underground. Ihre Live-Shows sind ein wilder Mix aus Experimenten\, chaotische Intensität und performativen Einlagen mit Verzauberungsgarantie – nicht verpassen! \nReinhören könnt ihr hier schon mal: \nOh Nico: https://ohnico.bandcamp.com/ \nTinted House: https://tintedhouse.bandcamp.com/album/heartbeat-shake \nEintritt 5-10 Euro.
URL:https://treibhaus-doebeln.de/event/konzert-oh-nico-garage-rock-new-wave-the-shna-grunge-riotgrrl/
LOCATION:Café Courage\, Bahnhofstraße 56\, Döbeln\, Sachsen\, 04720\, Deutschland
CATEGORIES:Konzert,Musik
ATTACH;FMTTYPE=image/png:https://treibhaus-doebeln.de/wp-content/uploads/2025/07/TH_WEBSITESLIDER5.png
END:VEVENT
BEGIN:VEVENT
DTSTART;TZID=Europe/Berlin:20251016T190000
DTEND;TZID=Europe/Berlin:20251016T213000
DTSTAMP:20260423T175634
CREATED:20250821T095414Z
LAST-MODIFIED:20251002T112427Z
UID:17814-1760641200-1760650200@treibhaus-doebeln.de
SUMMARY:Queer\, offen & für alle – Kurzfilmtour 2025
DESCRIPTION:Queer\, offen und für alle – die Kurzfilmtour präsentiert einen Filmabend\, der zeigt: Menschen sind vielfältig und Vielfalt bereichert unsere Gesellschaft. \nSechs Filme aus dem Programm des FILMFEST DRESDEN beleuchten die Vielfalt \nder Geschlechter und Lebensentwürfe\, hinterfragen gängige Stereotype und bieten Einblicke in das Leben queerer Menschen und People of Color. \n  \nEintritt frei.
URL:https://treibhaus-doebeln.de/event/queer-offen-fuer-alle-kurzfilmtour-2025/
LOCATION:Café Courage\, Bahnhofstraße 56\, Döbeln\, Sachsen\, 04720\, Deutschland
CATEGORIES:Film
ATTACH;FMTTYPE=image/png:https://treibhaus-doebeln.de/wp-content/uploads/2025/08/TH_WEBSITESLIDER6.png
ORGANIZER;CN="Treibhaus e.V. D%C3%B6beln":MAILTO:info@treibhaus-doebeln.de
END:VEVENT
BEGIN:VEVENT
DTSTART;TZID=Europe/Berlin:20251017T190000
DTEND;TZID=Europe/Berlin:20251017T213000
DTSTAMP:20260423T175634
CREATED:20250821T100157Z
LAST-MODIFIED:20250821T100157Z
UID:17816-1760727600-1760736600@treibhaus-doebeln.de
SUMMARY:Jam Session
DESCRIPTION:Wir laden zur Jam Session ins Café Courage ein! Ob Profi oder Hobbymusiker*in\, musiziert und improvisiert gemeinsam auf unserer Bühne. Bringt eure Instrumente mit\, ölt eure Stimmen oder nutzt das\, was Ihr auf der Bühne findet. Wohin die musikalische Reise geht\, ist immer wieder eine Überraschung. \nWer nur zuhören mag und ein Getränk an der Bar genießen möchte\, ist natürlich ebenso willkommen. \nWir freuen uns über Spenden zur Instandhaltung und Ersetzung von Instrumenten und Technik. \nEintritt frei.
URL:https://treibhaus-doebeln.de/event/jam-session-17/
LOCATION:Café Courage\, Bahnhofstraße 56\, Döbeln\, Sachsen\, 04720\, Deutschland
CATEGORIES:Musik
ATTACH;FMTTYPE=image/jpeg:https://treibhaus-doebeln.de/wp-content/uploads/2022/08/20220906-Jam-session.jpg
ORGANIZER;CN="Treibhaus e.V. D%C3%B6beln":MAILTO:info@treibhaus-doebeln.de
END:VEVENT
BEGIN:VEVENT
DTSTART;TZID=Europe/Berlin:20251021T143000
DTEND;TZID=Europe/Berlin:20251021T163000
DTSTAMP:20260423T175634
CREATED:20250314T083600Z
LAST-MODIFIED:20250314T083600Z
UID:17152-1761057000-1761064200@treibhaus-doebeln.de
SUMMARY:Siebdruckworkshop: AUTUMN PRINTING
DESCRIPTION:In diesem Workshop möchten wir gemeinsam Siebdruck ausprobieren\, kreativ sein und dabei noch wunderschöne Prints auf Stoff und Papier herstellen\, die sich super verschenken lassen. \nBei unseren Workshops kannst du aus einer großen Auswahl an Druckträgern und Motiven wählen\, die wir zum Thema vorbereiten. Der Teilnahmebeitrag liegt bei 15-25 € pro Person (5-10 € Ermäßigt)\, zusätzlich zahlst du nur\, was du auch wirklich verdruckst. Du musst nichts vorbereiten und brauchst auch keine Vorkenntnisse\, nur etwas Zeit und Lust zum Experimentieren! \nDu willst dabei sein? Dann melde dich an\, die Teilnehmer*innenanzahl ist begrenzt! \nBeginn: 14.30 Uhr\nEnde: ca. 16.30 Uhr \nBezahlung ist vor Ort in bar möglich oder per PayPal. \nAnmeldung\nJulia Kaden\nMail: siebdruck@treibhaus-doebeln.de\nFon: +49 (0) 3431 / 60 52 978
URL:https://treibhaus-doebeln.de/event/siebdruckworkshop-autumn-printing-7/
LOCATION:Café Courage\, Bahnhofstraße 56\, Döbeln\, Sachsen\, 04720\, Deutschland
CATEGORIES:Kunst,Kurs,Siebdruck,Workshop
ATTACH;FMTTYPE=image/jpeg:https://treibhaus-doebeln.de/wp-content/uploads/2025/03/FB-1-scaled.jpg
ORGANIZER;CN="Treibhaus e.V. D%C3%B6beln":MAILTO:info@treibhaus-doebeln.de
END:VEVENT
BEGIN:VEVENT
DTSTART;TZID=Europe/Berlin:20251021T173000
DTEND;TZID=Europe/Berlin:20251021T193000
DTSTAMP:20260423T175634
CREATED:20250314T083647Z
LAST-MODIFIED:20250314T083647Z
UID:17153-1761067800-1761075000@treibhaus-doebeln.de
SUMMARY:Siebdruckworkshop: AUTUMN PRINTING
DESCRIPTION:In diesem Workshop möchten wir gemeinsam Siebdruck ausprobieren\, kreativ sein und dabei noch wunderschöne Prints auf Stoff und Papier herstellen\, die sich super verschenken lassen. \nBei unseren Workshops kannst du aus einer großen Auswahl an Druckträgern und Motiven wählen\, die wir zum Thema vorbereiten. Der Teilnahmebeitrag liegt bei 15-25 € pro Person (5-10 € Ermäßigt)\, zusätzlich zahlst du nur\, was du auch wirklich verdruckst. Du musst nichts vorbereiten und brauchst auch keine Vorkenntnisse\, nur etwas Zeit und Lust zum Experimentieren! \nDu willst dabei sein? Dann melde dich an\, die Teilnehmer*innenanzahl ist begrenzt! \nBeginn: 17.30 Uhr\nEnde: ca. 19.30 Uhr \nBezahlung ist vor Ort in bar möglich oder per PayPal. \nAnmeldung\nJulia Kaden\nMail: siebdruck@treibhaus-doebeln.de\nFon: +49 (0) 3431 / 60 52 978
URL:https://treibhaus-doebeln.de/event/siebdruckworkshop-autumn-printing-8/
LOCATION:Café Courage\, Bahnhofstraße 56\, Döbeln\, Sachsen\, 04720\, Deutschland
CATEGORIES:Kunst,Kurs,Siebdruck,Workshop
ATTACH;FMTTYPE=image/jpeg:https://treibhaus-doebeln.de/wp-content/uploads/2025/03/FB-1-scaled.jpg
ORGANIZER;CN="Treibhaus e.V. D%C3%B6beln":MAILTO:info@treibhaus-doebeln.de
END:VEVENT
BEGIN:VEVENT
DTSTART;TZID=Europe/Berlin:20251024T150000
DTEND;TZID=Europe/Berlin:20251024T180000
DTSTAMP:20260423T175634
CREATED:20250116T114833Z
LAST-MODIFIED:20250116T114833Z
UID:16775-1761318000-1761328800@treibhaus-doebeln.de
SUMMARY:Offene Siebdruckwerkstatt
DESCRIPTION:Der Treibhaus e.V. beherbergt eine gut ausgestattete Siebdruckwerkstatt und lädt regelmäßig zur offenen Siebdruckwerkstatt ein. \nDie offene Siebdruckwerkstatt öffnet einmal im Monat von 15:00 bis 18:00 Uhr ihre Türen. Ihr habt die Möglichkeit vorbeizukommen\, Fragen zu stellen oder selbst Sachen zu bedrucken. Es gibt immer eine große Auswahl an Motiven und Druckträgern vor Ort. Auf Anfrage können auch individuelle Motive gedruckt werden – kontaktiert uns dazu bitte im Voraus. \nBitte beachtet\, dass im Juli und August keine offene Werkstatt stattfindet. Ihr könnt aber jederzeit einen Termin außerhalb der genannten Daten vereinbaren. \nÖffnungszeiten\n15.00 – 18.00 Uhr\n2. Etage // Bahnhofstraße 56 \nKontakt\nJulia Kaden\nMail: siebdruck@treibhaus-doebeln.de\nFon: +49 (0) 3431 / 60 52 978
URL:https://treibhaus-doebeln.de/event/offene-siebdruckwerkstatt-86/
LOCATION:2. OG Siebdruckwerkstatt\, Bahnhofstraße 56\, Döbeln\, Sachsen\, 04720\, Germany
CATEGORIES:Kunst,Kurs,Siebdruck
ATTACH;FMTTYPE=image/jpeg:https://treibhaus-doebeln.de/wp-content/uploads/2025/01/FB_HP-scaled.jpg
ORGANIZER;CN="Treibhaus e.V. D%C3%B6beln":MAILTO:info@treibhaus-doebeln.de
END:VEVENT
BEGIN:VEVENT
DTSTART;TZID=Europe/Berlin:20251025T190000
DTEND;TZID=Europe/Berlin:20251025T223000
DTSTAMP:20260423T175634
CREATED:20250821T100500Z
LAST-MODIFIED:20251007T081551Z
UID:17818-1761418800-1761431400@treibhaus-doebeln.de
SUMMARY:Quizcafé
DESCRIPTION:Hört hört\, eine neue Ausgabe unseres Quizcafé steht an! Welch Schmach den Besiegten\, welch Ruhm den Gewinnern zukommt. Zurück aus dem Gehirnjogging-Sommercamp und dem intensiven Wikipediastudium könnt ihr bei uns zeigen\, was ihr könnt. \nEintritt 3-5€ \nTischreservierungen möglich: info@treibhaus-doebeln.de \n 
URL:https://treibhaus-doebeln.de/event/quizcafe-17/
LOCATION:Café Courage\, Bahnhofstraße 56\, Döbeln\, Sachsen\, 04720\, Deutschland
CATEGORIES:Quiz
ATTACH;FMTTYPE=image/jpeg:https://treibhaus-doebeln.de/wp-content/uploads/2023/04/Website-Quizcafe-scaled.jpg
ORGANIZER;CN="Treibhaus e.V. D%C3%B6beln":MAILTO:info@treibhaus-doebeln.de
END:VEVENT
BEGIN:VEVENT
DTSTART;TZID=Europe/Berlin:20251028T143000
DTEND;TZID=Europe/Berlin:20251028T163000
DTSTAMP:20260423T175634
CREATED:20250314T083737Z
LAST-MODIFIED:20250314T083737Z
UID:17154-1761661800-1761669000@treibhaus-doebeln.de
SUMMARY:Siebdruckworkshop: AUTUMN PRINTING
DESCRIPTION:In diesem Workshop möchten wir gemeinsam Siebdruck ausprobieren\, kreativ sein und dabei noch wunderschöne Prints auf Stoff und Papier herstellen\, die sich super verschenken lassen. \nBei unseren Workshops kannst du aus einer großen Auswahl an Druckträgern und Motiven wählen\, die wir zum Thema vorbereiten. Der Teilnahmebeitrag liegt bei 15-25 € pro Person (5-10 € Ermäßigt)\, zusätzlich zahlst du nur\, was du auch wirklich verdruckst. Du musst nichts vorbereiten und brauchst auch keine Vorkenntnisse\, nur etwas Zeit und Lust zum Experimentieren! \nDu willst dabei sein? Dann melde dich an\, die Teilnehmer*innenanzahl ist begrenzt! \nBeginn: 14.30 Uhr\nEnde: ca. 16.30 Uhr \nBezahlung ist vor Ort in bar möglich oder per PayPal. \nAnmeldung\nJulia Kaden\nMail: siebdruck@treibhaus-doebeln.de\nFon: +49 (0) 3431 / 60 52 978
URL:https://treibhaus-doebeln.de/event/siebdruckworkshop-autumn-printing-9/
LOCATION:Café Courage\, Bahnhofstraße 56\, Döbeln\, Sachsen\, 04720\, Deutschland
CATEGORIES:Kunst,Kurs,Siebdruck,Workshop
ATTACH;FMTTYPE=image/jpeg:https://treibhaus-doebeln.de/wp-content/uploads/2025/03/FB-1-scaled.jpg
ORGANIZER;CN="Treibhaus e.V. D%C3%B6beln":MAILTO:info@treibhaus-doebeln.de
END:VEVENT
BEGIN:VEVENT
DTSTART;TZID=Europe/Berlin:20251028T143000
DTEND;TZID=Europe/Berlin:20251028T163000
DTSTAMP:20260423T175634
CREATED:20250314T083823Z
LAST-MODIFIED:20250314T083823Z
UID:17155-1761661800-1761669000@treibhaus-doebeln.de
SUMMARY:Siebdruckworkshop: AUTUMN PRINTING
DESCRIPTION:In diesem Workshop möchten wir gemeinsam Siebdruck ausprobieren\, kreativ sein und dabei noch wunderschöne Prints auf Stoff und Papier herstellen\, die sich super verschenken lassen. \nBei unseren Workshops kannst du aus einer großen Auswahl an Druckträgern und Motiven wählen\, die wir zum Thema vorbereiten. Der Teilnahmebeitrag liegt bei 15-25 € pro Person (5-10 € Ermäßigt)\, zusätzlich zahlst du nur\, was du auch wirklich verdruckst. Du musst nichts vorbereiten und brauchst auch keine Vorkenntnisse\, nur etwas Zeit und Lust zum Experimentieren! \nDu willst dabei sein? Dann melde dich an\, die Teilnehmer*innenanzahl ist begrenzt! \nBeginn: 17.30 Uhr\nEnde: ca. 19.30 Uhr \nBezahlung ist vor Ort in bar möglich oder per PayPal. \nAnmeldung\nJulia Kaden\nMail: siebdruck@treibhaus-doebeln.de\nFon: +49 (0) 3431 / 60 52 978
URL:https://treibhaus-doebeln.de/event/siebdruckworkshop-autumn-printing-10/
LOCATION:Café Courage\, Bahnhofstraße 56\, Döbeln\, Sachsen\, 04720\, Deutschland
CATEGORIES:Kunst,Kurs,Siebdruck,Workshop
ATTACH;FMTTYPE=image/jpeg:https://treibhaus-doebeln.de/wp-content/uploads/2025/03/FB-1-scaled.jpg
ORGANIZER;CN="Treibhaus e.V. D%C3%B6beln":MAILTO:info@treibhaus-doebeln.de
END:VEVENT
BEGIN:VEVENT
DTSTART;TZID=Europe/Berlin:20251029T180000
DTEND;TZID=Europe/Berlin:20251029T200000
DTSTAMP:20260423T175634
CREATED:20251006T115304Z
LAST-MODIFIED:20251006T115304Z
UID:17933-1761760800-1761768000@treibhaus-doebeln.de
SUMMARY:SOZIALE MEDIEN UND ICH – WEM GEHÖRT MEINE MEINUNG?
DESCRIPTION:SOZIALE MEDIEN UND ICH – WEM GEHÖRT MEINE MEINUNG?\nUnser Leben im digitalen Zeitalter ist ohne Handy\, Akku und Internet undenkbar geworden. Am liebsten verbringen wir unsere Freizeit online\, um Idols\, Friends und Follower auf Insta\, Tiktok und Youtube zu treffen. Ein Großteil unserer Zeit scrollen\, klicken und tippen wir mit gebanntem Blick auf den Bildschirm. Während wir unser persönliches Profil ausbauen\, erschaffen wir nicht nur ein virtuelles Wunschbild unseres Selbst\, sondern wir generieren gleichzeitig ein Datenabbild von uns für die Plattformbetreiber. Obwohl uns bewusst ist\, dass die digitalen Dienste mit uns Usern irgendwie Geld verdienen und dass uns zu viel Displaytime süchtig\, einsam und unglücklich machen können\, ist unser Verlangen so unendlich wie die virtuelle Welt.\nWorin die Vorzüge digitaler Vernetzung bestehen und welche Folgen auf uns zurückwirken\, wollen wir anhand unseres social-media Konsums diskutieren. Gerade weil viele am liebsten berufliche Influencer werden wollen\, stellt sich die Frage\, wer beeinflusst hier eigentlich wen – unser Content die Community oder das Medium unser Denken und Handeln? \nReferent:\nBernd Zöllner ist Geschichtsphilosoph und arbeitet in der politischen Bildungsarbeit\, wo er neben historischen und philosophischen Seminaren auch Vorträge zu zeitgenössischen Themen organisiert.\n⠀⠀⠀⠀⠀⠀⠀⠀⠀\n⏰ Zeit\n29. Oktober\nBeginn: 18:00 Uhr\nEnde: ca. 20:00 Uhr\n⠀⠀⠀⠀⠀⠀⠀⠀⠀\n🏡 Ort\nAJZ Leisnig\nChemnitzer Str. 103B\,\n04703 Leisnig\n⠀⠀⠀⠀⠀⠀⠀⠀⠀\n📝 Anmeldung\nEine Anmeldung ist nicht erforderlich.\n⠀⠀⠀⠀⠀⠀⠀⠀⠀\n📯 Ansprechpersonen\nIhr könnt euch beim AJZ Leisnig melden oder bei\nJohannes Fischer & Johannes Gersten\nMail: spektrum3000@treibhaus-doebeln.de\nWhatsApp & Telegram: +49 (0) 1575 / 0888 948\nFon: +49 (0) 3431 / 67 87 403 \nWir sind im Raum Döbeln\, Riesa und Oschatz für Sie unterwegs und wollen vor Ort mit unseren Angeboten die Medienkompetenz in Mittelsachsen stärken. Zu diesem Zweck bieten wir eine breite Auswahl an Veranstaltungen\, aus der Sie sich\, die für Sie passende\, auswählen können. Von Workshops & Kursen\, über Beratungsangebote\, bis hin zu Vorträgen können wir alles realisieren\, was Sie sich wünschen. Schauen Sie gern auf unsere Projektseite\, auch neue und individuelle Ideen können wir mit Ihnen angehen. \nDas Projekt Spektrum3000 wird von der Sächsischen Landesmedienanstalt gefördert.
URL:https://treibhaus-doebeln.de/event/soziale-medien-und-ich-wem-gehoert-meine-meinung/
LOCATION:AJZ Leisnig\, Chemnitzer Straße 103b\, Leisnig\, Sachsen\, 04703\, Deutschland
CATEGORIES:Diskussion,Information,Vortrag
ATTACH;FMTTYPE=image/png:https://treibhaus-doebeln.de/wp-content/uploads/2025/10/SOZIALE-MEDIEN-UND-ICH-–-WEM-GEHOeRT-MEINE-MEINUNG.png
END:VEVENT
BEGIN:VEVENT
DTSTART;TZID=Europe/Berlin:20251029T190000
DTEND;TZID=Europe/Berlin:20251029T210000
DTSTAMP:20260423T175634
CREATED:20250825T082004Z
LAST-MODIFIED:20251020T133026Z
UID:17824-1761764400-1761771600@treibhaus-doebeln.de
SUMMARY:Gespräch: HÖRT MIR MAL ENDLICH JEMAND ZU!?!!
DESCRIPTION:Beginn: 19.00 Uhr\, Café Courage \nEine Gesprächsveranstaltung zum Thema Migration \nMigration ist ein Thema\, das in der sächsischen Gesellschaft erhebliche Sorgen und Skepsis hervorruft. Der Ausländeranteil liegt in Sachsen deutlich unter dem Bundesdurchschnitt – und doch treibt viele Menschen die Frage um\, wie sich Migration bereits auf das Zusammenleben auswirkt und künftig auswirken wird. Einerseits wird anerkannt\, dass Sachsen ohne Zuwanderung weder wirtschaftlich noch im Bereich der Gesundheitsversorgung zukunftsfähig ist. Doch besonders vor Wahlen\, werden die Debatten um Zuwanderung laut\, emotional – und sie beeinflussen die Wahlentscheidungen erheblich. \nBeim Thema Migration kochen schnell die Gemüter hoch. Was darf man überhaupt noch sagen? Wer wird gehört – und wer nicht? Was ist Fakt\, was Meinung – und was einfach nur Stimmung? \nUnsere Gesprächsveranstaltung bietet Ihnen die Gelegenheit\, in Ihrer Stadt oder Gemeinde mit anderen über Migration ins Gespräch zu kommen. \nDer Referent Sarah A. Besic führt Sie durch den Abend. Es erwarten Sie:\n– ein kurzes Videomaterial\,\n– Einblicke in Fakten und Medienbilder\,\n– Austausch über Gedanken und Haltungen\,\n– Klärung zentraler Begriffe. \nSie sind herzlich eingeladen\, in einer respektvollen und offenen Atmosphäre Ihre eigene Meinung zu klären und weiterzuentwickeln\, andere Perspektiven zu verstehen und das Thema Migration neu einzuordnen – jenseits von Parolen und Polarisierung. \nSarah A. Besic\, Jahrgang 1969\, wuchs als Kind einer Sächsin und eines Bosniers im Westen Deutschlands auf und zog direkt nach der Maueröffnung zum Studium – nach Leipzig. Dort widmete er sich zunächst dem Studium der Wirtschaftswissenschaft\, später der Philosophie und Politik. Prägende Erfahrungen in Bosnien\, dem Kosovo und Afghanistan lenkten seinen Weg hin zu friedlicheren Projekten. Mediengestaltung\, Religionswissenschaft\, Biologiedidaktik sowie die Berufung zum Meditationslehrer und Coach bilden heute seinen Lebensmittelpunkt – stets inspiriert vom Blick hinter den Vorhang und getragen vom multikulturellen Erbe seiner Familie. \nAntidiskriminierungsregel:\nDen Veranstalter*innen ist ein respektvolles und diskriminierungsfreies Miteinander sehr wichtig. Störungen oder Beleidigungen führen zum Ausschluss aus der Veranstaltung. Die Veranstalter*innen behalten sich vor\, von ihrem Hausrecht Gebrauch zu machen und Personen\, die rechtsextremen Parteien oder Organisationen angehören\, der rechtsextremen Szene zuzuordnen sind oder bereits in der Vergangenheit durch rassistische\, nationalistische\, antisemitische oder sonstige menschenverachtende Äußerungen in Erscheinung getreten sind\, den Zutritt zur Veranstaltung zu verwehren oder von dieser auszuschließen. \nEintritt frei. \nEine Veranstaltung der Sächsischen Landeszentrale für politische Bildung.
URL:https://treibhaus-doebeln.de/event/gespraech-hoert-mir-mal-endlich-jemand-zu/
LOCATION:Café Courage\, Bahnhofstraße 56\, Döbeln\, Sachsen\, 04720\, Deutschland
CATEGORIES:Austausch,Begegnung,Diskussion
ATTACH;FMTTYPE=image/jpeg:https://treibhaus-doebeln.de/wp-content/uploads/2025/08/2555_HoertMirZu.jpg
END:VEVENT
BEGIN:VEVENT
DTSTART;TZID=Europe/Berlin:20251030T180000
DTEND;TZID=Europe/Berlin:20251030T200000
DTSTAMP:20260423T175634
CREATED:20250305T094342Z
LAST-MODIFIED:20251008T112002Z
UID:17122-1761847200-1761854400@treibhaus-doebeln.de
SUMMARY:Vortrag: Aufwachsen mit Medien
DESCRIPTION:Am 30. Oktober sind wir in der Kunzemann Grundschule in Döbeln zu Gast. Wir werden mit den Eltern darüber sprechen\, mit welchen Chancen und Risiken Kinder beim Aufwachsen mit Medien rechnen müssen. Wir reden über die Themen Mediensucht und “Sicher im Netz”. Wir diskutieren\, welche Rolle Medien bei der Identitätsbildung von Kindern spielen und wie man sie bei der Mediennutzung begleiten kann. \nIm Anschluss an den Vortrag wird es Raum für Fragen und Diskussionen geben. Wir hoffen auf eine spannende Veranstaltung mit allen Beteiligten. \n⏰ Zeit\n30. Oktober\nBeginn: 18:00 Uhr\nEnde: 20:00 Uhr \n🏡 Ort\nKunzemannschule Döbeln\nTh.-Kunzemann-Str. 9\n04720 Döbeln \n📝 Anmeldung\nDie Anmeldung läuft über die Franziska Winkler vom Donbosco Bildungswerk für die jeweiligen Eltern. \n📯 Ansprechpersonen\nJohannes Fischer & Johannes Gersten\nMail: spektrum3000@treibhaus-doebeln.de\nWhatsApp & Telegram: +49 (0) 1575 / 0888 948\nFon: +49 (0) 3431 / 67 87 403 \nWir sind im Raum Döbeln\, Riesa und Oschatz für Sie unterwegs und wollen vor Ort mit unseren Angeboten die Medienkompetenz in Mittelsachsen stärken. Zu diesem Zweck bieten wir eine breite Auswahl an Veranstaltungen\, aus der Sie sich\, die für Sie passende\, auswählen können. Von Workshops & Kursen\, über Beratungsangebote\, bis hin zu Vorträgen können wir alles realisieren\, was Sie sich wünschen. Schauen Sie gern auf unsere Projektseite\, auch neue und individuelle Ideen können wir mit Ihnen angehen. \nDas Projekt Spektrum3000 wird von der Sächsischen Landesmedienanstalt gefördert. In Kooperation mit der Kunzemann Grundschule und Donbosco.
URL:https://treibhaus-doebeln.de/event/vortrag-aufwachsen-mit-medien-15/
LOCATION:Kunzemannschule Döbeln\, Th.-Kunzemann-Str. 9\, Döbeln\, Sachsen\, 04720\, Deutschland
CATEGORIES:Diskussion,Elternabend
ATTACH;FMTTYPE=image/png:https://treibhaus-doebeln.de/wp-content/uploads/2023/01/Kinder.png
END:VEVENT
END:VCALENDAR