BEGIN:VCALENDAR
VERSION:2.0
PRODID:-//Treibhaus Döbeln - ECPv6.15.13//NONSGML v1.0//EN
CALSCALE:GREGORIAN
METHOD:PUBLISH
X-ORIGINAL-URL:https://treibhaus-doebeln.de
X-WR-CALDESC:Veranstaltungen für Treibhaus Döbeln
REFRESH-INTERVAL;VALUE=DURATION:PT1H
X-Robots-Tag:noindex
X-PUBLISHED-TTL:PT1H
BEGIN:VTIMEZONE
TZID:Europe/Berlin
BEGIN:DAYLIGHT
TZOFFSETFROM:+0100
TZOFFSETTO:+0200
TZNAME:CEST
DTSTART:20240331T010000
END:DAYLIGHT
BEGIN:STANDARD
TZOFFSETFROM:+0200
TZOFFSETTO:+0100
TZNAME:CET
DTSTART:20241027T010000
END:STANDARD
BEGIN:DAYLIGHT
TZOFFSETFROM:+0100
TZOFFSETTO:+0200
TZNAME:CEST
DTSTART:20250330T010000
END:DAYLIGHT
BEGIN:STANDARD
TZOFFSETFROM:+0200
TZOFFSETTO:+0100
TZNAME:CET
DTSTART:20251026T010000
END:STANDARD
BEGIN:DAYLIGHT
TZOFFSETFROM:+0100
TZOFFSETTO:+0200
TZNAME:CEST
DTSTART:20260329T010000
END:DAYLIGHT
BEGIN:STANDARD
TZOFFSETFROM:+0200
TZOFFSETTO:+0100
TZNAME:CET
DTSTART:20261025T010000
END:STANDARD
END:VTIMEZONE
BEGIN:VEVENT
DTSTART;TZID=Europe/Berlin:20250902T090000
DTEND;TZID=Europe/Berlin:20250902T140000
DTSTAMP:20260423T102052
CREATED:20250305T084138Z
LAST-MODIFIED:20250305T084138Z
UID:17110-1756803600-1756821600@treibhaus-doebeln.de
SUMMARY:Workshop: Einsteigerkurs – Der richtige Umgang mit Internet\, Smartphone und Tablet
DESCRIPTION:Kurs: Der richtige Umgang mit Internet\, Smartphone & Tablet\nJa\, ja die Technik?! Smartphones und Tablets bringen den Menschen heutzutage zwar allerhand Freude oder zumindest in vielerlei Bereichen große Erleichterung\, aber dafür muss man die Geräte bedienen können und wissen\, was es bei der Nutzung des Internets zu beachten gilt. Womit die Jugend heutzutage aufwächst\, bleibt aber für viele Erwachsene und ältere Menschen ein Buch mit sieben Siegeln.\nDamit Sie Ihr neu erworbenes oder vielleicht von den Kindern geschenktes Smartphone oder Tablet sicher und mit Freude nutzen können\, bieten wir eine Schulung an\, die Ihnen sofort praktischen Nutzen bringt. Der Workshop eignet sich als Einführung in den Umgang mit Smartphone und Tablet für Erwachsene jeden Alters. Neben dem geschickten Umgang mit Ihrem eigenen schon vorhandenen Gerät\, zeigt Ihnen der Profi auch\, was es bei der Nutzung von Internet oder Apps zu beachten gilt. Der Workshop bietet gerade für Unerfahrene einen optimalen Einstieg und begleitet ihre ersten Schritte. Es sind keine Vorkenntnisse erforderlich. Einzig mitzubringen gilt das bereits vorhandene Gerät\, welches Sie auch in Zukunft weiterhin nutzen möchten. \n⏰ Zeit\n02. September\nBeginn: 9:00 Uhr\nEnde: 14:00 Uhr \n🏡 Ort\nCaritasverband für das Dekanat Meißen e.V.\, Geschäftsstelle Döbeln\nKreuzstraße 2\n04720 Döbeln \n📝 Anmeldung\nEine Anmeldung ist unbedingt erforderlich.\n \nBitte melden Sie sich direkt beim Caritasverband Meißen e.V. in der Kreuzstraße 2 an:\nTelefon +49 (0) 3431 / 72 97 941\nMail leben-im-alter@caritas-meissen.de \n📯 Ansprechpersonen\nJohannes Fischer & Johannes Gersten\nMail: spektrum3000@treibhaus-doebeln.de\nWhatsApp & Telegram: +49 (0) 1575 / 0888 948\nFon: +49 (0) 3431 / 67 87 403 \nWir sind im Raum Döbeln\, Riesa und Oschatz für Sie unterwegs und wollen vor Ort mit unseren Angeboten die Medienkompetenz in Mittelsachsen stärken. Zu diesem Zweck bieten wir eine breite Auswahl an Veranstaltungen\, aus der Sie sich\, die für Sie passende\, auswählen können. Von Workshops & Kursen\, über Beratungsangebote\, bis hin zu Vorträgen können wir alles realisieren\, was Sie sich wünschen. Schauen Sie gern auf unsere Projektseite\, auch neue und individuelle Ideen können wir mit Ihnen angehen. \nDas Projekt Spektrum3000 wird von der Sächsischen Landesanstalt für privaten Rundfunk und neue Medien gefördert. In Kooperation mit dem Caritasverband\, Dekanat Meißen.
URL:https://treibhaus-doebeln.de/event/workshop-einsteigerkurs-der-richtige-umgang-mit-internet-smartphone-und-tablet-2/
LOCATION:Caritasverband Meißen\, Kreuzstraße 2\, Döbeln\, Sachsen\, 04720\, Deutschland
CATEGORIES:Beratung,Kurs,Seminar,Workshop
ATTACH;FMTTYPE=image/png:https://treibhaus-doebeln.de/wp-content/uploads/2025/01/Seniorin-Smartphone_04_pexels-andrea-piacquadio-3791664.png
END:VEVENT
BEGIN:VEVENT
DTSTART;TZID=Europe/Berlin:20250910T100000
DTEND;TZID=Europe/Berlin:20250910T120000
DTSTAMP:20260423T102052
CREATED:20250116T094916Z
LAST-MODIFIED:20250116T094916Z
UID:16704-1757498400-1757505600@treibhaus-doebeln.de
SUMMARY:Beratung: Medien-Kaffeeklatsch für Erwachsene
DESCRIPTION:Am 10. September sind wir in Döbeln beim Caritasverband\, Dekanat Meißen\, für Sie ansprechbar. Bei Fragen zu Medien wie Internet\, Smartphone\, Persönlichkeitsrechte und vielem mehr können wir helfen. Bringen Sie Ihr Gerät mit oder sprechen mit uns\, wenn Sie vorhaben eines zu kaufen. Das Ziel der Veranstaltung ist es\, Ihnen den Zugang zu (neuen) Medien zu erleichtern und Hemmungen abzubauen. Sie können mit einer ganz konkreten Frage zu uns kommen\, oder im Gespräch mit uns herausfinden\, wie Medien Sie in ihrem Alltag unterstützen können. Dabei können Sie kommen und gehen\, wann Sie wollen. \nThemenvorschläge und mögliche Fragen sind: \n\nBrauche ich überhaupt ein Smartphone oder Tablet?\nWas bedeuten die Zeichen und Bilder auf dem Smartphone/Tablet? (Begriffe & Hintergründe)\nSchnelle Hilfe im Internet: Hilfe es brennt\, was kann ich tun? An wen kann ich mich wenden?\nHabe ich einen Virus auf dem Smartphone oder was ist passiert? (Internetsicherheit)\nKann ich das Internet löschen?\nWas sind App-Berechtigungen\, Benutzerkonten und sichere Passwörter? (Einstellungen)\nWas das alles kostet! Gibt es da auch alternative Wege?\n\nWir wissen\, dass neue Technik oft einschüchternd wirken kann. Deshalb sind wir für Sie da und nehmen uns Zeit für Ihre Fragen und Bedenken. Wir können zuhören\, viele Fragen beantworten\, helfen und begleiten. Dieses Angebot ist jedoch keine juristische\, psychische oder psycho-soziale Beratung. \nNeben dieser Beratung bieten wir viele weitere Angebote im Rahmen der Medienbildung an. \n⏰ Zeit\n10. September\n10:00 – 12:00 Uhr \n🏡 Ort\nCaritasverband für das Dekanat Meißen e.V.\, Geschäftsstelle Döbeln\nKreuzstraße 2\n04720 Döbeln \n📝 Anmeldung\nBitte melden Sie sich direkt beim Caritasverband Meißen e.V. in der Kreuzstraße 2 an:\nTelefon +49 (0) 3431 / 72 97 941\nMail leben-im-alter@caritas-meissen.de \n📯 Ansprechpersonen Spektrum3000\nJohannes Fischer & Johannes Gersten\nMail: spektrum3000@treibhaus-doebeln.de\nWhatsApp & Telegram: +49 (0) 1575 / 0888 948\nFon: +49 (0) 3431 / 67 87 403 \nWir sind im Raum Döbeln\, Riesa und Oschatz für Sie unterwegs und wollen vor Ort mit unseren Angeboten die Medienkompetenz in Mittelsachsen stärken. Zu diesem Zweck bieten wir eine breite Auswahl an Veranstaltungen\, aus der Sie sich\, die für Sie passende\, auswählen können. Von Workshops & Kursen\, über Beratungsangebote\, bis hin zu Vorträgen können wir alles realisieren\, was Sie sich wünschen. Schauen Sie gern auf unsere Projektseite\, auch neue und individuelle Ideen können wir mit Ihnen angehen. \nDas Projekt Spektrum3000 wird von der Sächsischen Landesanstalt für privaten Rundfunk und neue Medien gefördert. In Kooperation mit dem Caritasverband\, Dekanat Meißen.
URL:https://treibhaus-doebeln.de/event/beratung-medien-kaffeeklatsch-fuer-erwachsene-8/
LOCATION:Caritasverband Meißen\, Kreuzstraße 2\, Döbeln\, Sachsen\, 04720\, Deutschland
CATEGORIES:Beratung,Diskussion
ATTACH;FMTTYPE=image/png:https://treibhaus-doebeln.de/wp-content/uploads/2024/12/Seniorin-und-Smartphone-pexels-ron-lach-7884140-1200x628px.jpg.png
END:VEVENT
BEGIN:VEVENT
DTSTART;TZID=Europe/Berlin:20250911T173000
DTEND;TZID=Europe/Berlin:20250911T200000
DTSTAMP:20260423T102052
CREATED:20250114T130523Z
LAST-MODIFIED:20250114T131834Z
UID:16664-1757611800-1757620800@treibhaus-doebeln.de
SUMMARY:Diskussion: #05 Mediencheck Döbeln
DESCRIPTION:Am 11. September treffen wir uns zum fünften Mediencheck Stammtisch in Döbeln. Jeden zweiten Donnerstag aller zwei Monate treffen wir uns und wollen kritisch-konstruktiv über die Medienwelt ins Gespräch kommen. Zur Debatte stehen immer aktuelle Themen aus der Nachrichtenwelt\, neue Entwicklungen oder auch politische Dimensionen. \n⏰ Zeit\n11. September\n17:30 – 20:00 Uhr \n🏡 Ort\nCafé Courage\nBahnhofstraße 56\n04720 Döbeln \n📝 Anmeldung\nWir bitten um vorherige Anmeldung (Siehe unten).\n \n📯 Ansprechpersonen\nJohannes Fischer & Johannes Gersten\nMail: spektrum3000@treibhaus-doebeln.de\nWhatsApp & Telegram: +49 (0) 1575 / 0888 948\nFon: +49 (0) 3431 / 67 87 403 \nWir sind im Raum Döbeln\, Riesa und Oschatz für Sie unterwegs und wollen vor Ort mit unseren Angeboten die Medienkompetenz in Mittelsachsen stärken. Zu diesem Zweck bieten wir eine breite Auswahl an Veranstaltungen\, aus der Sie sich\, die für Sie passende\, auswählen können. Von Workshops & Kursen\, über Beratungsangebote\, bis hin zu Vorträgen können wir alles realisieren\, was Sie sich wünschen. Schauen Sie gern auf unsere Projektseite\, auch neue und individuelle Ideen können wir mit Ihnen angehen. \nDas Projekt Spektrum3000 wird von der Sächsischen Landesmedienanstalt gefördert.
URL:https://treibhaus-doebeln.de/event/diskussion-05-mediencheck-doebeln/
LOCATION:Café Courage\, Bahnhofstraße 56\, Döbeln\, Sachsen\, 04720\, Deutschland
CATEGORIES:Diskussion,Gespräch
ATTACH;FMTTYPE=image/jpeg:https://treibhaus-doebeln.de/wp-content/uploads/2024/12/Lehrkraefte-Fortbildung-Neue-Medien-scaled.jpg
END:VEVENT
BEGIN:VEVENT
DTSTART;TZID=Europe/Berlin:20250913T200000
DTEND;TZID=Europe/Berlin:20250913T220000
DTSTAMP:20260423T102052
CREATED:20250729T125257Z
LAST-MODIFIED:20250904T092142Z
UID:17643-1757793600-1757800800@treibhaus-doebeln.de
SUMMARY:Punkrocktresen Show: Grafi | Final Effort
DESCRIPTION:Grafi vereint düsteren Metal mit tiefgründigem Rap und schafft damit einen einzigartigen Sound zwischen Abgrund und Emotion. Seine Musik bewegt sich zwischen Isolation und Intensität – beeinflusst von Black Metal\, Trap und Post-Rock. Als „einsamer Wolf wider Willen“ bewegt er sich zwischen den Szenen und bricht bewusst mit Genregrenzen. Wer sich auf Grafi einlässt\, hört keine einfache Musik – sondern eine Katharsis. \nFinal Effort aus Leipzig liefern kompromisslosen Hardcore/Punk mit Wut im Bauch und Herz in der Brust. Ihre Songs verbinden rohe Energie mit komplexen Strukturen und bleiben dabei stets melodisch und druckvoll. Zwischen Aggression und Emotion erschaffen sie ihren ganz eigenen Sound jenseits einfacher Schubladen. Wer echten DIY-Geist und intensive Liveshows sucht\, wird bei Final Effort fündig.
URL:https://treibhaus-doebeln.de/event/punkrocktresen-show-grafi-final-effort/
LOCATION:Café Courage\, Bahnhofstraße 56\, Döbeln\, Sachsen\, 04720\, Deutschland
CATEGORIES:Konzert,Musik
ATTACH;FMTTYPE=image/jpeg:https://treibhaus-doebeln.de/wp-content/uploads/2025/07/TH_WEBSITESLIDER.jpg
END:VEVENT
BEGIN:VEVENT
DTSTART;TZID=Europe/Berlin:20250915T150000
DTEND;TZID=Europe/Berlin:20250915T180000
DTSTAMP:20260423T102052
CREATED:20250818T115056Z
LAST-MODIFIED:20250818T115056Z
UID:17774-1757948400-1757959200@treibhaus-doebeln.de
SUMMARY:Schauspiel Workshop „Ich bin da“
DESCRIPTION:Ein Ort\, an dem du einfach sein darfst – mit deiner Stimme\, deinem Körper\, deiner Geschichte. In diesem Workshop öffnen wir einen sicheren Raum für Entdeckung\, Spiel und Begegnung. \nMit Übungen zu Bewegung\, Mimik und Gestik erforschen wir\, wie sich Emotionen ohne Worte ausdrücken lassen. Wir improvisieren\, lachen\, experimentieren – und schaffen Momente\, in denen echter Kontakt entsteht. \nHier gibt es kein „richtig“ oder „falsch“ – nur die Freude\, dich selbst zu erleben und anderen auf neue Weise zu begegnen.
URL:https://treibhaus-doebeln.de/event/schauspiel-workshop-ich-bin-da/
LOCATION:Café Courage\, Bahnhofstraße 56\, Döbeln\, Sachsen\, 04720\, Deutschland
CATEGORIES:Workshop
ORGANIZER;CN="Treibhaus e.V. D%C3%B6beln":MAILTO:info@treibhaus-doebeln.de
END:VEVENT
BEGIN:VEVENT
DTSTART;TZID=Europe/Berlin:20250916T143000
DTEND;TZID=Europe/Berlin:20250916T163000
DTSTAMP:20260423T102052
CREATED:20250314T083030Z
LAST-MODIFIED:20250314T083030Z
UID:17143-1758033000-1758040200@treibhaus-doebeln.de
SUMMARY:Siebdruckworkshop: NAUTICAL PRINTING
DESCRIPTION:In diesem Workshop möchten wir gemeinsam Siebdruck ausprobieren\, kreativ sein und dabei noch wunderschöne Prints auf Stoff und Papier herstellen\, die sich super verschenken lassen. \nBei unseren Workshops kannst du aus einer großen Auswahl an Druckträgern und Motiven wählen\, die wir zum Thema vorbereiten. Der Teilnahmebeitrag liegt bei 15-25 € pro Person (5-10 € Ermäßigt)\, zusätzlich zahlst du nur\, was du auch wirklich verdruckst. Du musst nichts vorbereiten und brauchst auch keine Vorkenntnisse\, nur etwas Zeit und Lust zum Experimentieren! \nDu willst dabei sein? Dann melde dich an\, die Teilnehmer*innenanzahl ist begrenzt! \nBeginn: 14.30 Uhr\nEnde: ca. 16.30 Uhr \nBezahlung ist vor Ort in bar möglich oder per PayPal. \nAnmeldung\nJulia Kaden\nMail: siebdruck@treibhaus-doebeln.de\nFon: +49 (0) 3431 / 60 52 978
URL:https://treibhaus-doebeln.de/event/siebdruckworkshop-nautical-printing-10/
LOCATION:Café Courage\, Bahnhofstraße 56\, Döbeln\, Sachsen\, 04720\, Deutschland
CATEGORIES:Kunst,Kurs,Siebdruck,Workshop
ATTACH;FMTTYPE=image/jpeg:https://treibhaus-doebeln.de/wp-content/uploads/2025/03/FB-scaled.jpg
ORGANIZER;CN="Treibhaus e.V. D%C3%B6beln":MAILTO:info@treibhaus-doebeln.de
END:VEVENT
BEGIN:VEVENT
DTSTART;TZID=Europe/Berlin:20250923T143000
DTEND;TZID=Europe/Berlin:20250923T163000
DTSTAMP:20260423T102052
CREATED:20250314T083306Z
LAST-MODIFIED:20250314T083306Z
UID:17148-1758637800-1758645000@treibhaus-doebeln.de
SUMMARY:Siebdruckworkshop: NAUTICAL PRINTING
DESCRIPTION:In diesem Workshop möchten wir gemeinsam Siebdruck ausprobieren\, kreativ sein und dabei noch wunderschöne Prints auf Stoff und Papier herstellen\, die sich super verschenken lassen. \nBei unseren Workshops kannst du aus einer großen Auswahl an Druckträgern und Motiven wählen\, die wir zum Thema vorbereiten. Der Teilnahmebeitrag liegt bei 15-25 € pro Person (5-10 € Ermäßigt)\, zusätzlich zahlst du nur\, was du auch wirklich verdruckst. Du musst nichts vorbereiten und brauchst auch keine Vorkenntnisse\, nur etwas Zeit und Lust zum Experimentieren! \nDu willst dabei sein? Dann melde dich an\, die Teilnehmer*innenanzahl ist begrenzt! \nBeginn: 14.30 Uhr\nEnde: ca. 16.30 Uhr \nBezahlung ist vor Ort in bar möglich oder per PayPal. \nAnmeldung\nJulia Kaden\nMail: siebdruck@treibhaus-doebeln.de\nFon: +49 (0) 3431 / 60 52 978
URL:https://treibhaus-doebeln.de/event/siebdruckworkshop-nautical-printing-12/
LOCATION:Café Courage\, Bahnhofstraße 56\, Döbeln\, Sachsen\, 04720\, Deutschland
CATEGORIES:Kunst,Kurs,Siebdruck,Workshop
ATTACH;FMTTYPE=image/jpeg:https://treibhaus-doebeln.de/wp-content/uploads/2025/03/FB-scaled.jpg
ORGANIZER;CN="Treibhaus e.V. D%C3%B6beln":MAILTO:info@treibhaus-doebeln.de
END:VEVENT
BEGIN:VEVENT
DTSTART;TZID=Europe/Berlin:20250923T173000
DTEND;TZID=Europe/Berlin:20250923T193000
DTSTAMP:20260423T102052
CREATED:20250314T083352Z
LAST-MODIFIED:20250314T083352Z
UID:17149-1758648600-1758655800@treibhaus-doebeln.de
SUMMARY:Siebdruckworkshop: NAUTICAL PRINTING
DESCRIPTION:In diesem Workshop möchten wir gemeinsam Siebdruck ausprobieren\, kreativ sein und dabei noch wunderschöne Prints auf Stoff und Papier herstellen\, die sich super verschenken lassen. \nBei unseren Workshops kannst du aus einer großen Auswahl an Druckträgern und Motiven wählen\, die wir zum Thema vorbereiten. Der Teilnahmebeitrag liegt bei 15-25 € pro Person (5-10 € Ermäßigt)\, zusätzlich zahlst du nur\, was du auch wirklich verdruckst. Du musst nichts vorbereiten und brauchst auch keine Vorkenntnisse\, nur etwas Zeit und Lust zum Experimentieren! \nDu willst dabei sein? Dann melde dich an\, die Teilnehmer*innenanzahl ist begrenzt! \nBeginn: 17.30 Uhr\nEnde: ca. 19.30 Uhr \nBezahlung ist vor Ort in bar möglich oder per PayPal. \nAnmeldung\nJulia Kaden\nMail: siebdruck@treibhaus-doebeln.de\nFon: +49 (0) 3431 / 60 52 978
URL:https://treibhaus-doebeln.de/event/siebdruckworkshop-nautical-printing-13/
LOCATION:Café Courage\, Bahnhofstraße 56\, Döbeln\, Sachsen\, 04720\, Deutschland
CATEGORIES:Kunst,Kurs,Siebdruck,Workshop
ATTACH;FMTTYPE=image/jpeg:https://treibhaus-doebeln.de/wp-content/uploads/2025/03/FB-scaled.jpg
ORGANIZER;CN="Treibhaus e.V. D%C3%B6beln":MAILTO:info@treibhaus-doebeln.de
END:VEVENT
BEGIN:VEVENT
DTSTART;TZID=Europe/Berlin:20250924T183000
DTEND;TZID=Europe/Berlin:20250924T193000
DTSTAMP:20260423T102052
CREATED:20250821T092945Z
LAST-MODIFIED:20250821T092945Z
UID:17810-1758738600-1758742200@treibhaus-doebeln.de
SUMMARY:Provinzplenum
DESCRIPTION:Was willst du in deiner Region verändern? \nWelche Ideen hast du\, Kultur in deiner Stadt mitzugestalten? \nWas braucht es\, um das Hinterland ein bisschen aufzurütteln? \nUnd wie kann der Treibhaus e.V. dabei helfen? \nIn unserer offenen Sitzung diskutieren wir über den Verein\, gemeinsame Aktionen und Pläne. Selbstverständlich musst du auch nicht zwingend ein Mitglied sein\, um Vorschläge einzubringen. Gleichzeitig wollen wir euch über Neuerungen und Vorgänge aus dem Team informieren und die Möglichkeit geben\, diese mitzuentscheiden. Werdet aktiv und beteiligt euch!
URL:https://treibhaus-doebeln.de/event/provinzplenum-42/
LOCATION:Café Courage\, Bahnhofstraße 56\, Döbeln\, Sachsen\, 04720\, Deutschland
CATEGORIES:Austausch
ATTACH;FMTTYPE=image/jpeg:https://treibhaus-doebeln.de/wp-content/uploads/2022/08/2022_Provinzplenum-Webiste.jpg
ORGANIZER;CN="Treibhaus e.V. D%C3%B6beln":MAILTO:info@treibhaus-doebeln.de
END:VEVENT
BEGIN:VEVENT
DTSTART;TZID=Europe/Berlin:20250926T140000
DTEND;TZID=Europe/Berlin:20250926T180000
DTSTAMP:20260423T102052
CREATED:20250819T082740Z
LAST-MODIFIED:20250821T104357Z
UID:17794-1758895200-1758909600@treibhaus-doebeln.de
SUMMARY:Rezept meiner Herkunft – Schreiben über Essen\, Erinnerung und Identität
DESCRIPTION:**weitere Sprachen unten** **more languages below** **інші мови нижче** ** العربية انظر أدناه** \nBeginn: 14.00 Uhr \nEnde: 18.00 Uhr \nOrt: KreativWerk (Industriestraße 1\, Döbeln) \n\nAnmeldungen an: kultur@treibhaus-doebeln.de \n  \n\nWas wurde bei euch aufgetischt? Was hat Essen mit unserem Leben zu tun? Ist Essen politisch? Und wie klingt ein Gericht\, nach dem man sich sehnt? \nIn diesem Schreibworkshop dreht sich alles um Essen. Wir schreiben über Gerichte\, die uns geprägt haben\, über Gerüche\, Routinen und Erinnerungen. Essen bringt uns an Orte zurück\, die wir hinter uns gelassen haben und zu Menschen\, nach denen wir uns sehnen. \nAnhand angeleiteter Übungen nähern wir uns Themen wie Alltag\, Stolz\, Scham und der Weitergabe von Wissen. Dabei geht es nicht um perfekte Texte\, sondern um das Entdecken der eigenen Geschichte und Perspektive. Wir arbeiten mit sinnlichen Impulsen – Gerüchen\, Zutaten\, Bildern – und betrachten\, wie unser Kindheitsessen mit gesellschaftlichen Themen wie Sprache\, Rollenbildern und kulturellem Erbe verbunden ist. \nEssen ist persönlich und politisch: Wer kocht? Wer isst mit? Was fehlt? \nFür wen? \nDer Workshop ist offen für alle ab 16 Jahren\, besonders eingeladen sind Menschen mit eigener oder familiärer Migrationsgeschichte. Du kannst in jeder Sprache schreiben – der Workshop wird auf Deutsch gehalten\, spontane Verdolmetschung auf Russisch und Englisch ist möglich. \nSchreiberfahrung ist nicht nötig – Neugier reicht völlig! \n  \nУкраїнська \nЩо вам подавали на стіл? Яке відношення має їжа до нашого життя? Чи є їжа політичною? І як звучить страва\, якої ви прагнете?\nЦей семінар з письма присвячений їжі. Ми пишемо про страви\, які нас сформували\, про запахи\, звички та спогади. Їжа повертає нас у місця\, які ми залишили позаду\, і до людей\, за якими ми сумуємо.\nЗа допомогою керованих вправ ми наближаємося до таких тем\, як повсякденне життя\, гордість\, сором і передача знань. При цьому йдеться не про досконалі тексти\, а про відкриття власної історії та перспективи. Ми працюємо з чуттєвими імпульсами – запахами\, інгредієнтами\, зображеннями – і розглядаємо\, як їжа нашого дитинства пов’язана з такими соціальними темами\, як мова\, рольові моделі та культурна спадщина.\nЇжа є особистим і політичним питанням: хто готує? Хто їсть? Чого бракує? \nДля кого? \nСемінар відкритий для всіх від 16 років\, особливо запрошуються люди з власною або сімейною історією міграції. Ти можеш писати будь-якою мовою – семінар проводиться німецькою мовою\, можливий спонтанний переклад російською та англійською мовами. \nДосвід письма не обов’язковий – достатньо лише цікавості! \n  \n\nعربي \nالورشة مفتوحة لجميع الأشخاص الذين تزيد أعمارهم عن 16 عامًا، وخاصةً الأشخاص الذين لديهم تاريخ هجرة شخصي أو عائلي. يمكنك الكتابة بأي لغة – ستُعقد الورشة باللغة الألمانية، ويمكن توفير ترجمة فورية باللغتين الروسية والإنجليزية. \nليس من الضروري أن تكون لديك خبرة في الكتابة – يكفي أن تكون لديك رغبة في التعلم! \nماذا تم تقديمه على مائدتكم؟ ما علاقة الطعام بحياتنا؟ هل الطعام سياسي؟ وكيف يبدو الطبق الذي تشتهونه؟ \nتدور ورشة الكتابة هذه حول الطعام. نكتب عن الأطباق التي أثرت فينا، عن الروائح والروتين والذكريات. الطعام يعيدنا إلى الأماكن التي تركناها وراءنا وإلى الأشخاص الذين نشتاق إليهم. \nمن خلال تمارين موجهة، نتطرق إلى موضوعات مثل الحياة اليومية والفخر والخجل ونقل المعرفة. لا يتعلق الأمر هنا بكتابة نصوص مثالية، بل باكتشاف قصتنا الخاصة ومنظورنا الخاص. نعمل مع محفزات حسية – الروائح والمكونات والصور – وننظر في كيفية ارتباط طعام طفولتنا بموضوعات اجتماعية مثل اللغة ونماذج الأدوار والتراث الثقافي. \nالطعام أمر شخصي وسياسي: من يطبخ؟ من يأكل؟ ما الذي ينقص؟ \n  \nWhat was served at your table? What does food have to do with our lives? Is food political? And what does a dish you crave sound like? \nThis writing workshop is all about food. We write about dishes that have shaped us\, about smells\, routines\, and memories. Food takes us back to places we have left behind and to people we long for. \nThrough guided exercises\, we will explore topics such as everyday life\, pride\, shame\, and the passing on of knowledge. The focus is not on perfect texts\, but on discovering our own stories and perspectives. We will work with sensory stimuli—smells\, ingredients\, images—and consider how the food of our childhood is connected to social issues such as language\, role models\, and cultural heritage. \nFood is personal and political: Who cooks? Who eats with us? What is missing? \nFor whom? \nThe workshop is open to everyone aged 16 and over\, with a special invitation to people with their own or family migration history. You can write in any language – the workshop will be held in German\, with spontaneous interpretation into Russian and English available.
URL:https://treibhaus-doebeln.de/event/rezept-meiner-herkunft-schreiben-ueber-essen-erinnerung-und-identitaet/
LOCATION:KreativWerk\, Industriestraße 1\, Döbeln\, Sachsen\, 04720\, Germany
CATEGORIES:Austausch,Begegnung,Workshop
ATTACH;FMTTYPE=image/jpeg:https://treibhaus-doebeln.de/wp-content/uploads/2025/08/IMG_20250821_113759_182.jpg
END:VEVENT
BEGIN:VEVENT
DTSTART;TZID=Europe/Berlin:20250926T150000
DTEND;TZID=Europe/Berlin:20250926T180000
DTSTAMP:20260423T102052
CREATED:20250116T114749Z
LAST-MODIFIED:20250116T114749Z
UID:16774-1758898800-1758909600@treibhaus-doebeln.de
SUMMARY:Offene Siebdruckwerkstatt
DESCRIPTION:Der Treibhaus e.V. beherbergt eine gut ausgestattete Siebdruckwerkstatt und lädt regelmäßig zur offenen Siebdruckwerkstatt ein. \nDie offene Siebdruckwerkstatt öffnet einmal im Monat von 15:00 bis 18:00 Uhr ihre Türen. Ihr habt die Möglichkeit vorbeizukommen\, Fragen zu stellen oder selbst Sachen zu bedrucken. Es gibt immer eine große Auswahl an Motiven und Druckträgern vor Ort. Auf Anfrage können auch individuelle Motive gedruckt werden – kontaktiert uns dazu bitte im Voraus. \nBitte beachtet\, dass im Juli und August keine offene Werkstatt stattfindet. Ihr könnt aber jederzeit einen Termin außerhalb der genannten Daten vereinbaren. \nÖffnungszeiten\n15.00 – 18.00 Uhr\n2. Etage // Bahnhofstraße 56 \nKontakt\nJulia Kaden\nMail: siebdruck@treibhaus-doebeln.de\nFon: +49 (0) 3431 / 60 52 978
URL:https://treibhaus-doebeln.de/event/offene-siebdruckwerkstatt-85/
LOCATION:2. OG Siebdruckwerkstatt\, Bahnhofstraße 56\, Döbeln\, Sachsen\, 04720\, Germany
CATEGORIES:Kunst,Kurs,Siebdruck
ATTACH;FMTTYPE=image/jpeg:https://treibhaus-doebeln.de/wp-content/uploads/2025/01/FB_HP-scaled.jpg
ORGANIZER;CN="Treibhaus e.V. D%C3%B6beln":MAILTO:info@treibhaus-doebeln.de
END:VEVENT
BEGIN:VEVENT
DTSTART;TZID=Europe/Berlin:20250926T190000
DTEND;TZID=Europe/Berlin:20250926T210000
DTSTAMP:20260423T102052
CREATED:20250730T075719Z
LAST-MODIFIED:20250909T123342Z
UID:17659-1758913200-1758920400@treibhaus-doebeln.de
SUMMARY:Lesung & Gespräch "My Migrant Mama"
DESCRIPTION:Das Buch „Mama Superstar“ porträtiert elf mutige »Migrant Mamas« aus der Sicht ihrer deutschen Töchter\, es geht um bedingungslose Liebe\, kulturelle Vielfalt und gelebte Integration. Mit diesem Buch feiern Töchter ihre Mütter: Frauen\, die von überall auf der Welt nach Deutschland gekommen sind\, um hier eine neue Heimat zu finden. \nDas Team von „My Migrant Mama“ versucht dazu beizutragen\, der migrantischen Künstlerinnen Community mehr Sichtbarkeit zu ermöglichen und möchte Migration aus einer neuen Perspektive betrachten. Dabei sprechen sie über Sprache\, Arbeit\, Kultur\, Bildung\, Mütter\, Töchter\, Integration und vieles mehr. \nDie Autorinnen Melisa & Manik\, sind Gewinnerinnen des Deutschen Integrationspreises und wurden von der Bundesregierung als Kultur- und Kreativpilotinnen ausgezeichnet. \nZur Autorin: \nMelisa Manrique (sie/ihr) wurde in Lima geboren und wuchs in Rom auf – Migration war also schon immer Teil ihrer Geschichte. Der Mut ihrer Eltern\, ohne soziales Netz oder Sprachkenntnisse ein neues Leben zu beginnen\, inspirierte sie nachhaltig. Seit einem Jahrzehnt lebt sie in Berlin\, ist selbst stolze Migrant- \nMama und als Mitgründerin der Organisation “My Migrant Mama” setzt sie sich für die Sichtbarkeit und Selbstermächtigung von FLINTA*s mit Migrationsgeschichte ein. Mit ihrer Arbeit schafft sie kreative Plattformen für Dialog und interkulturellen Austausch und feiert Vielfalt als eine Stärke. Als Speakerin und Aktivistin inspiriert sie durch persönliche Geschichten und innovative Formate\, die Mut machen und Brücken bauen. \nDie Veranstaltung findet im Rahmen der Interkulturellen Woche PRISMA 2025 statt. \nTipp: Ihr seid eingeladen etwas Kleines zu essen aus eurem Heimatland mit zur Lesung zu bringen. 
URL:https://treibhaus-doebeln.de/event/lesung-gespraech-my-migrant-mama/
LOCATION:Café Courage\, Bahnhofstraße 56\, Döbeln\, Sachsen\, 04720\, Deutschland
CATEGORIES:Austausch,Begegnung,Buchvorstellung,Lesung
ATTACH;FMTTYPE=image/jpeg:https://treibhaus-doebeln.de/wp-content/uploads/2025/07/MMM_Slider.jpg
END:VEVENT
BEGIN:VEVENT
DTSTART;TZID=Europe/Berlin:20250927T140000
DTEND;TZID=Europe/Berlin:20250927T160000
DTSTAMP:20260423T102052
CREATED:20250731T121301Z
LAST-MODIFIED:20250731T141852Z
UID:17676-1758981600-1758988800@treibhaus-doebeln.de
SUMMARY:Stadtrundgang: Zwangsmigration unterm Hakenkreuz
DESCRIPTION:Historischer Stadtrundgang: Zwangsmigration unterm Hakenkreuz – Kriegsgefangene und Zwangsarbeiter*innen während der Zeit des Nationalsozialismus in Döbeln \nDer historische Stadtrundgang der AG Geschichte des Treibhaus e.V. befasst sich diesmal schwerpunktmäßig mit der Zwangsmigration von Kriegsgefangenen und Zwangsarbeiter*innen. Immerhin lebten von 1942 – 1945 knapp 2000 Menschen mit unterschiedlichsten Nationalitäten zwischen den Döbelner*innen. Pol*innen\, Russ*innen\, Ukrainer*innen\, Franzos*innen\, Belgier*innen\, Amerikaner*innen\, Brit*innen\, Serb*innen und Tschechen*innen bildeten fast 10 Prozent der städtischen Bevölkerung. Dabei wurden nicht alle „Arbeitskräfte“ kasernenartig untergebracht\, sondern waren über das gesamte Stadtbild verteilt. Grund genug uns auf die Spuren der Menschen zu machen\, die in Döbeln zur Arbeit gezwungen wurden. Auch das Kriegsende und Flucht und Vertreibung werden im Rahmen des Rundganges eine Rolle spielen. \n  \nEintritt frei\, um Spenden wird gebeten. \n  \nZeit \n27.09.2025 \nBeginn: 14.00 Uhr \nEnde: 16.30 Uhr \nOrt \nTreffpunkt: Café Courage \nBahnhofstraße 56 \n04720 Döbeln \nAnmeldung \nkeine Anmeldung erforderlich
URL:https://treibhaus-doebeln.de/event/stadtrundgang-zwangsmigration-unterm-hakenkreuz/
LOCATION:Café Courage\, Bahnhofstraße 56\, Döbeln\, Sachsen\, 04720\, Deutschland
CATEGORIES:Historischer Stadtrundgang
ATTACH;FMTTYPE=image/jpeg:https://treibhaus-doebeln.de/wp-content/uploads/2025/07/Stadtrundgang.jpg
END:VEVENT
END:VCALENDAR