BEGIN:VCALENDAR
VERSION:2.0
PRODID:-//Treibhaus Döbeln - ECPv6.15.13//NONSGML v1.0//EN
CALSCALE:GREGORIAN
METHOD:PUBLISH
X-ORIGINAL-URL:https://treibhaus-doebeln.de
X-WR-CALDESC:Veranstaltungen für Treibhaus Döbeln
REFRESH-INTERVAL;VALUE=DURATION:PT1H
X-Robots-Tag:noindex
X-PUBLISHED-TTL:PT1H
BEGIN:VTIMEZONE
TZID:Europe/Berlin
BEGIN:DAYLIGHT
TZOFFSETFROM:+0100
TZOFFSETTO:+0200
TZNAME:CEST
DTSTART:20250330T010000
END:DAYLIGHT
BEGIN:STANDARD
TZOFFSETFROM:+0200
TZOFFSETTO:+0100
TZNAME:CET
DTSTART:20251026T010000
END:STANDARD
BEGIN:DAYLIGHT
TZOFFSETFROM:+0100
TZOFFSETTO:+0200
TZNAME:CEST
DTSTART:20260329T010000
END:DAYLIGHT
BEGIN:STANDARD
TZOFFSETFROM:+0200
TZOFFSETTO:+0100
TZNAME:CET
DTSTART:20261025T010000
END:STANDARD
BEGIN:DAYLIGHT
TZOFFSETFROM:+0100
TZOFFSETTO:+0200
TZNAME:CEST
DTSTART:20270328T010000
END:DAYLIGHT
BEGIN:STANDARD
TZOFFSETFROM:+0200
TZOFFSETTO:+0100
TZNAME:CET
DTSTART:20271031T010000
END:STANDARD
END:VTIMEZONE
BEGIN:VEVENT
DTSTART;TZID=Europe/Berlin:20260606T100000
DTEND;TZID=Europe/Berlin:20260606T140000
DTSTAMP:20260425T164907
CREATED:20260423T092841Z
LAST-MODIFIED:20260423T092841Z
UID:19109-1780740000-1780754400@treibhaus-doebeln.de
SUMMARY:Mitgliedervollversammlung 2026
DESCRIPTION:Am Samstag\, den 06. Juni\, von 10.00 bis 14.00 Uhr findet unsere Mitgliedervollversammlung im Café Courage statt.\n\nEs ist Zeit\, alte Freunde und Bekannte des Treibhaus e.V. wieder zutreffen! Die diesjährige Mitgliedervollversammlung ist die Gelegenheit dafür! Außerdem kannst du dich dort über aktuelle Geschehnisse und die Entwicklung des Vereins in den letzten 2 Jahren informieren\, eigene Punkte einbringen und den neuen Vorstand wählen. Für ein gemeinsames Mittagessen und den Plausch danach ist ebenfalls Zeit vorhanden\, da wir uns dieses Jahr glücklicherweise wieder in Präsenz treffen können.\n\nEingeladen sind Vereinsmitglieder sowie Freundinnen und Freunde des Vereins.\n\nAm Abend findet dann noch das Quizcafé statt\, zu dem alle herzlich eingeladen sind.
URL:https://treibhaus-doebeln.de/event/mitgliedervollversammlung-2026/
LOCATION:Café Courage\, Bahnhofstraße 56\, Döbeln\, Sachsen\, 04720\, Deutschland
CATEGORIES:Austausch,Begegnung,Beratung,Fortbildung,Information
ATTACH;FMTTYPE=image/png:https://treibhaus-doebeln.de/wp-content/uploads/2026/04/TH_WEBSITESLIDER-3.png
ORGANIZER;CN="Treibhaus e.V. D%C3%B6beln":MAILTO:info@treibhaus-doebeln.de
END:VEVENT
BEGIN:VEVENT
DTSTART;TZID=Europe/Berlin:20260612T190000
DTEND;TZID=Europe/Berlin:20260612T220000
DTSTAMP:20260425T164907
CREATED:20260423T095718Z
LAST-MODIFIED:20260423T122122Z
UID:19113-1781290800-1781301600@treibhaus-doebeln.de
SUMMARY:Szenische Lesung: „Ein Morgen vor Lampedusa“
DESCRIPTION:Vor der italienischen\, zwischen Sizilien und Afrika gelegenen Insel Lampedusa versinkt am 3. Oktober 2013 ein mit 545 Flüchtlingen völlig überladener Kutter. 366 von ihnen ertrinken: Menschen aus Eritrea\, Somalia\, Äthiopien und Syrien\, die vor Krieg und Armut flohen\, voller Hoffnung auf ein besseres Leben in Europa. \nDer Autor\, Antonio Umberto Riccó\, hat aus Zeugenaussagen und dokumentarischem Material einen erschütternden Text entwickelt\, der unterschiedliche Perspektiven auf die Katastrophe eröffnet und insbesondere die Einwohner von Lampedusa eindringlich zu Wort kommen lässt. Aufgeführt vom Theaterkollektiv Miranda. \nDie Lesung lädt dazu ein\, sich intensiv mit den Ereignissen auseinanderzusetzen und Raum für eigenes Nachdenken über Flucht\, Grenzen und Menschlichkeit zu öffnen. \n  \nWo: Café Courage Bahnhofstraße 56\, 04720 Döbeln\nWann: 12. Juni  19.00 Uhr \nDu hast Fragen? Dann melde dich gerne unter:  info[at]treibhaus-doebeln.de \n 
URL:https://treibhaus-doebeln.de/event/szenische-lesung-ein-morgen-vor-lampedusa/
LOCATION:Café Courage\, Bahnhofstraße 56\, Döbeln\, Sachsen\, 04720\, Deutschland
CATEGORIES:Austausch,Begegnung,Beratung,Diskussion,Lesung
ATTACH;FMTTYPE=image/png:https://treibhaus-doebeln.de/wp-content/uploads/2026/04/Lesung-zum-Thema-Unglueck-2013.png
ORGANIZER;CN="Treibhaus e.V. D%C3%B6beln":MAILTO:info@treibhaus-doebeln.de
END:VEVENT
BEGIN:VEVENT
DTSTART;TZID=Europe/Berlin:20260616T143000
DTEND;TZID=Europe/Berlin:20260616T163000
DTSTAMP:20260425T164907
CREATED:20260107T100812Z
LAST-MODIFIED:20260107T100812Z
UID:18437-1781620200-1781627400@treibhaus-doebeln.de
SUMMARY:Siebdruckworkshop: SUMMER PRINTING
DESCRIPTION:In diesem Workshop möchten wir gemeinsam Siebdruck ausprobieren\, kreativ sein und dabei noch wunderschöne Prints auf Stoff und Papier herstellen\, die sich super verschenken lassen. \nBei unseren Workshops kannst du aus einer großen Auswahl an Druckträgern und Motiven wählen\, die wir zum Thema vorbereiten. Der Teilnahmebeitrag liegt bei 15-25 € pro Person (5-10 € Ermäßigt)\, zusätzlich zahlst du nur\, was du auch wirklich verdruckst. Du musst nichts vorbereiten und brauchst auch keine Vorkenntnisse\, nur etwas Zeit und Lust zum Experimentieren! \nDu willst dabei sein? Dann melde dich an\, die Teilnehmer*innenanzahl ist begrenzt! \nBeginn: 14.30 Uhr\nEnde: ca. 16.30 Uhr \nBezahlung ist vor Ort in bar möglich oder per PayPal. \nAnmeldung\nJulia Kaden\nMail: siebdruck@treibhaus-doebeln.de\nFon: +49 (0) 3431 / 60 52 978
URL:https://treibhaus-doebeln.de/event/siebdruckworkshop-summer-printing-12/
LOCATION:Café Courage\, Bahnhofstraße 56\, Döbeln\, Sachsen\, 04720\, Deutschland
CATEGORIES:Kunst,Kurs,Siebdruck,Workshop
ATTACH;FMTTYPE=image/jpeg:https://treibhaus-doebeln.de/wp-content/uploads/2026/01/FB-2-scaled.jpg
ORGANIZER;CN="Treibhaus e.V. D%C3%B6beln":MAILTO:info@treibhaus-doebeln.de
END:VEVENT
BEGIN:VEVENT
DTSTART;TZID=Europe/Berlin:20260616T173000
DTEND;TZID=Europe/Berlin:20260616T193000
DTSTAMP:20260425T164907
CREATED:20260107T100754Z
LAST-MODIFIED:20260107T100754Z
UID:18436-1781631000-1781638200@treibhaus-doebeln.de
SUMMARY:Siebdruckworkshop: SUMMER PRINTING
DESCRIPTION:In diesem Workshop möchten wir gemeinsam Siebdruck ausprobieren\, kreativ sein und dabei noch wunderschöne Prints auf Stoff und Papier herstellen\, die sich super verschenken lassen. \nBei unseren Workshops kannst du aus einer großen Auswahl an Druckträgern und Motiven wählen\, die wir zum Thema vorbereiten. Der Teilnahmebeitrag liegt bei 15-25 € pro Person (5-10 € Ermäßigt)\, zusätzlich zahlst du nur\, was du auch wirklich verdruckst. Du musst nichts vorbereiten und brauchst auch keine Vorkenntnisse\, nur etwas Zeit und Lust zum Experimentieren! \nDu willst dabei sein? Dann melde dich an\, die Teilnehmer*innenanzahl ist begrenzt! \nBeginn: 17.30 Uhr\nEnde: ca. 19.30 Uhr \nBezahlung ist vor Ort in bar möglich oder per PayPal. \nAnmeldung\nJulia Kaden\nMail: siebdruck@treibhaus-doebeln.de\nFon: +49 (0) 3431 / 60 52 978
URL:https://treibhaus-doebeln.de/event/siebdruckworkshop-summer-printing-11/
LOCATION:Café Courage\, Bahnhofstraße 56\, Döbeln\, Sachsen\, 04720\, Deutschland
CATEGORIES:Kunst,Kurs,Siebdruck,Workshop
ATTACH;FMTTYPE=image/jpeg:https://treibhaus-doebeln.de/wp-content/uploads/2026/01/FB-2-scaled.jpg
ORGANIZER;CN="Treibhaus e.V. D%C3%B6beln":MAILTO:info@treibhaus-doebeln.de
END:VEVENT
BEGIN:VEVENT
DTSTART;TZID=Europe/Berlin:20260623T143000
DTEND;TZID=Europe/Berlin:20260623T163000
DTSTAMP:20260425T164907
CREATED:20260107T100856Z
LAST-MODIFIED:20260107T100856Z
UID:18442-1782225000-1782232200@treibhaus-doebeln.de
SUMMARY:Siebdruckworkshop: SUMMER PRINTING
DESCRIPTION:In diesem Workshop möchten wir gemeinsam Siebdruck ausprobieren\, kreativ sein und dabei noch wunderschöne Prints auf Stoff und Papier herstellen\, die sich super verschenken lassen. \nBei unseren Workshops kannst du aus einer großen Auswahl an Druckträgern und Motiven wählen\, die wir zum Thema vorbereiten. Der Teilnahmebeitrag liegt bei 15-25 € pro Person (5-10 € Ermäßigt)\, zusätzlich zahlst du nur\, was du auch wirklich verdruckst. Du musst nichts vorbereiten und brauchst auch keine Vorkenntnisse\, nur etwas Zeit und Lust zum Experimentieren! \nDu willst dabei sein? Dann melde dich an\, die Teilnehmer*innenanzahl ist begrenzt! \nBeginn: 14.30 Uhr\nEnde: ca. 16.30 Uhr \nBezahlung ist vor Ort in bar möglich oder per PayPal. \nAnmeldung\nJulia Kaden\nMail: siebdruck@treibhaus-doebeln.de\nFon: +49 (0) 3431 / 60 52 978
URL:https://treibhaus-doebeln.de/event/siebdruckworkshop-summer-printing-14/
LOCATION:Café Courage\, Bahnhofstraße 56\, Döbeln\, Sachsen\, 04720\, Deutschland
CATEGORIES:Kunst,Kurs,Siebdruck,Workshop
ATTACH;FMTTYPE=image/jpeg:https://treibhaus-doebeln.de/wp-content/uploads/2026/01/FB-2-scaled.jpg
ORGANIZER;CN="Treibhaus e.V. D%C3%B6beln":MAILTO:info@treibhaus-doebeln.de
END:VEVENT
BEGIN:VEVENT
DTSTART;TZID=Europe/Berlin:20260623T173000
DTEND;TZID=Europe/Berlin:20260623T193000
DTSTAMP:20260425T164907
CREATED:20260107T100849Z
LAST-MODIFIED:20260107T100849Z
UID:18441-1782235800-1782243000@treibhaus-doebeln.de
SUMMARY:Siebdruckworkshop: SUMMER PRINTING
DESCRIPTION:In diesem Workshop möchten wir gemeinsam Siebdruck ausprobieren\, kreativ sein und dabei noch wunderschöne Prints auf Stoff und Papier herstellen\, die sich super verschenken lassen. \nBei unseren Workshops kannst du aus einer großen Auswahl an Druckträgern und Motiven wählen\, die wir zum Thema vorbereiten. Der Teilnahmebeitrag liegt bei 15-25 € pro Person (5-10 € Ermäßigt)\, zusätzlich zahlst du nur\, was du auch wirklich verdruckst. Du musst nichts vorbereiten und brauchst auch keine Vorkenntnisse\, nur etwas Zeit und Lust zum Experimentieren! \nDu willst dabei sein? Dann melde dich an\, die Teilnehmer*innenanzahl ist begrenzt! \nBeginn: 17.30 Uhr\nEnde: ca. 19.30 Uhr \nBezahlung ist vor Ort in bar möglich oder per PayPal. \nAnmeldung\nJulia Kaden\nMail: siebdruck@treibhaus-doebeln.de\nFon: +49 (0) 3431 / 60 52 978
URL:https://treibhaus-doebeln.de/event/siebdruckworkshop-summer-printing-13/
LOCATION:Café Courage\, Bahnhofstraße 56\, Döbeln\, Sachsen\, 04720\, Deutschland
CATEGORIES:Kunst,Kurs,Siebdruck,Workshop
ATTACH;FMTTYPE=image/jpeg:https://treibhaus-doebeln.de/wp-content/uploads/2026/01/FB-2-scaled.jpg
ORGANIZER;CN="Treibhaus e.V. D%C3%B6beln":MAILTO:info@treibhaus-doebeln.de
END:VEVENT
BEGIN:VEVENT
DTSTART;TZID=Europe/Berlin:20260626T150000
DTEND;TZID=Europe/Berlin:20260626T180000
DTSTAMP:20260425T164907
CREATED:20251219T084320Z
LAST-MODIFIED:20251219T084828Z
UID:18362-1782486000-1782496800@treibhaus-doebeln.de
SUMMARY:Offene Siebdruckwerkstatt
DESCRIPTION:Offene Siebdruckwerkstatt\nDer Treibhaus e.V. beherbergt eine gut ausgestattete Siebdruckwerkstatt und lädt regelmäßig zur offenen Siebdruckwerkstatt ein. \nDie offene Siebdruckwerkstatt öffnet einmal im Monat von 15:00 bis 18:00 Uhr ihre Türen. Ihr habt die Möglichkeit vorbeizukommen\, Fragen zu stellen oder selbst Sachen zu bedrucken. Es gibt immer eine große Auswahl an Motiven und Druckträgern vor Ort. Auf Anfrage können auch individuelle Motive gedruckt werden – kontaktiert uns dazu bitte im Voraus. \nBitte beachtet\, dass im Juli und August keine offene Werkstatt stattfindet. Ihr könnt aber jederzeit einen Termin außerhalb der genannten Daten vereinbaren. \nÖffnungszeiten\n15.00 – 18.00 Uhr\n2. Etage // Bahnhofstraße 56 \nKontakt\nJulia Kaden\nMail: siebdruck@treibhaus-doebeln.de\nFon: +49 (0) 3431 / 60 52 978
URL:https://treibhaus-doebeln.de/event/offene-siebdruckwerkstatt-94/
LOCATION:2. OG Siebdruckwerkstatt\, Bahnhofstraße 56\, Döbeln\, Sachsen\, 04720\, Germany
CATEGORIES:Kunst,Kurs,Siebdruck
ATTACH;FMTTYPE=image/jpeg:https://treibhaus-doebeln.de/wp-content/uploads/2025/01/FB_HP-scaled.jpg
ORGANIZER;CN="Treibhaus e.V. D%C3%B6beln":MAILTO:info@treibhaus-doebeln.de
END:VEVENT
BEGIN:VEVENT
DTSTART;TZID=Europe/Berlin:20260627T100000
DTEND;TZID=Europe/Berlin:20260627T150000
DTSTAMP:20260425T164907
CREATED:20260423T083318Z
LAST-MODIFIED:20260423T113421Z
UID:19106-1782554400-1782572400@treibhaus-doebeln.de
SUMMARY:Schreibworkshop: WUT SCHREIBEN
DESCRIPTION:In unserem Schreibworkshop geben wir der Wut Raum und Ausdruck.\nWir nähern uns ihr schreibend an\, erforschen ihre unterschiedlichen Facetten und fragen\, was sie mit Solidarität zu tun hat und warum sie nicht ohne Zärtlichkeit auskommt. \nDurch angeleitete Einzel- und Gruppenübungen entstehen Texte\, die persönlich\, politisch oder poetisch sein können. Dabei geht es nicht um „richtig“ oder „gut“\, sondern um den eigenen Ausdruck und das gemeinsame Erleben. \nDer Workshop bietet einen geschützten Raum für Austausch\, Reflexion und kreatives Ausprobieren. Vorkenntnisse sind nicht erforderlich. \nTeilnahmegebühr: 5€\nAnmeldung: melde dich vorab per E-Mail an unter: kultur[at]treibhaus-doebeln.de \nWann: 27. Juni 10.00 – 15.00 Uhr\nWo: Café Courage Bahnhofstraße 56\, 04720 Döbeln \nFür die Teilnehmenden wird ein gemeinsames Mittagessen bereitgestellt.
URL:https://treibhaus-doebeln.de/event/schreibworkshop-wut-schreiben/
LOCATION:Café Courage\, Bahnhofstraße 56\, Döbeln\, Sachsen\, 04720\, Deutschland
CATEGORIES:Austausch,Gespräch,Kreativ,Workshop
ATTACH;FMTTYPE=image/png:https://treibhaus-doebeln.de/wp-content/uploads/2026/04/Schreibworkshop-Wut.png
ORGANIZER;CN="Treibhaus e.V. D%C3%B6beln":MAILTO:info@treibhaus-doebeln.de
END:VEVENT
BEGIN:VEVENT
DTSTART;TZID=Europe/Berlin:20260820T090000
DTEND;TZID=Europe/Berlin:20260820T160000
DTSTAMP:20260425T164907
CREATED:20260205T140925Z
LAST-MODIFIED:20260211T121125Z
UID:18696-1787216400-1787241600@treibhaus-doebeln.de
SUMMARY:Workshop: Neue Plattformen\, altes Handwerk - Filme\, Videos und Onlineclips kennen und nutzen
DESCRIPTION:Workshop: Neue Plattformen\, altes Handwerk – Filme\, Videos und Onlineclips kennen und nutzen\nYouTube\, Instagram\, TikTok…das Internet ist voll von Videos. Aber sind das auch Filme? Und was ist da eigentlich der Unterschied? In diesem Workshop lernen Sie\, wie das Medium Film heutzutage für (Online-)Kommunikation und -Marketing genutzt wird. Sie verstehen was Film im Gegensatz zu anderen Medien als Ausdrucksform besonders macht und wie Sie selbst aktiv werden können. \nDer Workshop teilt sich in einen theoretischen Teil\, in dem Grundlagen der (Online-)Kommunikation und des Filmhandwerks vermittelt werden und in eine praktische Phase\, in der Sie sich selbst ausprobieren können. \n⏰ Zeit\n20. August\nBeginn: 9:00 Uhr\nEnde: 16:00 Uhr \n🏡 Ort\nCafé Courage\nBahnhofstraße 56\n04720 Döbeln\n \n📝Anmeldung\nEine Anmeldung bei uns ist unbedingt erforderlich! Die Plätze sind begrenzt. \n📯 Ansprechpersonen\nJohannes Fischer & Johannes Gersten\nMail: spektrum3000@treibhaus-doebeln.de\nWhatsApp & Telegram: +49 (0) 1575 / 0888 948\nFon: +49 (0) 3431 / 67 87 403 \nWir sind im Raum Döbeln\, Riesa und Oschatz für Sie unterwegs und wollen vor Ort mit unseren Angeboten die Medienkompetenz in Mittelsachsen stärken. Zu diesem Zweck bieten wir eine breite Auswahl an Veranstaltungen\, aus der Sie sich\, die für Sie passende\, auswählen können. Von Workshops & Kursen\, über Beratungsangebote\, bis hin zu Vorträgen können wir alles realisieren\, was Sie sich wünschen. Schauen Sie gern auf unsere Projektseite\, auch neue und individuelle Ideen können wir mit Ihnen angehen. \nDas Projekt Spektrum3000 wird von der Sächsischen Landesmedienanstalt gefördert.
URL:https://treibhaus-doebeln.de/event/workshop-neue-plattformen-altes-handwerk-filme-videos-und-onlineclips-kennen-und-nutzen-7/
LOCATION:Café Courage\, Bahnhofstraße 56\, Döbeln\, Sachsen\, 04720\, Deutschland
CATEGORIES:Film,Projekt,Workshop
ATTACH;FMTTYPE=image/png:https://treibhaus-doebeln.de/wp-content/uploads/2023/07/Frauen-im-Film-Website.png
END:VEVENT
BEGIN:VEVENT
DTSTART;TZID=Europe/Berlin:20260925T150000
DTEND;TZID=Europe/Berlin:20260925T180000
DTSTAMP:20260425T164907
CREATED:20251219T085444Z
LAST-MODIFIED:20251219T085444Z
UID:18364-1790348400-1790359200@treibhaus-doebeln.de
SUMMARY:Offene Siebdruckwerkstatt
DESCRIPTION:Offene Siebdruckwerkstatt\nDer Treibhaus e.V. beherbergt eine gut ausgestattete Siebdruckwerkstatt und lädt regelmäßig zur offenen Siebdruckwerkstatt ein. \nDie offene Siebdruckwerkstatt öffnet einmal im Monat von 15:00 bis 18:00 Uhr ihre Türen. Ihr habt die Möglichkeit vorbeizukommen\, Fragen zu stellen oder selbst Sachen zu bedrucken. Es gibt immer eine große Auswahl an Motiven und Druckträgern vor Ort. Auf Anfrage können auch individuelle Motive gedruckt werden – kontaktiert uns dazu bitte im Voraus. \nBitte beachtet\, dass im Juli und August keine offene Werkstatt stattfindet. Ihr könnt aber jederzeit einen Termin außerhalb der genannten Daten vereinbaren. \nÖffnungszeiten\n15.00 – 18.00 Uhr\n2. Etage // Bahnhofstraße 56 \nKontakt\nJulia Kaden\nMail: siebdruck@treibhaus-doebeln.de\nFon: +49 (0) 3431 / 60 52 978
URL:https://treibhaus-doebeln.de/event/offene-siebdruckwerkstatt-95/
LOCATION:2. OG Siebdruckwerkstatt\, Bahnhofstraße 56\, Döbeln\, Sachsen\, 04720\, Germany
CATEGORIES:Kunst,Kurs,Siebdruck
ATTACH;FMTTYPE=image/jpeg:https://treibhaus-doebeln.de/wp-content/uploads/2025/01/FB_HP-scaled.jpg
ORGANIZER;CN="Treibhaus e.V. D%C3%B6beln":MAILTO:info@treibhaus-doebeln.de
END:VEVENT
BEGIN:VEVENT
DTSTART;TZID=Europe/Berlin:20261029T100000
DTEND;TZID=Europe/Berlin:20261029T160000
DTSTAMP:20260425T164907
CREATED:20260205T134156Z
LAST-MODIFIED:20260211T120447Z
UID:18678-1793268000-1793289600@treibhaus-doebeln.de
SUMMARY:Workshop: Keine Angst vor Medien - Wie Journalismus wirklich funktioniert
DESCRIPTION:Workshop: Keine Angst vor Medien – Wie Journalismus wirklich funktioniert\nMit “Presse” bezeichnen wir eigentlich die klassischen gedruckten Zeitungen und Zeitschriften. Aber Presse ist auch Journalismus und deshalb aus Fernsehen\, Radio und Internet nicht mehr wegzudenken. Wie arbeiten Journalistinnen und Journalisten? Wie kommt eine Information in die Zeitung oder eine Nachricht ins Fernsehen? Kann ich mit meinem Thema eine Redaktion überzeugen\, darüber zu berichten? \nViele dieser Fragen stellen sich nicht nur Verbraucher*innen\, sondern auch Vereine\, Verbände und Engagierte. In diesem praxisnahen Workshop lernen Sie Hintergründe der journalistischen Arbeit kennen und wie Sie souverän mit der Presse umgehen können. Um das Gelernte zu festigen\, wird auch das Agieren in Interviewsituationen erprobt und geschaut\, wie eine gute Pressemitteilung geschrieben wird. \n⏰ Zeit\n29. Oktober\nBeginn: 10:00 Uhr\nEnde: 16:00 Uhr \n🏡 Ort\nCafé Courage\nBahnhofstraße 56\n04720 Döbeln \n📝 Anmeldung\nEine Anmeldung ist unbedingt erforderlich. \n📯 Ansprechpersonen\nJohannes Fischer & Johannes Gersten\nMail: spektrum3000@treibhaus-doebeln.de\nWhatsApp & Telegram: +49 (0) 1575 / 0888 948\nFon: +49 (0) 3431 / 67 87 403 \nWir sind im Raum Döbeln\, Riesa und Oschatz für euch unterwegs und wollen vor Ort mit unseren Angeboten die Medienkompetenz in Mittelsachsen stärken. Zu diesem Zweck bieten wir eine breite Auswahl an Veranstaltungen\, aus der ihr euch\, die für euch passende\, auswählen könnt. Von Workshops & Kursen\, über Beratungsangebote\, bis hin zu Vorträgen können wir alles realisieren\, was ihr euch wünscht. Schaut gern auf unsere Projektseite\, auch neue und individuelle Ideen können wir mit Euch angehen etc. \nDas Projekt Spektrum3000 wird von der Sächsischen Landesmedienanstalt gefördert.
URL:https://treibhaus-doebeln.de/event/abgsagt-workshop-keine-angst-vor-medien-wie-journalismus-wirklich-funktioniert/
LOCATION:Café Courage\, Bahnhofstraße 56\, Döbeln\, Sachsen\, 04720\, Deutschland
CATEGORIES:Fortbildung,Seminar,Workshop
ATTACH;FMTTYPE=image/png:https://treibhaus-doebeln.de/wp-content/uploads/2023/06/Interview_web.png
END:VEVENT
BEGIN:VEVENT
DTSTART;TZID=Europe/Berlin:20261030T150000
DTEND;TZID=Europe/Berlin:20261030T180000
DTSTAMP:20260425T164907
CREATED:20251219T085503Z
LAST-MODIFIED:20251219T085503Z
UID:18365-1793372400-1793383200@treibhaus-doebeln.de
SUMMARY:Offene Siebdruckwerkstatt
DESCRIPTION:Offene Siebdruckwerkstatt\nDer Treibhaus e.V. beherbergt eine gut ausgestattete Siebdruckwerkstatt und lädt regelmäßig zur offenen Siebdruckwerkstatt ein. \nDie offene Siebdruckwerkstatt öffnet einmal im Monat von 15:00 bis 18:00 Uhr ihre Türen. Ihr habt die Möglichkeit vorbeizukommen\, Fragen zu stellen oder selbst Sachen zu bedrucken. Es gibt immer eine große Auswahl an Motiven und Druckträgern vor Ort. Auf Anfrage können auch individuelle Motive gedruckt werden – kontaktiert uns dazu bitte im Voraus. \nBitte beachtet\, dass im Juli und August keine offene Werkstatt stattfindet. Ihr könnt aber jederzeit einen Termin außerhalb der genannten Daten vereinbaren. \nÖffnungszeiten\n15.00 – 18.00 Uhr\n2. Etage // Bahnhofstraße 56 \nKontakt\nJulia Kaden\nMail: siebdruck@treibhaus-doebeln.de\nFon: +49 (0) 3431 / 60 52 978
URL:https://treibhaus-doebeln.de/event/offene-siebdruckwerkstatt-96/
LOCATION:2. OG Siebdruckwerkstatt\, Bahnhofstraße 56\, Döbeln\, Sachsen\, 04720\, Germany
CATEGORIES:Kunst,Kurs,Siebdruck
ATTACH;FMTTYPE=image/jpeg:https://treibhaus-doebeln.de/wp-content/uploads/2025/01/FB_HP-scaled.jpg
ORGANIZER;CN="Treibhaus e.V. D%C3%B6beln":MAILTO:info@treibhaus-doebeln.de
END:VEVENT
BEGIN:VEVENT
DTSTART;TZID=Europe/Berlin:20261127T150000
DTEND;TZID=Europe/Berlin:20261127T180000
DTSTAMP:20260425T164907
CREATED:20251219T085542Z
LAST-MODIFIED:20251219T085542Z
UID:18368-1795791600-1795802400@treibhaus-doebeln.de
SUMMARY:Offene Siebdruckwerkstatt
DESCRIPTION:Offene Siebdruckwerkstatt\nDer Treibhaus e.V. beherbergt eine gut ausgestattete Siebdruckwerkstatt und lädt regelmäßig zur offenen Siebdruckwerkstatt ein. \nDie offene Siebdruckwerkstatt öffnet einmal im Monat von 15:00 bis 18:00 Uhr ihre Türen. Ihr habt die Möglichkeit vorbeizukommen\, Fragen zu stellen oder selbst Sachen zu bedrucken. Es gibt immer eine große Auswahl an Motiven und Druckträgern vor Ort. Auf Anfrage können auch individuelle Motive gedruckt werden – kontaktiert uns dazu bitte im Voraus. \nBitte beachtet\, dass im Juli und August keine offene Werkstatt stattfindet. Ihr könnt aber jederzeit einen Termin außerhalb der genannten Daten vereinbaren. \nÖffnungszeiten\n15.00 – 18.00 Uhr\n2. Etage // Bahnhofstraße 56 \nKontakt\nJulia Kaden\nMail: siebdruck@treibhaus-doebeln.de\nFon: +49 (0) 3431 / 60 52 978
URL:https://treibhaus-doebeln.de/event/offene-siebdruckwerkstatt-97/
LOCATION:2. OG Siebdruckwerkstatt\, Bahnhofstraße 56\, Döbeln\, Sachsen\, 04720\, Germany
CATEGORIES:Kunst,Kurs,Siebdruck
ATTACH;FMTTYPE=image/jpeg:https://treibhaus-doebeln.de/wp-content/uploads/2025/01/FB_HP-scaled.jpg
ORGANIZER;CN="Treibhaus e.V. D%C3%B6beln":MAILTO:info@treibhaus-doebeln.de
END:VEVENT
BEGIN:VEVENT
DTSTART;TZID=Europe/Berlin:20261218T150000
DTEND;TZID=Europe/Berlin:20261218T180000
DTSTAMP:20260425T164907
CREATED:20251219T085550Z
LAST-MODIFIED:20251219T085550Z
UID:18369-1797606000-1797616800@treibhaus-doebeln.de
SUMMARY:Offene Siebdruckwerkstatt
DESCRIPTION:Offene Siebdruckwerkstatt\nDer Treibhaus e.V. beherbergt eine gut ausgestattete Siebdruckwerkstatt und lädt regelmäßig zur offenen Siebdruckwerkstatt ein. \nDie offene Siebdruckwerkstatt öffnet einmal im Monat von 15:00 bis 18:00 Uhr ihre Türen. Ihr habt die Möglichkeit vorbeizukommen\, Fragen zu stellen oder selbst Sachen zu bedrucken. Es gibt immer eine große Auswahl an Motiven und Druckträgern vor Ort. Auf Anfrage können auch individuelle Motive gedruckt werden – kontaktiert uns dazu bitte im Voraus. \nBitte beachtet\, dass im Juli und August keine offene Werkstatt stattfindet. Ihr könnt aber jederzeit einen Termin außerhalb der genannten Daten vereinbaren. \nÖffnungszeiten\n15.00 – 18.00 Uhr\n2. Etage // Bahnhofstraße 56 \nKontakt\nJulia Kaden\nMail: siebdruck@treibhaus-doebeln.de\nFon: +49 (0) 3431 / 60 52 978
URL:https://treibhaus-doebeln.de/event/offene-siebdruckwerkstatt-98/
LOCATION:2. OG Siebdruckwerkstatt\, Bahnhofstraße 56\, Döbeln\, Sachsen\, 04720\, Germany
CATEGORIES:Kunst,Kurs,Siebdruck
ATTACH;FMTTYPE=image/jpeg:https://treibhaus-doebeln.de/wp-content/uploads/2025/01/FB_HP-scaled.jpg
ORGANIZER;CN="Treibhaus e.V. D%C3%B6beln":MAILTO:info@treibhaus-doebeln.de
END:VEVENT
END:VCALENDAR