BEGIN:VCALENDAR
VERSION:2.0
PRODID:-//Treibhaus Döbeln - ECPv6.15.13//NONSGML v1.0//EN
CALSCALE:GREGORIAN
METHOD:PUBLISH
X-ORIGINAL-URL:https://treibhaus-doebeln.de
X-WR-CALDESC:Veranstaltungen für Treibhaus Döbeln
REFRESH-INTERVAL;VALUE=DURATION:PT1H
X-Robots-Tag:noindex
X-PUBLISHED-TTL:PT1H
BEGIN:VTIMEZONE
TZID:Europe/Berlin
BEGIN:DAYLIGHT
TZOFFSETFROM:+0100
TZOFFSETTO:+0200
TZNAME:CEST
DTSTART:20240331T010000
END:DAYLIGHT
BEGIN:STANDARD
TZOFFSETFROM:+0200
TZOFFSETTO:+0100
TZNAME:CET
DTSTART:20241027T010000
END:STANDARD
BEGIN:DAYLIGHT
TZOFFSETFROM:+0100
TZOFFSETTO:+0200
TZNAME:CEST
DTSTART:20250330T010000
END:DAYLIGHT
BEGIN:STANDARD
TZOFFSETFROM:+0200
TZOFFSETTO:+0100
TZNAME:CET
DTSTART:20251026T010000
END:STANDARD
BEGIN:DAYLIGHT
TZOFFSETFROM:+0100
TZOFFSETTO:+0200
TZNAME:CEST
DTSTART:20260329T010000
END:DAYLIGHT
BEGIN:STANDARD
TZOFFSETFROM:+0200
TZOFFSETTO:+0100
TZNAME:CET
DTSTART:20261025T010000
END:STANDARD
END:VTIMEZONE
BEGIN:VEVENT
DTSTART;TZID=Europe/Berlin:20250827T183000
DTEND;TZID=Europe/Berlin:20250827T200000
DTSTAMP:20260423T084949
CREATED:20250821T081347Z
LAST-MODIFIED:20250821T083832Z
UID:17807-1756319400-1756324800@treibhaus-doebeln.de
SUMMARY:Provinzplenum mit "GrowHub" und "Zeig mir deine Welt"
DESCRIPTION:Das Provinzplenum kommt zurück aus der Sommerpause und findet jetzt immer mittwochs statt. Dieses Mal stellen sich unsere neuen Projekte “GrowHub”und “Zeig mir deine Welt” vor. \nWas haben die Projekte vor? Wie kann man sich einbringen? Welche neuen Angebote gibt es? \nDas Provinzplenum ist ein offener Treff\, zu dem grundsätzlich jede*r willkommen ist. Wir wollen uns austauschen und gemeinsam überlegen\, wie wir Döbeln und die Region zu einem lebenswerteren Ort machen können. Dafür gibt es Getränke von der Bar\, gute Gesellschaft und manchmal schauen wir auch das ein oder andere lustige Video zusammen.
URL:https://treibhaus-doebeln.de/event/provinzplenum-mit-growhub-und-zeig-mir-deine-welt/
LOCATION:Café Courage\, Bahnhofstraße 56\, Döbeln\, Sachsen\, 04720\, Deutschland
CATEGORIES:Austausch,Begegnung
ATTACH;FMTTYPE=image/jpeg:https://treibhaus-doebeln.de/wp-content/uploads/2022/08/2022_Provinzplenum-Webiste.jpg
END:VEVENT
END:VCALENDAR