BEGIN:VCALENDAR
VERSION:2.0
PRODID:-//Treibhaus Döbeln - ECPv6.15.13//NONSGML v1.0//EN
CALSCALE:GREGORIAN
METHOD:PUBLISH
X-ORIGINAL-URL:https://treibhaus-doebeln.de
X-WR-CALDESC:Veranstaltungen für Treibhaus Döbeln
REFRESH-INTERVAL;VALUE=DURATION:PT1H
X-Robots-Tag:noindex
X-PUBLISHED-TTL:PT1H
BEGIN:VTIMEZONE
TZID:Europe/Berlin
BEGIN:DAYLIGHT
TZOFFSETFROM:+0100
TZOFFSETTO:+0200
TZNAME:CEST
DTSTART:20250330T010000
END:DAYLIGHT
BEGIN:STANDARD
TZOFFSETFROM:+0200
TZOFFSETTO:+0100
TZNAME:CET
DTSTART:20251026T010000
END:STANDARD
BEGIN:DAYLIGHT
TZOFFSETFROM:+0100
TZOFFSETTO:+0200
TZNAME:CEST
DTSTART:20260329T010000
END:DAYLIGHT
BEGIN:STANDARD
TZOFFSETFROM:+0200
TZOFFSETTO:+0100
TZNAME:CET
DTSTART:20261025T010000
END:STANDARD
BEGIN:DAYLIGHT
TZOFFSETFROM:+0100
TZOFFSETTO:+0200
TZNAME:CEST
DTSTART:20270328T010000
END:DAYLIGHT
BEGIN:STANDARD
TZOFFSETFROM:+0200
TZOFFSETTO:+0100
TZNAME:CET
DTSTART:20271031T010000
END:STANDARD
END:VTIMEZONE
BEGIN:VEVENT
DTSTART;TZID=Europe/Berlin:20260421T143000
DTEND;TZID=Europe/Berlin:20260421T163000
DTSTAMP:20260421T115908
CREATED:20260107T100342Z
LAST-MODIFIED:20260107T100342Z
UID:18424-1776781800-1776789000@treibhaus-doebeln.de
SUMMARY:Siebdruckworkshop: ANIMAL PRINTING
DESCRIPTION:In diesem Workshop möchten wir gemeinsam Siebdruck ausprobieren\, kreativ sein und dabei noch wunderschöne Prints auf Stoff und Papier herstellen\, die sich super verschenken lassen. \nBei unseren Workshops kannst du aus einer großen Auswahl an Druckträgern und Motiven wählen\, die wir zum Thema vorbereiten. Der Teilnahmebeitrag liegt bei 15-25 € pro Person (5-10 € Ermäßigt)\, zusätzlich zahlst du nur\, was du auch wirklich verdruckst. Du musst nichts vorbereiten und brauchst auch keine Vorkenntnisse\, nur etwas Zeit und Lust zum Experimentieren! \nDu willst dabei sein? Dann melde dich an\, die Teilnehmer*innenanzahl ist begrenzt! \nBeginn: 14.30 Uhr\nEnde: ca. 16.30 Uhr \nBezahlung ist vor Ort in bar möglich oder per PayPal. \nAnmeldung\nJulia Kaden\nMail: siebdruck@treibhaus-doebeln.de\nFon: +49 (0) 3431 / 60 52 978
URL:https://treibhaus-doebeln.de/event/siebdruckworkshop-animal-printing-12/
LOCATION:Café Courage\, Bahnhofstraße 56\, Döbeln\, Sachsen\, 04720\, Deutschland
CATEGORIES:Kunst,Kurs,Siebdruck,Workshop
ATTACH;FMTTYPE=image/jpeg:https://treibhaus-doebeln.de/wp-content/uploads/2026/01/FB-scaled.jpg
ORGANIZER;CN="Treibhaus e.V. D%C3%B6beln":MAILTO:info@treibhaus-doebeln.de
END:VEVENT
BEGIN:VEVENT
DTSTART;TZID=Europe/Berlin:20260421T173000
DTEND;TZID=Europe/Berlin:20260421T193000
DTSTAMP:20260421T115908
CREATED:20260107T100334Z
LAST-MODIFIED:20260107T100334Z
UID:18423-1776792600-1776799800@treibhaus-doebeln.de
SUMMARY:Siebdruckworkshop: ANIMAL PRINTING
DESCRIPTION:In diesem Workshop möchten wir gemeinsam Siebdruck ausprobieren\, kreativ sein und dabei noch wunderschöne Prints auf Stoff und Papier herstellen\, die sich super verschenken lassen. \nBei unseren Workshops kannst du aus einer großen Auswahl an Druckträgern und Motiven wählen\, die wir zum Thema vorbereiten. Der Teilnahmebeitrag liegt bei 15-25 € pro Person (5-10 € Ermäßigt)\, zusätzlich zahlst du nur\, was du auch wirklich verdruckst. Du musst nichts vorbereiten und brauchst auch keine Vorkenntnisse\, nur etwas Zeit und Lust zum Experimentieren! \nDu willst dabei sein? Dann melde dich an\, die Teilnehmer*innenanzahl ist begrenzt! \nBeginn: 17.30 Uhr\nEnde: ca. 19.30 Uhr \nBezahlung ist vor Ort in bar möglich oder per PayPal. \nAnmeldung\nJulia Kaden\nMail: siebdruck@treibhaus-doebeln.de\nFon: +49 (0) 3431 / 60 52 978
URL:https://treibhaus-doebeln.de/event/siebdruckworkshop-animal-printing-11/
LOCATION:Café Courage\, Bahnhofstraße 56\, Döbeln\, Sachsen\, 04720\, Deutschland
CATEGORIES:Kunst,Kurs,Siebdruck,Workshop
ATTACH;FMTTYPE=image/jpeg:https://treibhaus-doebeln.de/wp-content/uploads/2026/01/FB-scaled.jpg
ORGANIZER;CN="Treibhaus e.V. D%C3%B6beln":MAILTO:info@treibhaus-doebeln.de
END:VEVENT
BEGIN:VEVENT
DTSTART;TZID=Europe/Berlin:20260424T090000
DTEND;TZID=Europe/Berlin:20260424T150000
DTSTAMP:20260421T115908
CREATED:20260203T091732Z
LAST-MODIFIED:20260217T124543Z
UID:15409-1777021200-1777042800@treibhaus-doebeln.de
SUMMARY:ONLINEWORKSHOP: Kritisch bleiben! Dein Kompass im digitalen Informationsdschungel
DESCRIPTION:ONLINEWORKSHOP: Kritisch bleiben! Dein Kompass im digitalen Informationsdschungel\nIn einer Welt voller Schlagzeilen\, Falschmeldungen und immer neuer digitaler Entwicklungen den Überblick zu behalten\, ist nicht leicht. In diesem Grundlagenworkshop lernen Sie\, Risiken im Netz frühzeitig zu erkennen und Informationen gezielt zu prüfen. \nIm Mittelpunkt steht Ihre Sicherheit im digitalen Alltag:Wie erkennen Sie Fake News und betrügerische Inhalte? Woran merken Sie\, ob eine Quelle vertrauenswürdig ist? Und wie schützen Sie sich vor Spam\, Phishing oder anderen Betrugsmaschen? \nSie erfahren\, wie Sie verantwortungsvoll mit Ihren persönlichen Daten umgehen\, Ihre Persönlichkeitsrechte wahren und Informationsquellen kritisch hinterfragen. Schritt für Schritt entwickeln Sie mehr Sicherheit im Umgang mit der täglichen Medienvielfalt – verständlich erklärt und mit praxisnahen Beispielen. \nEin weiterer Schwerpunkt liegt auf Künstlicher Intelligenz:Welche Rolle spielt sie bei der Erstellung und Verbreitung von Informationen? Wo liegen Chancen – und wo sollten Sie besonders aufmerksam sein? \nErgänzend sprechen wir über medienethische Fragen und wirtschaftliche Machtstrukturen großer Technologiekonzerne („Big Tech“). Gemeinsam beleuchten wir\, welchen Einfluss internationale Plattformen auf Informationsflüsse\, Meinungsbildung und Märkte haben – und was das für Sie als Nutzerin oder Nutzer bedeutet. \n  \n⏰ Zeit\nBeginn: 9:00 Uhr \nEnde: 15:00 Uhr \n🏡 Ort\nDie Veranstaltung findet online statt. \nDen Zugang erhalten Sie nach erfolgreicher Anmeldung. \n📝 Anmeldung\nEine Anmeldung ist unbedingt erforderlich! \n📯 Ansprechpersonen Spektrum3000\nJohannes Fischer & Johannes Gersten\nMail: spektrum3000@treibhaus-doebeln.de\nWhatsApp & Telegram: +49 (0) 1575 / 0888 948\nFon: +49 (0) 3431 / 67 87 403 \nWir sind im Raum Döbeln\, Riesa und Oschatz für Sie unterwegs und wollen vor Ort mit unseren Angeboten die Medienkompetenz in Mittelsachsen stärken. Zu diesem Zweck bieten wir eine breite Auswahl an Veranstaltungen\, aus der Sie sich\, die für Sie passende\, auswählen können. Von Workshops & Kursen\, über Beratungsangebote\, bis hin zu Vorträgen können wir alles realisieren\, was Sie sich wünschen. Schauen Sie gern auf unsere Projektseite\, auch neue und individuelle Ideen können wir mit Ihnen angehen. \nDas Projekt Spektrum3000 wird von der Sächsischen Landesmedienanstalt gefördert. \n📅 Weitere Medienbildungsangebote finden Sie hier 📅
URL:https://treibhaus-doebeln.de/event/workshop-grundlagen-der-nutzung-neuer-medien-2/
LOCATION:Online
CATEGORIES:Fortbildung,Seminar,Workshop
ATTACH;FMTTYPE=image/png:https://treibhaus-doebeln.de/wp-content/uploads/2023/03/Smartphone-01.png
END:VEVENT
BEGIN:VEVENT
DTSTART;TZID=Europe/Berlin:20260424T150000
DTEND;TZID=Europe/Berlin:20260424T180000
DTSTAMP:20260421T115908
CREATED:20251219T084145Z
LAST-MODIFIED:20251219T085121Z
UID:18358-1777042800-1777053600@treibhaus-doebeln.de
SUMMARY:Offene Siebdruckwerkstatt
DESCRIPTION:Offene Siebdruckwerkstatt\nDer Treibhaus e.V. beherbergt eine gut ausgestattete Siebdruckwerkstatt und lädt regelmäßig zur offenen Siebdruckwerkstatt ein. \nDie offene Siebdruckwerkstatt öffnet einmal im Monat von 15:00 bis 18:00 Uhr ihre Türen. Ihr habt die Möglichkeit vorbeizukommen\, Fragen zu stellen oder selbst Sachen zu bedrucken. Es gibt immer eine große Auswahl an Motiven und Druckträgern vor Ort. Auf Anfrage können auch individuelle Motive gedruckt werden – kontaktiert uns dazu bitte im Voraus. \nBitte beachtet\, dass im Juli und August keine offene Werkstatt stattfindet. Ihr könnt aber jederzeit einen Termin außerhalb der genannten Daten vereinbaren. \nÖffnungszeiten\n15.00 – 18.00 Uhr\n2. Etage // Bahnhofstraße 56 \nKontakt\nJulia Kaden\nMail: siebdruck@treibhaus-doebeln.de\nFon: +49 (0) 3431 / 60 52 978
URL:https://treibhaus-doebeln.de/event/offene-siebdruckwerkstatt-92/
LOCATION:2. OG Siebdruckwerkstatt\, Bahnhofstraße 56\, Döbeln\, Sachsen\, 04720\, Germany
CATEGORIES:Kunst,Kurs,Siebdruck
ATTACH;FMTTYPE=image/jpeg:https://treibhaus-doebeln.de/wp-content/uploads/2025/01/FB_HP-scaled.jpg
ORGANIZER;CN="Treibhaus e.V. D%C3%B6beln":MAILTO:info@treibhaus-doebeln.de
END:VEVENT
BEGIN:VEVENT
DTSTART;TZID=Europe/Berlin:20260424T200000
DTEND;TZID=Europe/Berlin:20260424T200000
DTSTAMP:20260421T115908
CREATED:20260219T103353Z
LAST-MODIFIED:20260219T103716Z
UID:18973-1777060800-1777060800@treibhaus-doebeln.de
SUMMARY:Konzert: Morgan Finlay
DESCRIPTION:Konzert: Morgan Finlay \nMorgan Finlay ist ein irisch-kanadischer Singer-Songwriter aus Vancouver\, dessen kraftvolle Stimme\, starke Gitarrenarbeit und energiegeladener Erzählstil ihm eine treue Fangemeinde eingebracht haben. Seine professionelle Karriere begann 2002 in Toronto mit der Veröffentlichung seiner Debüt-EP ‚Uppercut‘ und der dazugehörigen Single ‚zensong‘ \, die Platz 2 der australischen Indie-Radio-Charts erreichte und zu seiner ersten Europatournee im Jahr 2005 führte. Sein gefühlvoller Folk-Pop-Stil verbindet die Introspektion von Jeff Buckley und Damien Rice mit dem radiotauglichen Charme von Bryan Adams. Als unabhängiger Künstler\, der eine enge Bindung zu seinen Fans pflegt\, wurde seine musikalische Reise durch die leidenschaftliche Unterstützung seiner Fans\, fünf erfolgreiche Crowdfunding Kampagnen\, die Fangruppe ‚Morgan Finlay Family‘ und seine florierende Patreon-Community ermöglicht. Über seine Musik hinaus ist Finlay für sein Engagement für Inklusion und soziale Belange bekannt\, darunter seine langjährige Zusammenarbeit mit der Lebenshilfe\, einer deutschlandweiten Organisation\, die Menschen mit besonderen Bedürfnissen unterstützt. Das Jahr 2026 wird für Finlay eines seiner bisher kreativsten sein\, vollgepackt mit verschiedenen Projekten und einer ganzen Reihe von Auftritten. Der Erfolg seiner Single ‚Looking For You‘ \, die zusammen mit einem animierten Kurzfilm von Christian Scharfenberg veröffentlicht wurde\, wird das Publikum auf der ganzen Welt weiterhin begeistern\, denn er wurde kürzlich bei den North London Shorts\, dem Canadian Independent Film Festival und vielen anderen Festivals ausgezeichnet. \nIm Februar erscheint seine neue CD ‚Notes of Normal‘ \, ein Album in voller Länge\, das von Jaimi Faulkner produziert wurde und von mehreren neuen Videos begleitet wird. Mehrere Songwriting-Expeditionen führen Finlay im Laufe des Jahres nach Spanien\, in die Niederlande und nach Norwegen. \nWann: 24.04. 20.00 Uhr\nWo: im Café Courage Bahnhofstraße 56. \n 
URL:https://treibhaus-doebeln.de/event/konzert-morgan-finlay-2/
LOCATION:Café Courage\, Bahnhofstraße 56\, Döbeln\, Sachsen\, 04720\, Deutschland
CATEGORIES:Konzert,Musik
ATTACH;FMTTYPE=image/png:https://treibhaus-doebeln.de/wp-content/uploads/2026/02/Morgan-Finlay.png
END:VEVENT
BEGIN:VEVENT
DTSTART;TZID=Europe/Berlin:20260425T150000
DTEND;TZID=Europe/Berlin:20260425T170000
DTSTAMP:20260421T115908
CREATED:20251219T100610Z
LAST-MODIFIED:20251219T100610Z
UID:18377-1777129200-1777136400@treibhaus-doebeln.de
SUMMARY:Workshop: LEGODRUCK
DESCRIPTION:Entdecke die kreative Welt des Legodrucks! In diesem Workshop erfährst du\, wie du aus flachen Lego-Steinen einzigartige Motive gestaltest und daraus farbenfrohe Kunstwerke druckst. Ob abstrakte Formen\, Tiere\, Blumen oder Schrift – deiner Kreativität sind kaum Grenzen gesetzt.\nEgal ob jung oder alt: Alle Kreativen sind herzlich eingeladen\, mit uns zu experimentieren und herauszufinden\, welche Spuren Lego auf dem Papier hinterlassen kann. \nDie Technik ist leicht zu erlernen\, macht viel Freude und erfordert keinerlei Vorkenntnisse.\nDer Teilnahmebeitrag liegt bei 5€ pro Person. \nDu willst dabei sein? Dann melde dich an\, die Teilnehmer*innenanzahl ist begrenzt! \nBeginn: 15.00 Uhr\nEnde: ca. 17.00 Uhr \nAnmeldung\nJulia Kaden\nMail: siebdruck@treibhaus-doebeln.de\nFon: +49 (0) 3431 / 60 52 978
URL:https://treibhaus-doebeln.de/event/workshop-legodruck-2/
LOCATION:Café Courage\, Bahnhofstraße 56\, Döbeln\, Sachsen\, 04720\, Deutschland
CATEGORIES:Kunst,Kurs,Workshop
ATTACH;FMTTYPE=image/jpeg:https://treibhaus-doebeln.de/wp-content/uploads/2025/12/FB-1-scaled.jpg
ORGANIZER;CN="Treibhaus e.V. D%C3%B6beln":MAILTO:info@treibhaus-doebeln.de
END:VEVENT
BEGIN:VEVENT
DTSTART;TZID=Europe/Berlin:20260428T150000
DTEND;TZID=Europe/Berlin:20260428T183000
DTSTAMP:20260421T115908
CREATED:20260219T104806Z
LAST-MODIFIED:20260219T104917Z
UID:18979-1777388400-1777401000@treibhaus-doebeln.de
SUMMARY:Workshop ICH BIN DA – Biografische Bühnenarbeit
DESCRIPTION:Workshop ICH BIN DA – Biografische Bühnenarbeit \nIn unserer Theaterwerkstatt treffen wir uns alle zwei Wochen dienstags\, um gemeinsam ein Theaterstück zu entwickeln und auf die Bühne zu bringen. Vom ersten Impuls über szenische Arbeit und Proben bis zur Aufführung begleiten wir den gesamten kreativen Prozess. Im Mittelpunkt stehen die Geschichten der Teilnehmenden\, das gemeinsame Spiel\, der Ausdruck auf der Bühne und das Entdecken eigener Stärken. Die regelmäßigen Treffen schaffen Raum zum Wachsen\, Ausprobieren und Vertiefen. Geleitet wird der Workshop vom Schauspieler und Regisseur Vladyslav Kalinichenko\, der die Teilnehmenden sensibel und professionell durch den Entstehungsprozess führt und so ein Stück entstehen lässt\, das wie ein Mosaik aus den individuellen Biografien der Beteiligten gewachsen ist. \nDu hast Lust mit zu machen? Dann melde dich an. \nAnmeldung: \nMail: sarah_wurdinger@treibhaus-doebeln.de\nFon: +49(0) 176 87 09 92 38 \nWeitere Termine: 12.05.\, 26.05.\, 09.06.\,23.06. …
URL:https://treibhaus-doebeln.de/event/workshop-ich-bin-da-biografische-buehnenarbeit/
LOCATION:KreativWerk\, Industriestraße 1\, Döbeln\, Sachsen\, 04720\, Germany
CATEGORIES:Austausch,Kreativ,Kunst,Theater
ATTACH;FMTTYPE=image/png:https://treibhaus-doebeln.de/wp-content/uploads/2026/02/Ich-bin-da-Schauspielworkshop.png
END:VEVENT
BEGIN:VEVENT
DTSTART;TZID=Europe/Berlin:20260428T170000
DTEND;TZID=Europe/Berlin:20260428T183000
DTSTAMP:20260421T115908
CREATED:20260205T112032Z
LAST-MODIFIED:20260211T121229Z
UID:18649-1777395600-1777401000@treibhaus-doebeln.de
SUMMARY:Workshop: Fit für's Ehrenamt - Medienberatung selbst gestalten - Teil 1
DESCRIPTION:Workshop: Fit für’s Ehrenamt – Medienberatung selbst gestalten – Teil 1\nDieser Vortrag ist der Auftakt einer kleinen Fortbildungsreihe und richtet sich an Ehrenamtliche\, die selbst einmal eine Medienberatung anbieten möchten. Sie haben hier die Möglichkeit sich zu informieren\, wie das Programm abläuft und können danach entscheiden\, ob Sie sich so ein Engagement vorstellen können. \nDie Fortbildungsreihe umfasst drei Veranstaltungen. Eine Informationsveranstaltung\, einen Workshop\, in dem die Teilnehmenden von uns geschult werden und eine Praxisveranstaltung bei der sie selbst eine Beratung durchführen. Bei der dritten Veranstaltung\, der ersten eigenen Beratung\, sind wir durchweg dabei\, um zu unterstützen\, aber auch um zu hospitieren und zu besprechen\, was gut lief und was verbessert werden kann. \nWir hoffen\, mit diesem Angebot Menschen motivieren zu können\, sich gegenseitig bei der Aneignung neuer Medien zu unterstützen und stark zu machen. \n⏰ Zeit\n28. April\n17:00 – 18:30 Uhr \n🏡 Ort\n\nCaritasverband für das Dekanat Meißen e.V.\, Geschäftsstelle Döbeln\nKreuzstraße 2\n04720 Döbeln \n\n📝 Anmeldung\nEine Anmeldung ist unbedingt erforderlich.\n \nBitte melden Sie sich direkt beim Caritasverband Meißen e.V. in der Kreuzstraße 2 an:\nTelefon +49 (0) 3431 / 72 97 941\nMail leben-im-alter@caritas-meissen.de \n📯 Ansprechpersonen\nJohannes Fischer & Johannes Gersten\nMail: spektrum3000@treibhaus-doebeln.de\nWhatsApp & Telegram: +49 (0) 1575 / 0888 948\nFon: +49 (0) 3431 / 67 87 403 \nWir sind im Raum Döbeln\, Riesa und Oschatz für Sie unterwegs und wollen vor Ort mit unseren Angeboten die Medienkompetenz in Mittelsachsen stärken. Zu diesem Zweck bieten wir eine breite Auswahl an Veranstaltungen\, aus der Sie sich\, die für Sie passende\, auswählen können. Von Workshops & Kursen\, über Beratungsangebote\, bis hin zu Vorträgen können wir alles realisieren\, was Sie sich wünschen. Schauen Sie gern auf unsere Projektseite\, auch neue und individuelle Ideen können wir mit Ihnen angehen. \nDas Projekt Spektrum3000 wird von der Sächsischen Landesmedienanstalt gefördert. In Kooperation mit dem Caritasverband für das Dekanat Meißen e.V.
URL:https://treibhaus-doebeln.de/event/workshop-fit-fuers-ehrenamt-medienberatung-selbst-gestalten-teil-1-2/
LOCATION:Caritasverband Meißen\, Kreuzstraße 2\, Döbeln\, Sachsen\, 04720\, Deutschland
CATEGORIES:Vortrag
ATTACH;FMTTYPE=image/png:https://treibhaus-doebeln.de/wp-content/uploads/2026/02/pexels-anna-shvets-5257346_Zuschnitt.png
END:VEVENT
BEGIN:VEVENT
DTSTART;TZID=Europe/Berlin:20260429T100000
DTEND;TZID=Europe/Berlin:20260429T153000
DTSTAMP:20260421T115908
CREATED:20260205T125637Z
LAST-MODIFIED:20260211T121221Z
UID:18659-1777456800-1777476600@treibhaus-doebeln.de
SUMMARY:Workshop: Fit für's Ehrenamt - Medienberatung selbst gestalten - Teil 2
DESCRIPTION:Workshop: Fit für’s Ehrenamt – Medienberatung selbst gestalten – Teil 2\nDieser Workshop ist der zweite Teil einer Fortbildungsreihe\, die Ehrenamtliche befähigen soll\, selbst Medienberatungen anbieten zu können. Wir vermitteln Ihnen alles notwendige Wissen\, damit Sie selbstständig aktiv werden können und bereiten Sie auf Ihr erstes eigenes Beratungsangebot vor. \nDie Fortbildungsreihe umfasst drei Veranstaltungen. Eine Informationsveranstaltung\, einen Workshop\, in dem die Teilnehmenden von uns geschult werden und eine Praxisveranstaltung bei der sie selbst eine Beratung durchführen. Bei der dritten Veranstaltung\, der ersten eigenen Beratung\, sind wir durchweg dabei\, um zu unterstützen\, aber auch um zu hospitieren und zu besprechen\, was gut lief und was verbessert werden kann. \nWir hoffen\, mit diesem Angebot Menschen motivieren zu können\, sich gegenseitig bei der Aneignung neuer Medien zu unterstützen und stark zu machen. \n⏰ Zeit\n29. April\n10:00 – 15:30 Uhr \n🏡 Ort\n\nStadtbibliothek Gröditz\nHauptstraße 17\n01609 Gröditz \n\n📝 Anmeldung\nEine Anmeldung ist unbedingt erforderlich.\n \nBitte melden Sie sich dazu direkt bei der Stadtbibliothek Gröditz an:\nTelefon +49 (0) 35263 / 67348\nMail bibo@groeditz.de \n📯 Ansprechpersonen\nJohannes Fischer & Johannes Gersten\nMail: spektrum3000@treibhaus-doebeln.de\nWhatsApp & Telegram: +49 (0) 1575 / 0888 948\nFon: +49 (0) 3431 / 67 87 403 \nWir sind im Raum Döbeln\, Riesa und Oschatz für Sie unterwegs und wollen vor Ort mit unseren Angeboten die Medienkompetenz in Mittelsachsen stärken. Zu diesem Zweck bieten wir eine breite Auswahl an Veranstaltungen\, aus der Sie sich\, die für Sie passende\, auswählen können. Von Workshops & Kursen\, über Beratungsangebote\, bis hin zu Vorträgen können wir alles realisieren\, was Sie sich wünschen. Schauen Sie gern auf unsere Projektseite\, auch neue und individuelle Ideen können wir mit Ihnen angehen. \nDas Projekt Spektrum3000 wird von der Sächsischen Landesmedienanstalt gefördert. In Kooperation mit der Stadtbibliothek Gröditz.
URL:https://treibhaus-doebeln.de/event/workshop-fit-fuers-ehrenamt-medienberatung-selbst-gestalten-teil-2-2/
LOCATION:Stadtbibliothek Gröditz\, Hauptstraße 17\, Gröditz\, Sachsen\, 01609\, Deutschland
CATEGORIES:Workshop
ATTACH;FMTTYPE=image/png:https://treibhaus-doebeln.de/wp-content/uploads/2026/02/pexels-anna-shvets-5257346_Zuschnitt.png
END:VEVENT
END:VCALENDAR