BEGIN:VCALENDAR
VERSION:2.0
PRODID:-//Treibhaus Döbeln - ECPv6.15.13//NONSGML v1.0//EN
CALSCALE:GREGORIAN
METHOD:PUBLISH
X-ORIGINAL-URL:https://treibhaus-doebeln.de
X-WR-CALDESC:Veranstaltungen für Treibhaus Döbeln
REFRESH-INTERVAL;VALUE=DURATION:PT1H
X-Robots-Tag:noindex
X-PUBLISHED-TTL:PT1H
BEGIN:VTIMEZONE
TZID:Europe/Berlin
BEGIN:DAYLIGHT
TZOFFSETFROM:+0100
TZOFFSETTO:+0200
TZNAME:CEST
DTSTART:20210328T010000
END:DAYLIGHT
BEGIN:STANDARD
TZOFFSETFROM:+0200
TZOFFSETTO:+0100
TZNAME:CET
DTSTART:20211031T010000
END:STANDARD
BEGIN:DAYLIGHT
TZOFFSETFROM:+0100
TZOFFSETTO:+0200
TZNAME:CEST
DTSTART:20220327T010000
END:DAYLIGHT
BEGIN:STANDARD
TZOFFSETFROM:+0200
TZOFFSETTO:+0100
TZNAME:CET
DTSTART:20221030T010000
END:STANDARD
BEGIN:DAYLIGHT
TZOFFSETFROM:+0100
TZOFFSETTO:+0200
TZNAME:CEST
DTSTART:20230326T010000
END:DAYLIGHT
BEGIN:STANDARD
TZOFFSETFROM:+0200
TZOFFSETTO:+0100
TZNAME:CET
DTSTART:20231029T010000
END:STANDARD
END:VTIMEZONE
BEGIN:VEVENT
DTSTART;TZID=Europe/Berlin:20220510T080000
DTEND;TZID=Europe/Berlin:20220510T170000
DTSTAMP:20260423T054350
CREATED:20220510T132616Z
LAST-MODIFIED:20220510T132641Z
UID:11922-1652169600-1652202000@treibhaus-doebeln.de
SUMMARY:Skatehalle: GIRLSDAY
DESCRIPTION:Skatehalle: GIRLSDAY\nJeden Montag von 16.00 bis 19.00 Uhr findet das Skaten für Mädchen und FLINTA* statt. Die Skatehalle befindet sich in der Rossweiner Straße in Döbeln. Für alle\, die noch keine eigenen Skateboards besitzen\, werden welche bereitgestellt. Die Teilnahme an den Workshops ist kostenfrei und erfolgt auf eigene Gefahr. \nKontakt\nWerkStadt\nIsabell Wiehmert & Leon Grünig\nMail: werkstadt[at]treibhaus-doebeln.de\nFon: +49 (0) 176 / 87099238
URL:https://treibhaus-doebeln.de/event/skatehalle-girlsday-2/
LOCATION:Skatehalle\, Roßweiner Straße\, Döbeln\, Sachsen\, 04720\, Deutschland
CATEGORIES:Workshop
ATTACH;FMTTYPE=image/jpeg:https://treibhaus-doebeln.de/wp-content/uploads/2022/05/SKATE-GIRLVeranstaltung-scaled.jpg
ORGANIZER;CN="Treibhaus e.V. D%C3%B6beln":MAILTO:info@treibhaus-doebeln.de
END:VEVENT
BEGIN:VEVENT
DTSTART;TZID=Europe/Berlin:20220510T160000
DTEND;TZID=Europe/Berlin:20220510T190000
DTSTAMP:20260423T054350
CREATED:20220506T143006Z
LAST-MODIFIED:20220509T124353Z
UID:11872-1652198400-1652209200@treibhaus-doebeln.de
SUMMARY:Skatehalle: OPEN BOARDS
DESCRIPTION:Skateworkshop OPEN BOARDS\nJeden Dienstag von 16.00 – 19.00 Uhr findet das Skaten für Alle statt. Die Skatehalle befindet sich in der Rossweiner Straße in Döbeln. Für alle\, die noch keine eigenen Skateboards besitzen\, werden welche bereitgestellt. Die Teilnahme an den Workshops ist kostenfrei und erfolgt auf eigene Gefahr. \nKontakt\nWerkStadt\nIsabell Wiehmert & Leon Grünig\nMail: werkstadt[at]treibhaus-doebeln.de\nFon: +49 (0) 176 / 87099238
URL:https://treibhaus-doebeln.de/event/skateworkshop-open-boards-2/
LOCATION:Treibhaus e.V.\, Bahnhofstraße 56\, Döbeln\, Sachsen\, 04720\, Deutschland
CATEGORIES:Workshop
ATTACH;FMTTYPE=image/jpeg:https://treibhaus-doebeln.de/wp-content/uploads/2022/04/Websiteslider_SFD-scaled.jpg
ORGANIZER;CN="Treibhaus e.V. D%C3%B6beln":MAILTO:info@treibhaus-doebeln.de
END:VEVENT
BEGIN:VEVENT
DTSTART;TZID=Europe/Berlin:20220516T160000
DTEND;TZID=Europe/Berlin:20220516T190000
DTSTAMP:20260423T054350
CREATED:20220506T124653Z
LAST-MODIFIED:20220510T132513Z
UID:11823-1652716800-1652727600@treibhaus-doebeln.de
SUMMARY:Skatehalle: GIRLSDAY
DESCRIPTION:Skatehalle: GIRLSDAY\nJeden Montag von 16.00 bis 19.00 Uhr findet das Skaten für Mädchen und FLINTA* statt. Die Skatehalle befindet sich in der Rossweiner Straße in Döbeln. Für alle\, die noch keine eigenen Skateboards besitzen\, werden welche bereitgestellt. Die Teilnahme an den Workshops ist kostenfrei und erfolgt auf eigene Gefahr. \nKontakt\nWerkStadt\nIsabell Wiehmert & Leon Grünig\nMail: werkstadt[at]treibhaus-doebeln.de\nFon: +49 (0) 176 / 87099238
URL:https://treibhaus-doebeln.de/event/skateworkshop-girlsday/
LOCATION:Skatehalle\, Roßweiner Straße\, Döbeln\, Sachsen\, 04720\, Deutschland
CATEGORIES:Workshop
ATTACH;FMTTYPE=image/jpeg:https://treibhaus-doebeln.de/wp-content/uploads/2022/05/SKATE-GIRLVeranstaltung-scaled.jpg
ORGANIZER;CN="Treibhaus e.V. D%C3%B6beln":MAILTO:info@treibhaus-doebeln.de
END:VEVENT
BEGIN:VEVENT
DTSTART;TZID=Europe/Berlin:20220517T160000
DTEND;TZID=Europe/Berlin:20220517T190000
DTSTAMP:20260423T054350
CREATED:20220506T130833Z
LAST-MODIFIED:20220509T124737Z
UID:11835-1652803200-1652814000@treibhaus-doebeln.de
SUMMARY:Skatehalle: OPEN BOARDS
DESCRIPTION:Skatehalle: OPEN BOARDS\nJeden Dienstag von 16.00 – 19.00 Uhr findet das Skaten für Alle statt. Die Skatehalle befindet sich in der Rossweiner Straße in Döbeln. Für alle\, die noch keine eigenen Skateboards besitzen\, werden welche bereitgestellt. Die Teilnahme an den Workshops ist kostenfrei und erfolgt auf eigene Gefahr. \nKontakt\nWerkStadt\nIsabell Wiehmert & Leon Grünig\nMail: werkstadt[at]treibhaus-doebeln.de\nFon: +49 (0) 176 / 87099238 \n 
URL:https://treibhaus-doebeln.de/event/skateworkshop-open-boards/
LOCATION:Skatehalle\, Roßweiner Straße\, Döbeln\, Sachsen\, 04720\, Deutschland
CATEGORIES:Workshop
ATTACH;FMTTYPE=image/jpeg:https://treibhaus-doebeln.de/wp-content/uploads/2022/04/Websiteslider_SFD-scaled.jpg
ORGANIZER;CN="Treibhaus e.V. D%C3%B6beln":MAILTO:info@treibhaus-doebeln.de
END:VEVENT
BEGIN:VEVENT
DTSTART;TZID=Europe/Berlin:20220519T170000
DTEND;TZID=Europe/Berlin:20220519T190000
DTSTAMP:20260423T054350
CREATED:20220506T130546Z
LAST-MODIFIED:20220509T130504Z
UID:11833-1652979600-1652986800@treibhaus-doebeln.de
SUMMARY:Skatehalle: SKATE WITH URKAINE — СКАТЕ ВІД УКРАЇНИ
DESCRIPTION:Skatehalle: SKATE WITH URKAINE — СКАТЕ ВІД УКРАЇНИ\nJeden Donnerstag von 17.00 – 19.00 Uhr findet das Staken für und mit ukrainischen Jugendlichen statt. Die Skatehalle befindet sich in der Rossweiner Straße in Döbeln. Für alle\, die noch keine eigenen Skateboards besitzen\, werden welche bereitgestellt. Die Teilnahme an den Workshops ist kostenfrei und erfolgt auf eigene Gefahr. \nKontakt\nWerkStadt\nIsabell Wiehmert & Leon Grünig\nMail: werkstadt[at]treibhaus-doebeln.de\nFon: +49 (0) 176 / 87099238
URL:https://treibhaus-doebeln.de/event/skateworkshop-skate-with-urkaine-%d1%81%d0%ba%d0%b0%d1%82%d0%b5-%d0%b2%d1%96%d0%b4-%d1%83%d0%ba%d1%80%d0%b0%d1%97%d0%bd%d0%b8/
LOCATION:Skatehalle\, Roßweiner Straße\, Döbeln\, Sachsen\, 04720\, Deutschland
CATEGORIES:Workshop
ATTACH;FMTTYPE=image/jpeg:https://treibhaus-doebeln.de/wp-content/uploads/2022/04/Websiteslider_SFD-scaled.jpg
ORGANIZER;CN="Treibhaus e.V. D%C3%B6beln":MAILTO:info@treibhaus-doebeln.de
END:VEVENT
BEGIN:VEVENT
DTSTART;TZID=Europe/Berlin:20220523T160000
DTEND;TZID=Europe/Berlin:20220523T190000
DTSTAMP:20260423T054350
CREATED:20220510T132322Z
LAST-MODIFIED:20220510T132322Z
UID:11918-1653321600-1653332400@treibhaus-doebeln.de
SUMMARY:Skatehalle: GIRLSDAY
DESCRIPTION:Skatehalle: GIRLSDAY\nJeden Montag von 16.00 bis 19.00 Uhr findet das Skaten für Mädchen und FLINTA* statt. Die Skatehalle befindet sich in der Rossweiner Straße in Döbeln. Für alle\, die noch keine eigenen Skateboards besitzen\, werden welche bereitgestellt. Die Teilnahme an den Workshops ist kostenfrei und erfolgt auf eigene Gefahr. \nKontakt\nWerkStadt\nIsabell Wiehmert & Leon Grünig\nMail: werkstadt[at]treibhaus-doebeln.de\nFon: +49 (0) 176 / 87099238
URL:https://treibhaus-doebeln.de/event/skatehalle-girlsday/
LOCATION:Skatehalle\, Roßweiner Straße\, Döbeln\, Sachsen\, 04720\, Deutschland
CATEGORIES:Workshop
ATTACH;FMTTYPE=image/jpeg:https://treibhaus-doebeln.de/wp-content/uploads/2022/05/SKATE-GIRLVeranstaltung-scaled.jpg
ORGANIZER;CN="Treibhaus e.V. D%C3%B6beln":MAILTO:info@treibhaus-doebeln.de
END:VEVENT
BEGIN:VEVENT
DTSTART;TZID=Europe/Berlin:20220524T160000
DTEND;TZID=Europe/Berlin:20220524T190000
DTSTAMP:20260423T054350
CREATED:20220506T143213Z
LAST-MODIFIED:20220509T124713Z
UID:11874-1653408000-1653418800@treibhaus-doebeln.de
SUMMARY:Skatehalle: OPEN BOARDS
DESCRIPTION:Skatehalle: OPEN BOARDS\nJeden Dienstag von 16.00 – 19.00 Uhr findet das Skaten für Alle statt. Die Skatehalle befindet sich in der Rossweiner Straße in Döbeln. Für alle\, die noch keine eigenen Skateboards besitzen\, werden welche bereitgestellt. Die Teilnahme an den Workshops ist kostenfrei und erfolgt auf eigene Gefahr. \nKontakt\nWerkStadt\nIsabell Wiehmert & Leon Grünig\nMail: werkstadt[at]treibhaus-doebeln.de\nFon: +49 (0) 176 / 87099238
URL:https://treibhaus-doebeln.de/event/skateboardshop-open-boards/
LOCATION:Treibhaus e.V.\, Bahnhofstraße 56\, Döbeln\, Sachsen\, 04720\, Deutschland
CATEGORIES:Workshop
ATTACH;FMTTYPE=image/jpeg:https://treibhaus-doebeln.de/wp-content/uploads/2022/04/Websiteslider_SFD-scaled.jpg
ORGANIZER;CN="Treibhaus e.V. D%C3%B6beln":MAILTO:info@treibhaus-doebeln.de
END:VEVENT
BEGIN:VEVENT
DTSTART;TZID=Europe/Berlin:20220526T170000
DTEND;TZID=Europe/Berlin:20220526T190000
DTSTAMP:20260423T054350
CREATED:20220510T142552Z
LAST-MODIFIED:20220510T142552Z
UID:11939-1653584400-1653591600@treibhaus-doebeln.de
SUMMARY:Skatehalle: SKATE WITH URKAINE — СКАТЕ ВІД УКРАЇНИ
DESCRIPTION:Skatehalle: SKATE WITH URKAINE — СКАТЕ ВІД УКРАЇНИ\nJeden Donnerstag von 17.00 – 19.00 Uhr findet das Staken für und mit ukrainischen Jugendlichen statt. Die Skatehalle befindet sich in der Rossweiner Straße in Döbeln. Für alle\, die noch keine eigenen Skateboards besitzen\, werden welche bereitgestellt. Die Teilnahme an den Workshops ist kostenfrei und erfolgt auf eigene Gefahr. \nKontakt\nWerkStadt\nIsabell Wiehmert & Leon Grünig\nMail: werkstadt[at]treibhaus-doebeln.de\nFon: +49 (0) 176 / 87099238
URL:https://treibhaus-doebeln.de/event/skatehalle-skate-with-urkaine-%d1%81%d0%ba%d0%b0%d1%82%d0%b5-%d0%b2%d1%96%d0%b4-%d1%83%d0%ba%d1%80%d0%b0%d1%97%d0%bd%d0%b8-6/
LOCATION:Skatehalle\, Roßweiner Straße\, Döbeln\, Sachsen\, 04720\, Deutschland
CATEGORIES:Workshop
ATTACH;FMTTYPE=image/jpeg:https://treibhaus-doebeln.de/wp-content/uploads/2022/05/SKATE-UKRAINEVeranstaltung-scaled.jpg
ORGANIZER;CN="Treibhaus e.V. D%C3%B6beln":MAILTO:info@treibhaus-doebeln.de
END:VEVENT
BEGIN:VEVENT
DTSTART;TZID=Europe/Berlin:20220531T160000
DTEND;TZID=Europe/Berlin:20220531T190000
DTSTAMP:20260423T054350
CREATED:20220506T143346Z
LAST-MODIFIED:20220509T124643Z
UID:11876-1654012800-1654023600@treibhaus-doebeln.de
SUMMARY:Skatehalle: OPEN BOARDS
DESCRIPTION:Skatehalle: OPEN BOARDS\nJeden Dienstag von 16.00 – 19.00 Uhr findet das Skaten für Alle statt. Die Skatehalle befindet sich in der Rossweiner Straße in Döbeln. Für alle\, die noch keine eigenen Skateboards besitzen\, werden welche bereitgestellt. Die Teilnahme an den Workshops ist kostenfrei und erfolgt auf eigene Gefahr. \nKontakt\nWerkStadt\nIsabell Wiehmert & Leon Grünig\nMail: werkstadt[at]treibhaus-doebeln.de\nFon: +49 (0) 176 / 87099238
URL:https://treibhaus-doebeln.de/event/skateworkshop-open-boards-3/
LOCATION:Treibhaus e.V.\, Bahnhofstraße 56\, Döbeln\, Sachsen\, 04720\, Deutschland
CATEGORIES:Workshop
ATTACH;FMTTYPE=image/jpeg:https://treibhaus-doebeln.de/wp-content/uploads/2022/04/Websiteslider_SFD-scaled.jpg
ORGANIZER;CN="Treibhaus e.V. D%C3%B6beln":MAILTO:info@treibhaus-doebeln.de
END:VEVENT
END:VCALENDAR