BEGIN:VCALENDAR
VERSION:2.0
PRODID:-//Treibhaus Döbeln - ECPv6.15.13//NONSGML v1.0//EN
CALSCALE:GREGORIAN
METHOD:PUBLISH
X-WR-CALNAME:Treibhaus Döbeln
X-ORIGINAL-URL:https://treibhaus-doebeln.de
X-WR-CALDESC:Veranstaltungen für Treibhaus Döbeln
REFRESH-INTERVAL;VALUE=DURATION:PT1H
X-Robots-Tag:noindex
X-PUBLISHED-TTL:PT1H
BEGIN:VTIMEZONE
TZID:Europe/Berlin
BEGIN:DAYLIGHT
TZOFFSETFROM:+0100
TZOFFSETTO:+0200
TZNAME:CEST
DTSTART:20250330T010000
END:DAYLIGHT
BEGIN:STANDARD
TZOFFSETFROM:+0200
TZOFFSETTO:+0100
TZNAME:CET
DTSTART:20251026T010000
END:STANDARD
BEGIN:DAYLIGHT
TZOFFSETFROM:+0100
TZOFFSETTO:+0200
TZNAME:CEST
DTSTART:20260329T010000
END:DAYLIGHT
BEGIN:STANDARD
TZOFFSETFROM:+0200
TZOFFSETTO:+0100
TZNAME:CET
DTSTART:20261025T010000
END:STANDARD
BEGIN:DAYLIGHT
TZOFFSETFROM:+0100
TZOFFSETTO:+0200
TZNAME:CEST
DTSTART:20270328T010000
END:DAYLIGHT
BEGIN:STANDARD
TZOFFSETFROM:+0200
TZOFFSETTO:+0100
TZNAME:CET
DTSTART:20271031T010000
END:STANDARD
END:VTIMEZONE
BEGIN:VEVENT
DTSTART;TZID=Europe/Berlin:20261030T140000
DTEND;TZID=Europe/Berlin:20261030T170000
DTSTAMP:20260423T080658
CREATED:20260211T104519Z
LAST-MODIFIED:20260211T120400Z
UID:18743-1793368800-1793379600@treibhaus-doebeln.de
SUMMARY:Workshop: Und da hat es 'Klick' gemacht! - Digitale Fotos erstellen und bearbeiten
DESCRIPTION:Workshop: Und da hat es ‘Klick’ gemacht! – Digitale Fotos erstellen und bearbeiten\nIn diesem Workshop dreht sich alles um die digitale Fotografie. Wir besprechen ganz praktisch\, wie gute Fotos entstehen\, worauf man achten sollte und welche Technik erforderlich ist. Außerdem probieren wir aus\, wie die entstandenen Bilder dann auch bearbeitet und mit anderen geteilt werden können. \nDas Angebot richtet sich an Personen\, die keine bis kaum Erfahrung mit dem Thema haben. \n⏰ Zeit\n30. Oktober\nBeginn: 14:00 Uhr\nEnde: 17:00 Uhr \n🏡 Ort\n\nStadtbibliothek Gröditz\nHauptstraße 17\n01609 Gröditz \n\n📝 Anmeldung\nEine Anmeldung ist nicht erforderlich\, aber von Vorteil. Die Plätze sind begrenzt. \nBitte melden Sie sich dazu direkt bei der Stadtbibliothek Gröditz an:\nTelefon +49 (0) 35263 / 67348\nMail bibo@groeditz.de \n📯 Ansprechpersonen\nJohannes Fischer & Johannes Gersten\nMail: spektrum3000@treibhaus-doebeln.de\nWhatsApp & Telegram: +49 (0) 1575 / 0888 948\nFon: +49 (0) 3431 / 67 87 403 \nWir sind im Raum Döbeln\, Riesa und Oschatz für Sie unterwegs und wollen vor Ort mit unseren Angeboten die Medienkompetenz in Mittelsachsen stärken. Zu diesem Zweck bieten wir eine breite Auswahl an Veranstaltungen\, aus der Sie sich\, die für Sie passende\, auswählen können. Von Workshops & Kursen\, über Beratungsangebote\, bis hin zu Vorträgen können wir alles realisieren\, was Sie sich wünschen. Schauen Sie gern auf unsere Projektseite\, auch neue und individuelle Ideen können wir mit Ihnen angehen. \nDas Projekt Spektrum3000 wird von der Sächsischen Landesmedienanstalt gefördert. In Kooperation mit der Stadtbibliothek Gröditz.
URL:https://treibhaus-doebeln.de/event/workshop-und-da-hat-es-klick-gemacht-digitale-fotos-erstellen-und-bearbeiten/
LOCATION:Stadtbibliothek Gröditz\, Hauptstraße 17\, Gröditz\, Sachsen\, 01609\, Deutschland
CATEGORIES:Diskussion,Kurs,Vortrag
ATTACH;FMTTYPE=image/png:https://treibhaus-doebeln.de/wp-content/uploads/2026/02/Fotografie-pexels-victorfreitas-744780_Zuschnitt.png
END:VEVENT
BEGIN:VEVENT
DTSTART;TZID=Europe/Berlin:20261030T150000
DTEND;TZID=Europe/Berlin:20261030T180000
DTSTAMP:20260423T080658
CREATED:20251219T085503Z
LAST-MODIFIED:20251219T085503Z
UID:18365-1793372400-1793383200@treibhaus-doebeln.de
SUMMARY:Offene Siebdruckwerkstatt
DESCRIPTION:Offene Siebdruckwerkstatt\nDer Treibhaus e.V. beherbergt eine gut ausgestattete Siebdruckwerkstatt und lädt regelmäßig zur offenen Siebdruckwerkstatt ein. \nDie offene Siebdruckwerkstatt öffnet einmal im Monat von 15:00 bis 18:00 Uhr ihre Türen. Ihr habt die Möglichkeit vorbeizukommen\, Fragen zu stellen oder selbst Sachen zu bedrucken. Es gibt immer eine große Auswahl an Motiven und Druckträgern vor Ort. Auf Anfrage können auch individuelle Motive gedruckt werden – kontaktiert uns dazu bitte im Voraus. \nBitte beachtet\, dass im Juli und August keine offene Werkstatt stattfindet. Ihr könnt aber jederzeit einen Termin außerhalb der genannten Daten vereinbaren. \nÖffnungszeiten\n15.00 – 18.00 Uhr\n2. Etage // Bahnhofstraße 56 \nKontakt\nJulia Kaden\nMail: siebdruck@treibhaus-doebeln.de\nFon: +49 (0) 3431 / 60 52 978
URL:https://treibhaus-doebeln.de/event/offene-siebdruckwerkstatt-96/
LOCATION:2. OG Siebdruckwerkstatt\, Bahnhofstraße 56\, Döbeln\, Sachsen\, 04720\, Germany
CATEGORIES:Kunst,Kurs,Siebdruck
ATTACH;FMTTYPE=image/jpeg:https://treibhaus-doebeln.de/wp-content/uploads/2025/01/FB_HP-scaled.jpg
ORGANIZER;CN="Treibhaus e.V. D%C3%B6beln":MAILTO:info@treibhaus-doebeln.de
END:VEVENT
END:VCALENDAR