BEGIN:VCALENDAR
VERSION:2.0
PRODID:-//Treibhaus Döbeln - ECPv6.15.13//NONSGML v1.0//EN
CALSCALE:GREGORIAN
METHOD:PUBLISH
X-WR-CALNAME:Treibhaus Döbeln
X-ORIGINAL-URL:https://treibhaus-doebeln.de
X-WR-CALDESC:Veranstaltungen für Treibhaus Döbeln
REFRESH-INTERVAL;VALUE=DURATION:PT1H
X-Robots-Tag:noindex
X-PUBLISHED-TTL:PT1H
BEGIN:VTIMEZONE
TZID:Europe/Berlin
BEGIN:DAYLIGHT
TZOFFSETFROM:+0100
TZOFFSETTO:+0200
TZNAME:CEST
DTSTART:20250330T010000
END:DAYLIGHT
BEGIN:STANDARD
TZOFFSETFROM:+0200
TZOFFSETTO:+0100
TZNAME:CET
DTSTART:20251026T010000
END:STANDARD
BEGIN:DAYLIGHT
TZOFFSETFROM:+0100
TZOFFSETTO:+0200
TZNAME:CEST
DTSTART:20260329T010000
END:DAYLIGHT
BEGIN:STANDARD
TZOFFSETFROM:+0200
TZOFFSETTO:+0100
TZNAME:CET
DTSTART:20261025T010000
END:STANDARD
BEGIN:DAYLIGHT
TZOFFSETFROM:+0100
TZOFFSETTO:+0200
TZNAME:CEST
DTSTART:20270328T010000
END:DAYLIGHT
BEGIN:STANDARD
TZOFFSETFROM:+0200
TZOFFSETTO:+0100
TZNAME:CET
DTSTART:20271031T010000
END:STANDARD
END:VTIMEZONE
BEGIN:VEVENT
DTSTART;TZID=Europe/Berlin:20261004T140000
DTEND;TZID=Europe/Berlin:20261004T163000
DTSTAMP:20260423T094108
CREATED:20260330T112634Z
LAST-MODIFIED:20260401T084319Z
UID:19048-1791122400-1791131400@treibhaus-doebeln.de
SUMMARY:Rundgang: Zwangsmigration unterm Hakenkreuz. Kriegsgefangene und Zwangsarbeiter*innen während des 2. Weltkriegs in Döbeln
DESCRIPTION:Der historische Stadtrundgang befasst sich schwerpunktmäßig mit Zwangsmigration: Von 1942 bis 1945 lebten knapp 2.000 Kriegsgefangene und Zwangsarbeiter*innen zwischen den Döbelner*innen. Die Menschen aus Amerika\, Belgien\, Frankreich\, Großbritannien\, Serbien und Tschechien bildeten zusammen fast 10 Prozent der städtischen Bevölkerung. Im Rundgang gehen wir ihren Spuren in der heutigen Stadtlandschaft nach. \nEs ist keine Anmeldung erforderlich.
URL:https://treibhaus-doebeln.de/event/rundgang-zwangsmigration-unterm-hakenkreuz-kriegsgefangene-und-zwangsarbeiterinnen-waehrend-des-2-weltkriegs-in-doebeln/
LOCATION:Café Courage im Treibhaus\, 04720 Döbeln\, Bahnhofstraße 56\, 04720 Döbeln\, Germany
CATEGORIES:Historischer Stadtrundgang,Information
ATTACH;FMTTYPE=image/png:https://treibhaus-doebeln.de/wp-content/uploads/2026/03/4.10.2026-Rundgang_Zwangsmigration-unterm-Hakenkreuz-scaled.png
END:VEVENT
END:VCALENDAR