BEGIN:VCALENDAR
VERSION:2.0
PRODID:-//Treibhaus Döbeln - ECPv6.15.13//NONSGML v1.0//EN
CALSCALE:GREGORIAN
METHOD:PUBLISH
X-ORIGINAL-URL:https://treibhaus-doebeln.de
X-WR-CALDESC:Veranstaltungen für Treibhaus Döbeln
REFRESH-INTERVAL;VALUE=DURATION:PT1H
X-Robots-Tag:noindex
X-PUBLISHED-TTL:PT1H
BEGIN:VTIMEZONE
TZID:Europe/Berlin
BEGIN:DAYLIGHT
TZOFFSETFROM:+0100
TZOFFSETTO:+0200
TZNAME:CEST
DTSTART:20250330T010000
END:DAYLIGHT
BEGIN:STANDARD
TZOFFSETFROM:+0200
TZOFFSETTO:+0100
TZNAME:CET
DTSTART:20251026T010000
END:STANDARD
BEGIN:DAYLIGHT
TZOFFSETFROM:+0100
TZOFFSETTO:+0200
TZNAME:CEST
DTSTART:20260329T010000
END:DAYLIGHT
BEGIN:STANDARD
TZOFFSETFROM:+0200
TZOFFSETTO:+0100
TZNAME:CET
DTSTART:20261025T010000
END:STANDARD
BEGIN:DAYLIGHT
TZOFFSETFROM:+0100
TZOFFSETTO:+0200
TZNAME:CEST
DTSTART:20270328T010000
END:DAYLIGHT
BEGIN:STANDARD
TZOFFSETFROM:+0200
TZOFFSETTO:+0100
TZNAME:CET
DTSTART:20271031T010000
END:STANDARD
END:VTIMEZONE
BEGIN:VEVENT
DTSTART;TZID=Europe/Berlin:20260606T100000
DTEND;TZID=Europe/Berlin:20260606T140000
DTSTAMP:20260424T123022
CREATED:20260423T092841Z
LAST-MODIFIED:20260423T092841Z
UID:19109-1780740000-1780754400@treibhaus-doebeln.de
SUMMARY:Mitgliedervollversammlung 2026
DESCRIPTION:Am Samstag\, den 06. Juni\, von 10.00 bis 14.00 Uhr findet unsere Mitgliedervollversammlung im Café Courage statt.\n\nEs ist Zeit\, alte Freunde und Bekannte des Treibhaus e.V. wieder zutreffen! Die diesjährige Mitgliedervollversammlung ist die Gelegenheit dafür! Außerdem kannst du dich dort über aktuelle Geschehnisse und die Entwicklung des Vereins in den letzten 2 Jahren informieren\, eigene Punkte einbringen und den neuen Vorstand wählen. Für ein gemeinsames Mittagessen und den Plausch danach ist ebenfalls Zeit vorhanden\, da wir uns dieses Jahr glücklicherweise wieder in Präsenz treffen können.\n\nEingeladen sind Vereinsmitglieder sowie Freundinnen und Freunde des Vereins.\n\nAm Abend findet dann noch das Quizcafé statt\, zu dem alle herzlich eingeladen sind.
URL:https://treibhaus-doebeln.de/event/mitgliedervollversammlung-2026/
LOCATION:Café Courage\, Bahnhofstraße 56\, Döbeln\, Sachsen\, 04720\, Deutschland
CATEGORIES:Austausch,Begegnung,Beratung,Fortbildung,Information
ATTACH;FMTTYPE=image/png:https://treibhaus-doebeln.de/wp-content/uploads/2026/04/TH_WEBSITESLIDER-3.png
ORGANIZER;CN="Treibhaus e.V. D%C3%B6beln":MAILTO:info@treibhaus-doebeln.de
END:VEVENT
END:VCALENDAR