BEGIN:VCALENDAR
VERSION:2.0
PRODID:-//Treibhaus Döbeln - ECPv6.15.13//NONSGML v1.0//EN
CALSCALE:GREGORIAN
METHOD:PUBLISH
X-ORIGINAL-URL:https://treibhaus-doebeln.de
X-WR-CALDESC:Veranstaltungen für Treibhaus Döbeln
REFRESH-INTERVAL;VALUE=DURATION:PT1H
X-Robots-Tag:noindex
X-PUBLISHED-TTL:PT1H
BEGIN:VTIMEZONE
TZID:Europe/Berlin
BEGIN:DAYLIGHT
TZOFFSETFROM:+0100
TZOFFSETTO:+0200
TZNAME:CEST
DTSTART:20250330T010000
END:DAYLIGHT
BEGIN:STANDARD
TZOFFSETFROM:+0200
TZOFFSETTO:+0100
TZNAME:CET
DTSTART:20251026T010000
END:STANDARD
BEGIN:DAYLIGHT
TZOFFSETFROM:+0100
TZOFFSETTO:+0200
TZNAME:CEST
DTSTART:20260329T010000
END:DAYLIGHT
BEGIN:STANDARD
TZOFFSETFROM:+0200
TZOFFSETTO:+0100
TZNAME:CET
DTSTART:20261025T010000
END:STANDARD
BEGIN:DAYLIGHT
TZOFFSETFROM:+0100
TZOFFSETTO:+0200
TZNAME:CEST
DTSTART:20270328T010000
END:DAYLIGHT
BEGIN:STANDARD
TZOFFSETFROM:+0200
TZOFFSETTO:+0100
TZNAME:CET
DTSTART:20271031T010000
END:STANDARD
END:VTIMEZONE
BEGIN:VEVENT
DTSTART;TZID=Europe/Berlin:20260604T170000
DTEND;TZID=Europe/Berlin:20260604T190000
DTSTAMP:20260421T135006
CREATED:20260217T130950Z
LAST-MODIFIED:20260217T130950Z
UID:18919-1780592400-1780599600@treibhaus-doebeln.de
SUMMARY:Workshop: Gleichberechtigung in digitalen Medien
DESCRIPTION:Workshop: Gleichberechtigung in digitalen Medien\nBankgeschäfte\, Arzttermine\, Fahrkarten\, Behördenkontakte – vieles läuft heute digital. Doch was bedeutet das für ältere Menschen? Sind sie in einer zunehmend digitalen Gesellschaft tatsächlich noch gleichberechtigt beteiligt? Und welche Rolle spielen Angehörige\, Umfeld und Ehrenamt? \nIn dieser zweistündigen Veranstaltung geht es bewusst nicht um Schritt-für-Schritt-Anleitungen. Stattdessen nehmen wir die Meta-Ebene in den Blick: Wir diskutieren\, wie digitale Entwicklungen Teilhabe verändern\, wo neue Chancen entstehen – und wo Barrieren wachsen. \nGemeinsam reflektieren wir Fragen wie: \n\n\nEntsteht durch digitale Angebote mehr Selbstständigkeit – oder neue Abhängigkeit? \n\n\nWer wird mitgedacht\, wenn digitale Dienste entwickelt werden – und wer nicht? \n\n\nWie können ältere Menschen ihre Angelegenheiten weiterhin selbstbestimmt organisieren? \n\n\nEin besonderer Schwerpunkt liegt auf der Rolle des sozialen Umfelds und des Ehrenamts. Wie können Sie unterstützen\, ohne zu bevormunden? Wie lässt sich Hilfe so gestalten\, dass sie Selbstständigkeit stärkt statt ersetzt? Und wie können Gespräche über digitale Themen sensibel und auf Augenhöhe geführt werden? \nDas Angebot schafft Raum für Austausch\, Perspektivwechsel und gemeinsame Einordnung. Ziel ist es\, ein Bewusstsein für digitale Gerechtigkeit zu entwickeln und konkrete Ansatzpunkte mitzunehmen\, wie Teilhabe und Selbstbestimmung älterer Menschen im digitalen Alltag gestärkt werden können. \n⏰ Zeit\n04. Juni\nBeginn: 17:00 Uhr\nEnde: 19:00 Uhr \n🏡 Ort\nCaritasverband für das Dekanat Meißen e.V.\, Geschäftsstelle Döbeln\nKreuzstraße 2\n04720 Döbeln \n📝 Anmeldung\nEine Anmeldung ist unbedingt erforderlich.\n \nBitte melden Sie sich direkt beim Caritasverband Meißen e.V. in der Kreuzstraße 2 an:\nTelefon +49 (0) 3431 / 72 97 941\nMail leben-im-alter@caritas-meissen.de \n📯 Ansprechpersonen Spektrum3000\nJohannes Fischer & Johannes Gersten\nMail: spektrum3000@treibhaus-doebeln.de\nWhatsApp & Telegram: +49 (0) 1575 / 0888 948\nFon: +49 (0) 3431 / 67 87 403 \nWir sind im Raum Döbeln\, Riesa und Oschatz für Sie unterwegs und wollen vor Ort mit unseren Angeboten die Medienkompetenz in Mittelsachsen stärken. Zu diesem Zweck bieten wir eine breite Auswahl an Veranstaltungen\, aus der Sie sich\, die für Sie passende\, auswählen können. Von Workshops & Kursen\, über Beratungsangebote\, bis hin zu Vorträgen können wir alles realisieren\, was Sie sich wünschen. Schauen Sie gern auf unsere Projektseite\, auch neue und individuelle Ideen können wir mit Ihnen angehen. \nDas Projekt Spektrum3000 wird von der Sächsischen Landesmedienanstalt gefördert. \n📅 Weitere Medienbildungsangebote finden Sie hier 📅
URL:https://treibhaus-doebeln.de/event/gleichberechtigung-im-digitalen-raum/
LOCATION:Caritasverband Meißen\, Kreuzstraße 2\, Döbeln\, Sachsen\, 04720\, Deutschland
CATEGORIES:Austausch,Fortbildung,Workshop
ATTACH;FMTTYPE=image/png:https://treibhaus-doebeln.de/wp-content/uploads/2025/01/Seniorin-Smartphone_04_pexels-andrea-piacquadio-3791664.png
ORGANIZER;CN="Caritasverband Mei%C3%9Fen e.V.":MAILTO:leben-im-alter@caritas-meissen.de
END:VEVENT
END:VCALENDAR