BEGIN:VCALENDAR
VERSION:2.0
PRODID:-//Treibhaus Döbeln - ECPv6.15.13//NONSGML v1.0//EN
CALSCALE:GREGORIAN
METHOD:PUBLISH
X-ORIGINAL-URL:https://treibhaus-doebeln.de
X-WR-CALDESC:Veranstaltungen für Treibhaus Döbeln
REFRESH-INTERVAL;VALUE=DURATION:PT1H
X-Robots-Tag:noindex
X-PUBLISHED-TTL:PT1H
BEGIN:VTIMEZONE
TZID:Europe/Berlin
BEGIN:DAYLIGHT
TZOFFSETFROM:+0100
TZOFFSETTO:+0200
TZNAME:CEST
DTSTART:20250330T010000
END:DAYLIGHT
BEGIN:STANDARD
TZOFFSETFROM:+0200
TZOFFSETTO:+0100
TZNAME:CET
DTSTART:20251026T010000
END:STANDARD
BEGIN:DAYLIGHT
TZOFFSETFROM:+0100
TZOFFSETTO:+0200
TZNAME:CEST
DTSTART:20260329T010000
END:DAYLIGHT
BEGIN:STANDARD
TZOFFSETFROM:+0200
TZOFFSETTO:+0100
TZNAME:CET
DTSTART:20261025T010000
END:STANDARD
BEGIN:DAYLIGHT
TZOFFSETFROM:+0100
TZOFFSETTO:+0200
TZNAME:CEST
DTSTART:20270328T010000
END:DAYLIGHT
BEGIN:STANDARD
TZOFFSETFROM:+0200
TZOFFSETTO:+0100
TZNAME:CET
DTSTART:20271031T010000
END:STANDARD
END:VTIMEZONE
BEGIN:VEVENT
DTSTART;TZID=Europe/Berlin:20260227T150000
DTEND;TZID=Europe/Berlin:20260227T180000
DTSTAMP:20260421T182722
CREATED:20251024T151936Z
LAST-MODIFIED:20251219T085313Z
UID:18029-1772204400-1772215200@treibhaus-doebeln.de
SUMMARY:Offene Siebdruckwerkstatt
DESCRIPTION:Offene Siebdruckwerkstatt\nDer Treibhaus e.V. beherbergt eine gut ausgestattete Siebdruckwerkstatt und lädt regelmäßig zur offenen Siebdruckwerkstatt ein. \nDie offene Siebdruckwerkstatt öffnet einmal im Monat von 15:00 bis 18:00 Uhr ihre Türen. Ihr habt die Möglichkeit vorbeizukommen\, Fragen zu stellen oder selbst Sachen zu bedrucken. Es gibt immer eine große Auswahl an Motiven und Druckträgern vor Ort. Auf Anfrage können auch individuelle Motive gedruckt werden – kontaktiert uns dazu bitte im Voraus. \nBitte beachtet\, dass im Juli und August keine offene Werkstatt stattfindet. Ihr könnt aber jederzeit einen Termin außerhalb der genannten Daten vereinbaren. \nÖffnungszeiten\n15.00 – 18.00 Uhr\n2. Etage // Bahnhofstraße 56 \nKontakt\nJulia Kaden\nMail: siebdruck@treibhaus-doebeln.de\nFon: +49 (0) 3431 / 60 52 978
URL:https://treibhaus-doebeln.de/event/offene-siebdruckwerkstatt-90/
LOCATION:2. OG Siebdruckwerkstatt\, Bahnhofstraße 56\, Döbeln\, Sachsen\, 04720\, Germany
CATEGORIES:Kunst,Kurs,Siebdruck
ATTACH;FMTTYPE=image/jpeg:https://treibhaus-doebeln.de/wp-content/uploads/2025/01/FB_HP-scaled.jpg
ORGANIZER;CN="Treibhaus e.V. D%C3%B6beln":MAILTO:info@treibhaus-doebeln.de
END:VEVENT
BEGIN:VEVENT
DTSTART;TZID=Europe/Berlin:20260227T190000
DTEND;TZID=Europe/Berlin:20260227T220000
DTSTAMP:20260421T182722
CREATED:20251208T124610Z
LAST-MODIFIED:20251208T124610Z
UID:18297-1772218800-1772229600@treibhaus-doebeln.de
SUMMARY:Jam Session
DESCRIPTION:Jam Session \nWir laden zur Jam Session ins Café Courage ein! Ob Profi oder Hobbymusiker*in\, musiziert und improvisiert gemeinsam auf unserer Bühne. Bringt eure Instrumente mit\, ölt eure Stimmen oder nutzt das\, was Ihr auf der Bühne findet. Wohin die musikalische Reise geht\, ist immer wieder eine Überraschung. \nWer nur zuhören mag und ein Getränk an der Bar genießen möchte\, ist natürlich ebenso willkommen. \nWir freuen uns über Spenden zur Instandhaltung und Ersetzung von Instrumenten und Technik. \nEintritt frei.
URL:https://treibhaus-doebeln.de/event/jam-session-in-doebeln/
LOCATION:Café Courage\, Bahnhofstraße 56\, Döbeln\, Sachsen\, 04720\, Deutschland
CATEGORIES:Begegnung,Jugendbegegnung,Konzert,Musik,Party
ATTACH;FMTTYPE=image/jpeg:https://treibhaus-doebeln.de/wp-content/uploads/2025/10/20220906-Jam-session.jpg
ORGANIZER;CN="Treibhaus e.V. D%C3%B6beln":MAILTO:info@treibhaus-doebeln.de
END:VEVENT
END:VCALENDAR