BEGIN:VCALENDAR
VERSION:2.0
PRODID:-//Treibhaus Döbeln - ECPv6.15.13//NONSGML v1.0//EN
CALSCALE:GREGORIAN
METHOD:PUBLISH
X-WR-CALNAME:Treibhaus Döbeln
X-ORIGINAL-URL:https://treibhaus-doebeln.de
X-WR-CALDESC:Veranstaltungen für Treibhaus Döbeln
REFRESH-INTERVAL;VALUE=DURATION:PT1H
X-Robots-Tag:noindex
X-PUBLISHED-TTL:PT1H
BEGIN:VTIMEZONE
TZID:Europe/Berlin
BEGIN:DAYLIGHT
TZOFFSETFROM:+0100
TZOFFSETTO:+0200
TZNAME:CEST
DTSTART:20220327T010000
END:DAYLIGHT
BEGIN:STANDARD
TZOFFSETFROM:+0200
TZOFFSETTO:+0100
TZNAME:CET
DTSTART:20221030T010000
END:STANDARD
BEGIN:DAYLIGHT
TZOFFSETFROM:+0100
TZOFFSETTO:+0200
TZNAME:CEST
DTSTART:20230326T010000
END:DAYLIGHT
BEGIN:STANDARD
TZOFFSETFROM:+0200
TZOFFSETTO:+0100
TZNAME:CET
DTSTART:20231029T010000
END:STANDARD
BEGIN:DAYLIGHT
TZOFFSETFROM:+0100
TZOFFSETTO:+0200
TZNAME:CEST
DTSTART:20240331T010000
END:DAYLIGHT
BEGIN:STANDARD
TZOFFSETFROM:+0200
TZOFFSETTO:+0100
TZNAME:CET
DTSTART:20241027T010000
END:STANDARD
END:VTIMEZONE
BEGIN:VEVENT
DTSTART;VALUE=DATE:20230327
DTEND;VALUE=DATE:20230329
DTSTAMP:20260423T010044
CREATED:20230314T132036Z
LAST-MODIFIED:20230314T132411Z
UID:13785-1679875200-1680047999@treibhaus-doebeln.de
SUMMARY:Unterwegs: Die Macht der Fotografie
DESCRIPTION:Die Macht der Fotografie\nIn diesen zwei Tagen arbeiten wir mit dem Fotografen Florian Gatzweiler in der JVA Zeithain. Dieser ganz besondere Fotoworkshop vermittelt dabei nicht nur Fotografie als Kulturtechnik sondern übt mit den Teilnehmern auch die Reflexion und Selbstwahrnehmung. Neben Manipulations- und Gestaltungsmöglichkeiten werden auch neue Medien betrachtet. \n⏰ Zeit\n27. & 28. März 2023 \n🏡 Ort\nJVA Zeithain \n📝 Sie wollen mit uns Ähnliches machen? Dann kontaktieren Sie uns:\nTelefon +49 (0) 3431 / 67 87 403\nMobil +49 (0) 157 50 888 948\nMail spektrum3000@treibhaus-doebeln.de \n📯 Ansprechpersonen Spektrum3000\nJohannes Fischer & Johannes Gersten\nMail: spektrum3000@treibhaus-doebeln.de\nWhatsApp & Telegram: +49 (0) 1575 / 0888 948\nFon: +49 (0) 3431 / 67 87 403 \nWir sind im Raum Döbeln\, Riesa und Oschatz für Sie unterwegs und wollen vor Ort mit unseren Angeboten die Medienkompetenz in Mittelsachsen stärken. Zu diesem Zweck bieten wir eine breite Auswahl an Veranstaltungen\, aus der Sie sich\, die für Sie passende\, auswählen können. Von Workshops & Kursen\, über Beratungsangebote\, bis hin zu Vorträgen können wir alles realisieren\, was Sie sich wünschen. Schauen Sie gern auf unsere Projektseite\, auch neue und individuelle Ideen können wir mit Ihnen angehen. \nDas Projekt Spektrum3000 wird von der Sächsischen Landesanstalt für privaten Rundfunk und neue Medien gefördert. \n📅 Weitere Medienbildungsangebote finden Sie hier 📅
URL:https://treibhaus-doebeln.de/event/unterwegs-die-macht-der-fotografie/
LOCATION:Sachsen
CATEGORIES:Fotografie,Kunst,Workshop
ATTACH;FMTTYPE=image/png:https://treibhaus-doebeln.de/wp-content/uploads/2023/03/Fotoworkshop.png
END:VEVENT
BEGIN:VEVENT
DTSTART;TZID=Europe/Berlin:20230327T173000
DTEND;TZID=Europe/Berlin:20230327T193000
DTSTAMP:20260423T010044
CREATED:20230118T095923Z
LAST-MODIFIED:20230124T131030Z
UID:13367-1679938200-1679945400@treibhaus-doebeln.de
SUMMARY:creativ.café
DESCRIPTION:Das creativ.café ist ein Kunsttreff für Frauen (FLINTA- Personen) mit und ohne Fluchthintergrund. Gemeinsam beschäftigen wir uns unter professioneller Anleitung mit verschiedenen Kunsttechniken – von Linoldruck\, Siebdruck\, Lithografie\, Radierung\, Collage bis hin zu Buchkunst\, Fotografie oder Kalligrafie. Sowohl die künstlerische Exploration als auch die intensive Auseinandersetzung mit einzelnen Techniken stehen dabei im Vordergrund. \nAuch fortgeschrittene oder professionelle Künstlerinnen sind bei uns herzlich willkommen.\nAllerdings musst du keine Vorerfahrungen mitbringen\, lediglich Freude und Interesse an kreativer Betätigung. Wir freuen uns auf dich. \nBeginn: 17.30 Uhr\nEnde: 19.30 Uhr \nDie Teilnahme ist kostenfrei.\nDas Material wird gestellt.
URL:https://treibhaus-doebeln.de/event/creativ-cafe-52/
LOCATION:Café Courage\, Bahnhofstraße 56\, Döbeln\, Sachsen\, 04720\, Deutschland
CATEGORIES:Kunst
ATTACH;FMTTYPE=image/jpeg:https://treibhaus-doebeln.de/wp-content/uploads/2023/01/22_Creativ.Café_Slider.jpg
ORGANIZER;CN="Treibhaus e.V. D%C3%B6beln":MAILTO:info@treibhaus-doebeln.de
END:VEVENT
END:VCALENDAR