BEGIN:VCALENDAR
VERSION:2.0
PRODID:-//Treibhaus Döbeln - ECPv6.15.13//NONSGML v1.0//EN
CALSCALE:GREGORIAN
METHOD:PUBLISH
X-WR-CALNAME:Treibhaus Döbeln
X-ORIGINAL-URL:https://treibhaus-doebeln.de
X-WR-CALDESC:Veranstaltungen für Treibhaus Döbeln
REFRESH-INTERVAL;VALUE=DURATION:PT1H
X-Robots-Tag:noindex
X-PUBLISHED-TTL:PT1H
BEGIN:VTIMEZONE
TZID:Europe/Berlin
BEGIN:DAYLIGHT
TZOFFSETFROM:+0100
TZOFFSETTO:+0200
TZNAME:CEST
DTSTART:20220327T010000
END:DAYLIGHT
BEGIN:STANDARD
TZOFFSETFROM:+0200
TZOFFSETTO:+0100
TZNAME:CET
DTSTART:20221030T010000
END:STANDARD
BEGIN:DAYLIGHT
TZOFFSETFROM:+0100
TZOFFSETTO:+0200
TZNAME:CEST
DTSTART:20230326T010000
END:DAYLIGHT
BEGIN:STANDARD
TZOFFSETFROM:+0200
TZOFFSETTO:+0100
TZNAME:CET
DTSTART:20231029T010000
END:STANDARD
BEGIN:DAYLIGHT
TZOFFSETFROM:+0100
TZOFFSETTO:+0200
TZNAME:CEST
DTSTART:20240331T010000
END:DAYLIGHT
BEGIN:STANDARD
TZOFFSETFROM:+0200
TZOFFSETTO:+0100
TZNAME:CET
DTSTART:20241027T010000
END:STANDARD
END:VTIMEZONE
BEGIN:VEVENT
DTSTART;TZID=Europe/Berlin:20230325T190000
DTEND;TZID=Europe/Berlin:20230325T220000
DTSTAMP:20260423T085305
CREATED:20230223T091317Z
LAST-MODIFIED:20230223T091317Z
UID:13718-1679770800-1679781600@treibhaus-doebeln.de
SUMMARY:Konzert des Sama Ensembles: Flug nach Persien
DESCRIPTION:FLUG NACH PERSIEN \nEIN KONZERTABEND MIT DEM SAMA ENSEMBLE – NACHHOLTERMIN \nAm 25. März 2023 holen wir das Konzert des SAMA Ensembles im Café Courage nach. Der Name der Gruppe bedeutet „mystischer Tanz“ und sie existierte in anderer Besetzung unter der Leitung von Ali Pirabi bereits von 1994 bis 2013 im Iran. Sie war dort eine feste Größe in der persischen klassischen Musik. Mit neuen Kolleg*innen erweckte Ali Pirabi die Formation 2014 wieder zum Leben. \nDer Iran setzt sich aus verschiedenen Kulturen zusammen\, von denen jede ihre eigene Musik und Kunst und in manchen Gegenden sogar ihre eigene Sprache hat. Das Ensemble versucht\, diese Musik in einem vielfältigen Programm zu präsentieren. Zum aktuellen Ensemble gehören Sahar Momenzadeh (Santur)\, Mehran Asgharzadeh (Daf und Tombak)\, Shafagh Aghaei (Gesang) und Ali Pirabi (Santur\, Kamancheh\, Oud und Tanbur). Seit der islamischen Revolution gilt im Iran ein striktes Gesangsverbot für Frauen\, sodass sie in der Öffentlichkeit nicht allein singen dürfen. Das Ensemble möchte dem entgegenwirken und bietet den drei iranischen Musikerinnen die Gelegenheit\, in Deutschland aufzutreten. \nEinlass 18.30 Uhr\nBeginn 19.00 Uhr \nDer Eintritt ist frei. Spenden sind herzlich willkommen. \nDiese Veranstaltung wird gefördert von Land in Sicht e.V.
URL:https://treibhaus-doebeln.de/event/prisma-konzert-flug-nach-persien-2/
LOCATION:Café Courage\, Bahnhofstraße 56\, Döbeln\, Sachsen\, 04720\, Deutschland
CATEGORIES:Konzert,Musik
ATTACH;FMTTYPE=image/jpeg:https://treibhaus-doebeln.de/wp-content/uploads/2022/08/20220930-SAMA-Ensemble_Header-scaled.jpg
ORGANIZER;CN="Treibhaus e.V. D%C3%B6beln":MAILTO:info@treibhaus-doebeln.de
END:VEVENT
END:VCALENDAR