BEGIN:VCALENDAR
VERSION:2.0
PRODID:-//Treibhaus Döbeln - ECPv6.15.13//NONSGML v1.0//EN
CALSCALE:GREGORIAN
METHOD:PUBLISH
X-WR-CALNAME:Treibhaus Döbeln
X-ORIGINAL-URL:https://treibhaus-doebeln.de
X-WR-CALDESC:Veranstaltungen für Treibhaus Döbeln
REFRESH-INTERVAL;VALUE=DURATION:PT1H
X-Robots-Tag:noindex
X-PUBLISHED-TTL:PT1H
BEGIN:VTIMEZONE
TZID:Europe/Berlin
BEGIN:DAYLIGHT
TZOFFSETFROM:+0100
TZOFFSETTO:+0200
TZNAME:CEST
DTSTART:20220327T010000
END:DAYLIGHT
BEGIN:STANDARD
TZOFFSETFROM:+0200
TZOFFSETTO:+0100
TZNAME:CET
DTSTART:20221030T010000
END:STANDARD
BEGIN:DAYLIGHT
TZOFFSETFROM:+0100
TZOFFSETTO:+0200
TZNAME:CEST
DTSTART:20230326T010000
END:DAYLIGHT
BEGIN:STANDARD
TZOFFSETFROM:+0200
TZOFFSETTO:+0100
TZNAME:CET
DTSTART:20231029T010000
END:STANDARD
BEGIN:DAYLIGHT
TZOFFSETFROM:+0100
TZOFFSETTO:+0200
TZNAME:CEST
DTSTART:20240331T010000
END:DAYLIGHT
BEGIN:STANDARD
TZOFFSETFROM:+0200
TZOFFSETTO:+0100
TZNAME:CET
DTSTART:20241027T010000
END:STANDARD
END:VTIMEZONE
BEGIN:VEVENT
DTSTART;TZID=Europe/Berlin:20230319T120000
DTEND;TZID=Europe/Berlin:20230319T150000
DTSTAMP:20260423T085315
CREATED:20230209T134453Z
LAST-MODIFIED:20230220T133748Z
UID:13631-1679227200-1679238000@treibhaus-doebeln.de
SUMMARY:Workshop "Tabuthemen in den Medien“ – Am Beispiel Menstruation
DESCRIPTION:Anlässlich der Ausstellung “Blutladen” laden wir euch zu einem Workshop ein. Zum Einstieg schauen wir uns gemeinsam mit den Kurator*innen den „Blutladen“ an. Ihr könnt Fragen zu den Kunstwerken stellen und euch inspirieren lassen. Im Anschluss starten wir in den Workshop\, in dem wir erstmal unser Wissen über die medizinischen und biologischen Komponenten der Menstruation auffrischen und erweitern. Dabei gehen wir auch der Frage nach\, wie die Menstruation in den Medien (nicht) dargestellt wird und wie sich solche „Tabu-Phänomene“ reproduzieren. Danach ist Raum und Zeit\, um die eigenen Menstruationsgeschichten zu erzählen\, verknüpft mit euren eigenen Medienerfahrungen. Denn dafür ist der Blutladen da: damit wir endlich offen und ohne Scham übers Bluten sprechen können! \nBeginn: 12 Uhr\nEnde: 15 Uhr \nDer Workshop richtet sich ausschließlich an menstruierende Menschen. Die Teilnahme ist kostenfrei. Es wird um eine gemailte Anmeldung gebeten an kultur@treibhaus-doebeln.de. \nIn Kooperation mit Spektrum3000\nJohannes Fischer & Johannes Gersten\nMail: spektrum3000@treibhaus-doebeln.de\nWhatsApp & Telegram: +49 (0) 1575 / 0888 948\nFon: +49 (0) 3431 / 67 87 403 \nWir sind im Raum Döbeln\, Riesa und Oschatz für Sie unterwegs und wollen vor Ort mit unseren Angeboten die Medienkompetenz in Mittelsachsen stärken. Zu diesem Zweck bieten wir eine breite Auswahl an Veranstaltungen\, aus der Sie sich\, die für Sie passende\, auswählen können. Von Workshops & Kursen\, über Beratungsangebote\, bis hin zu Vorträgen können wir alles realisieren\, was Sie sich wünschen. Schauen Sie gern auf unsere Projektseite\, auch neue und individuelle Ideen können wir mit Ihnen angehen. \nDas Projekt Spektrum3000 wird von der Sächsischen Landesanstalt für privaten Rundfunk und neue Medien gefördert. \n📅 Weitere Medienbildungsangebote finden Sie hier 📅
URL:https://treibhaus-doebeln.de/event/tabuthemen-in-den-medien-am-beispiel-menstruation/
LOCATION:Café Courage\, Bahnhofstraße 56\, Döbeln\, Sachsen\, 04720\, Deutschland
CATEGORIES:Ausstellung,Gespräch,Workshop
ATTACH;FMTTYPE=image/jpeg:https://treibhaus-doebeln.de/wp-content/uploads/2023/02/202303_Blutladen_Website-scaled.jpg
ORGANIZER;CN="Treibhaus e.V. D%C3%B6beln":MAILTO:info@treibhaus-doebeln.de
END:VEVENT
END:VCALENDAR