BEGIN:VCALENDAR
VERSION:2.0
PRODID:-//Treibhaus Döbeln - ECPv6.15.13//NONSGML v1.0//EN
CALSCALE:GREGORIAN
METHOD:PUBLISH
X-WR-CALNAME:Treibhaus Döbeln
X-ORIGINAL-URL:https://treibhaus-doebeln.de
X-WR-CALDESC:Veranstaltungen für Treibhaus Döbeln
REFRESH-INTERVAL;VALUE=DURATION:PT1H
X-Robots-Tag:noindex
X-PUBLISHED-TTL:PT1H
BEGIN:VTIMEZONE
TZID:Europe/Berlin
BEGIN:DAYLIGHT
TZOFFSETFROM:+0100
TZOFFSETTO:+0200
TZNAME:CEST
DTSTART:20220327T010000
END:DAYLIGHT
BEGIN:STANDARD
TZOFFSETFROM:+0200
TZOFFSETTO:+0100
TZNAME:CET
DTSTART:20221030T010000
END:STANDARD
BEGIN:DAYLIGHT
TZOFFSETFROM:+0100
TZOFFSETTO:+0200
TZNAME:CEST
DTSTART:20230326T010000
END:DAYLIGHT
BEGIN:STANDARD
TZOFFSETFROM:+0200
TZOFFSETTO:+0100
TZNAME:CET
DTSTART:20231029T010000
END:STANDARD
BEGIN:DAYLIGHT
TZOFFSETFROM:+0100
TZOFFSETTO:+0200
TZNAME:CEST
DTSTART:20240331T010000
END:DAYLIGHT
BEGIN:STANDARD
TZOFFSETFROM:+0200
TZOFFSETTO:+0100
TZNAME:CET
DTSTART:20241027T010000
END:STANDARD
END:VTIMEZONE
BEGIN:VEVENT
DTSTART;TZID=Europe/Berlin:20230317T193000
DTEND;TZID=Europe/Berlin:20230317T220000
DTSTAMP:20260425T123554
CREATED:20230209T133932Z
LAST-MODIFIED:20230305T151419Z
UID:13624-1679081400-1679090400@treibhaus-doebeln.de
SUMMARY:Liederabend mit Paula Linke im Blutladen
DESCRIPTION:Mutig und freundlich und mit einer großen Portion Humor erzählt Paula Linke pointierte Geschichten aus dem Leben – und bald wird klar: So zart und unschuldig\, wie sie aussieht\, ist sie wahrhaftig nicht. Auch deshalb wurde die Leipziger Liedermacherin zuletzt mit der “Hoyschrecke” sowie dem Venner Folk Preis ausgezeichnet und in die Shortlist des Rio Reiser Songpreises aufgenommen. Nach ihrer erfolgreichen “Ich will noch runder werden”-Tour 2022 mit 50 Konzerten quer durch die Republik legt sie nun mit “Schön durcheinander” ein vielschichtiges drittes Programm vor.  Lied für Lied begibt sie sich darin in Gedankenexperimente\, die sich wie die Pfade kleiner Wasserläufe verzweigen und wieder zueinander finden. Ein Abend\, gewebt aus abwechslungsreichen\, eingängigen Melodien\, klugen Texte und Bildern\, – amüsant und überraschend. Paula Linke freut sich im Café Courage Bezug auf die Ausstellungsobjekte des Blutladens zu nehmen! \nEinlass: 19.00 Uhr\nBeginn: 19.30 Uhr\nEintritt: 7-10 Euro \n 
URL:https://treibhaus-doebeln.de/event/liederabend-mit-paula-linke-im-blutladen/
LOCATION:Café Courage\, Bahnhofstraße 56\, Döbeln\, Sachsen\, 04720\, Deutschland
CATEGORIES:Ausstellung,Konzert,Musik
ATTACH;FMTTYPE=image/jpeg:https://treibhaus-doebeln.de/wp-content/uploads/2023/02/788-Kopie.jpg
ORGANIZER;CN="Treibhaus e.V. D%C3%B6beln":MAILTO:info@treibhaus-doebeln.de
END:VEVENT
END:VCALENDAR