BEGIN:VCALENDAR
VERSION:2.0
PRODID:-//Treibhaus Döbeln - ECPv6.15.13//NONSGML v1.0//EN
CALSCALE:GREGORIAN
METHOD:PUBLISH
X-WR-CALNAME:Treibhaus Döbeln
X-ORIGINAL-URL:https://treibhaus-doebeln.de
X-WR-CALDESC:Veranstaltungen für Treibhaus Döbeln
REFRESH-INTERVAL;VALUE=DURATION:PT1H
X-Robots-Tag:noindex
X-PUBLISHED-TTL:PT1H
BEGIN:VTIMEZONE
TZID:Europe/Berlin
BEGIN:DAYLIGHT
TZOFFSETFROM:+0100
TZOFFSETTO:+0200
TZNAME:CEST
DTSTART:20220327T010000
END:DAYLIGHT
BEGIN:STANDARD
TZOFFSETFROM:+0200
TZOFFSETTO:+0100
TZNAME:CET
DTSTART:20221030T010000
END:STANDARD
BEGIN:DAYLIGHT
TZOFFSETFROM:+0100
TZOFFSETTO:+0200
TZNAME:CEST
DTSTART:20230326T010000
END:DAYLIGHT
BEGIN:STANDARD
TZOFFSETFROM:+0200
TZOFFSETTO:+0100
TZNAME:CET
DTSTART:20231029T010000
END:STANDARD
BEGIN:DAYLIGHT
TZOFFSETFROM:+0100
TZOFFSETTO:+0200
TZNAME:CEST
DTSTART:20240331T010000
END:DAYLIGHT
BEGIN:STANDARD
TZOFFSETFROM:+0200
TZOFFSETTO:+0100
TZNAME:CET
DTSTART:20241027T010000
END:STANDARD
END:VTIMEZONE
BEGIN:VEVENT
DTSTART;TZID=Europe/Berlin:20230301T160000
DTEND;TZID=Europe/Berlin:20230301T190000
DTSTAMP:20260421T183543
CREATED:20221208T135936Z
LAST-MODIFIED:20230125T123956Z
UID:13200-1677686400-1677697200@treibhaus-doebeln.de
SUMMARY:Beratung: Medien-Kaffeeklatsch für Senior*innen
DESCRIPTION:Beratung: Medien-Kaffeeklatsch für Senior*innen\nAm 01. März sind wir in den Räumen des Caritasverbands für das Dekanat Meißen e.V. (Geschäftsstelle Döbeln) für Sie ansprechbar. Bei Fragen zu Medien wie Internet\, Smartphone\, Persönlichkeitsrechte und vielem mehr können wir helfen. Bringen Sie Ihr Gerät mit oder sprechen mit uns\, wenn Sie vorhaben eines zu kaufen. \nThemenvorschläge und mögliche Fragen sind: \n\nBrauche ich überhaupt ein Smartphone oder Tablet?\nWas bedeuten die Zeichen und Bilder auf dem Smartphone/Tablet? (Begriffe & Hintergründe)\nSchnelle Hilfe im Internet: Hilfe es brennt\, was kann ich tun\, an wen kann ich mich wenden?\nHabe ich einen Virus auf dem Smartphone oder was ist passiert? (Internetsicherheit)\nKann ich das Internet löschen?\nWas sind Appberechtigungen\, Benutzerkonten und sichere Passwörter? (Einstellungen)\nWas das alles kostet! Gibt es da auch alternative Wege?\n\nWir wissen\, dass neue Technik oft einschüchternd wirken kann. Deshalb sind wir für Sie da und nehmen uns Zeit für Ihre Fragen und Bedenken. Wir können zuhören\, viele Fragen beantworten\, helfen und begleiten. Dieses Angebot ist jedoch keine juristische\, psychische oder psycho-soziale Beratung. \nNeben dieser Beratung bieten wir viele weitere Angebote im Rahmen der Medienbildung an. \n⏰ Zeit\n01. März \n16:00 – 19:00 \n🏡 Ort\nCaritasverband für das Dekanat Meißen e.V.\, Geschäftsstelle Döbeln \nKreuzstraße 2 \n04720 Döbeln \n📝Anmeldung\nBitte melden Sie sich direkt beim Caritasverband Meißen e.V. in der Kreuzstraße 2 an:\nTelefon +49 (0) 3431 / 72 97 941\nMail leben-im-alter@caritas-meissen.de \n📯 Ansprechpersonen Spektrum3000\nJohannes Fischer & Johannes Gersten\nMail: spektrum3000@treibhaus-doebeln.de\nWhatsApp & Telegram: +49 (0) 1575 / 0888 948\nFon: +49 (0) 3431 / 67 87 403 \nWir sind im Raum Döbeln\, Riesa und Oschatz für Sie unterwegs und wollen vor Ort mit unseren Angeboten die Medienkompetenz in Mittelsachsen stärken. Zu diesem Zweck bieten wir eine breite Auswahl an Veranstaltungen\, aus der Sie sich\, die für Sie passende\, auswählen können. Von Workshops & Kursen\, über Beratungsangebote\, bis hin zu Vorträgen können wir alles realisieren\, was Sie sich wünschen. Schauen Sie gern auf unsere Projektseite\, auch neue und individuelle Ideen können wir mit Ihnen angehen. \nDas Projekt Spektrum3000 wird von der Sächsischen Landesanstalt für privaten Rundfunk und neue Medien gefördert. \n📅 Weitere Medienbildungsangebote finden Sie hier 📅 \nDas Projekt Spektrum3000 wird von der Sächsischen Landesanstalt für privaten Rundfunk und neue Medien gefördert.
URL:https://treibhaus-doebeln.de/event/beratung-medien-kaffeeklatsch-fuer-seniorinnen-12/
LOCATION:Caritasverband Meißen\, Kreuzstraße 2\, Döbeln\, Sachsen\, 04720\, Deutschland
CATEGORIES:Beratung
ATTACH;FMTTYPE=image/png:https://treibhaus-doebeln.de/wp-content/uploads/2022/07/Seniorin-und-Smartphone-pexels-ron-lach-7884140-1200x628px.jpg.png
END:VEVENT
END:VCALENDAR