BEGIN:VCALENDAR
VERSION:2.0
PRODID:-//Treibhaus Döbeln - ECPv6.15.13//NONSGML v1.0//EN
CALSCALE:GREGORIAN
METHOD:PUBLISH
X-WR-CALNAME:Treibhaus Döbeln
X-ORIGINAL-URL:https://treibhaus-doebeln.de
X-WR-CALDESC:Veranstaltungen für Treibhaus Döbeln
REFRESH-INTERVAL;VALUE=DURATION:PT1H
X-Robots-Tag:noindex
X-PUBLISHED-TTL:PT1H
BEGIN:VTIMEZONE
TZID:Europe/Berlin
BEGIN:DAYLIGHT
TZOFFSETFROM:+0100
TZOFFSETTO:+0200
TZNAME:CEST
DTSTART:20220327T010000
END:DAYLIGHT
BEGIN:STANDARD
TZOFFSETFROM:+0200
TZOFFSETTO:+0100
TZNAME:CET
DTSTART:20221030T010000
END:STANDARD
BEGIN:DAYLIGHT
TZOFFSETFROM:+0100
TZOFFSETTO:+0200
TZNAME:CEST
DTSTART:20230326T010000
END:DAYLIGHT
BEGIN:STANDARD
TZOFFSETFROM:+0200
TZOFFSETTO:+0100
TZNAME:CET
DTSTART:20231029T010000
END:STANDARD
BEGIN:DAYLIGHT
TZOFFSETFROM:+0100
TZOFFSETTO:+0200
TZNAME:CEST
DTSTART:20240331T010000
END:DAYLIGHT
BEGIN:STANDARD
TZOFFSETFROM:+0200
TZOFFSETTO:+0100
TZNAME:CET
DTSTART:20241027T010000
END:STANDARD
END:VTIMEZONE
BEGIN:VEVENT
DTSTART;TZID=Europe/Berlin:20230218T190000
DTEND;TZID=Europe/Berlin:20230219T150000
DTSTAMP:20260421T200435
CREATED:20221220T093446Z
LAST-MODIFIED:20230206T135717Z
UID:13257-1676746800-1676818800@treibhaus-doebeln.de
SUMMARY:Wochenendseminar: Parlamentarismus- und Staatskritik
DESCRIPTION:Die Analysen des Staates gehen in der Linken weit auseinander. Das Spektrum der Interpretationen reicht von der Idealisierung bis zur Dämonisierung\, von der Übernahme des Staates bis zu seiner Abschaffung. Während der Staat für die einen als Garant des Allgemeinwohls gilt\, betrachten ihn andere als das Instrument der kapitalistischen Klassenherrschaft und wieder andere sehen in ihm das Terrain sozialer Kämpfe. \nIn seiner Einführung präsentiert Moritz Zeiler die zentralen Thesen marxistischer Theorie zum Staat: Die fragmentarischen Überlegungen bei Marx und Engels\, die instrumentelle Staatstheorie bei Lenin\, die Hegemonietheorien des westlichen Marxismus von Gramsci\, Althusser und Poulantzas sowie die Analysen von Paschukanis zum Verhältnis von Warenform\, Rechtsform und Staatsform und später daran anknüpfende Arbeiten von Agnoli\, Hirsch\, Holloway und anderen. Zuletzt wird diskutiert\, dass die Linke kein Monopol auf die Kritik des Bürgerlichen Staates besitzt. Angriffe auf bürgerliche Rechte und parlamentarische Demokratie aus konservativen bis faschistischen Kreisen sind keine reinen Krisenphänomene\, sondern stellen die Linke permanent vor Herausforderungen. \nAnmeldung\nEs wird um eine gemailte Voranmeldung gebeten:\nbernd_zoellner@treibhaus-doebeln.de \nIm Anschluss bekommt Ihr eine Textsammlung zugeschickt\, die als Diskussionsgrundlage dienen wird. \nDie Teilnahme ist kostenfrei.
URL:https://treibhaus-doebeln.de/event/wochenendseminar-parlamentarismus-und-staatskritik/
LOCATION:Café Courage\, Bahnhofstraße 56\, Döbeln\, Sachsen\, 04720\, Deutschland
CATEGORIES:Diskussion,Fortbildung,Gespräch,Information,Infotisch,Kurs,Open Café,Seminar,Vortrag,Workshop
ORGANIZER;CN="Treibhaus e.V. D%C3%B6beln":MAILTO:info@treibhaus-doebeln.de
END:VEVENT
END:VCALENDAR