BEGIN:VCALENDAR
VERSION:2.0
PRODID:-//Treibhaus Döbeln - ECPv6.15.13//NONSGML v1.0//EN
CALSCALE:GREGORIAN
METHOD:PUBLISH
X-WR-CALNAME:Treibhaus Döbeln
X-ORIGINAL-URL:https://treibhaus-doebeln.de
X-WR-CALDESC:Veranstaltungen für Treibhaus Döbeln
REFRESH-INTERVAL;VALUE=DURATION:PT1H
X-Robots-Tag:noindex
X-PUBLISHED-TTL:PT1H
BEGIN:VTIMEZONE
TZID:Europe/Berlin
BEGIN:DAYLIGHT
TZOFFSETFROM:+0100
TZOFFSETTO:+0200
TZNAME:CEST
DTSTART:20220327T010000
END:DAYLIGHT
BEGIN:STANDARD
TZOFFSETFROM:+0200
TZOFFSETTO:+0100
TZNAME:CET
DTSTART:20221030T010000
END:STANDARD
BEGIN:DAYLIGHT
TZOFFSETFROM:+0100
TZOFFSETTO:+0200
TZNAME:CEST
DTSTART:20230326T010000
END:DAYLIGHT
BEGIN:STANDARD
TZOFFSETFROM:+0200
TZOFFSETTO:+0100
TZNAME:CET
DTSTART:20231029T010000
END:STANDARD
BEGIN:DAYLIGHT
TZOFFSETFROM:+0100
TZOFFSETTO:+0200
TZNAME:CEST
DTSTART:20240331T010000
END:DAYLIGHT
BEGIN:STANDARD
TZOFFSETFROM:+0200
TZOFFSETTO:+0100
TZNAME:CET
DTSTART:20241027T010000
END:STANDARD
END:VTIMEZONE
BEGIN:VEVENT
DTSTART;TZID=Europe/Berlin:20230215T090000
DTEND;TZID=Europe/Berlin:20230215T140000
DTSTAMP:20260421T133650
CREATED:20221208T140846Z
LAST-MODIFIED:20230209T125157Z
UID:13208-1676451600-1676469600@treibhaus-doebeln.de
SUMMARY:Kurs: Der richtige Umgang mit Internet\, Smartphone & Tablet
DESCRIPTION:Ja\, ja die Technik?! Smartphones und Tablets bringen den Menschen heutzutage zwar allerhand Freude oder zumindest in vielerlei Bereichen große Erleichterung\, aber dafür muss man die Geräte bedienen können und wissen\, was es bei der Nutzung des Internets zu beachten gilt. Womit die Jugend heutzutage aufwächst\, bleibt aber für viele Erwachsene und ältere Menschen ein Buch mit sieben Siegeln.\nDamit Sie Ihr neu erworbenes oder vielleicht von den Kindern geschenktes Smartphone oder Tablet sicher und mit Freude nutzen können\, bieten wir am Mittwoch\, den 15. Februar von 9 bis14 Uhr eine Schulung an\, die Ihnen sofort praktischen Nutzen bringt. Der Workshop eignet sich als Einführung in den Umgang mit Smartphone und Tablet für Erwachsene jeden Alters. Neben dem geschickten Umgang mit Ihrem eigenen schon vorhandenen Gerät\, zeigt Ihnen der Profi auch\, was es bei der Nutzung von Internet oder Apps zu beachten gilt. Der Workshop bietet gerade für Unerfahrene einen optimalen Einstieg und begleitet ihre ersten Schritte. Es sind keine Vorkenntnisse erforderlich. Einzig mitzubringen gilt das bereits vorhandene Gerät\, welches Sie auch in Zukunft weiterhin nutzen möchten.\nEs wird eine Teilnahmegebühr erhoben. Eine Anmeldung beim Caritasverband Dekanat Meißen e.V. ist unbedingt erforderlich. \n⏰ Zeit\n15. Februar\n9:00 – 14:00 Uhr \n🏡 Ort\nCaritasverband für das Dekanat Meißen e.V.\, Geschäftsstelle Döbeln\nKreuzstraße 2\n04720 Döbeln \n📝Anmeldung\nBitte melden Sie sich direkt beim Caritasverband Meißen e.V. in der Kreuzstraße 2 an:\nTelefon +49 (0) 3431 / 72 97 941\nMail leben-im-alter@caritas-meissen.de \n📯 Ansprechpersonen Spektrum3000\nJohannes Fischer & Johannes Gersten\nMail: spektrum3000@treibhaus-doebeln.de\nWhatsApp & Telegram: +49 (0) 1575 / 0888 948\nFon: +49 (0) 3431 / 67 87 403 \nWir sind im Raum Döbeln\, Riesa und Oschatz für Sie unterwegs und wollen vor Ort mit unseren Angeboten die Medienkompetenz in Mittelsachsen stärken. Zu diesem Zweck bieten wir eine breite Auswahl an Veranstaltungen\, aus der Sie sich\, die für Sie passende\, auswählen können. Von Workshops & Kursen\, über Beratungsangebote\, bis hin zu Vorträgen können wir alles realisieren\, was Sie sich wünschen. Schauen Sie gern auf unsere Projektseite\, auch neue und individuelle Ideen können wir mit Ihnen angehen. \nDas Projekt Spektrum3000 wird von der Sächsischen Landesanstalt für privaten Rundfunk und neue Medien gefördert. \n📅 Weitere Medienbildungsangebote finden Sie hier 📅
URL:https://treibhaus-doebeln.de/event/kurs-der-richtige-umgang-mit-internet-smartphone-tablet-4/
LOCATION:Caritasverband Meißen\, Kreuzstraße 2\, Döbeln\, Sachsen\, 04720\, Deutschland
CATEGORIES:Beratung,Kurs
ATTACH;FMTTYPE=image/png:https://treibhaus-doebeln.de/wp-content/uploads/2022/07/Seniorin-und-Smartphone-pexels-ron-lach-7884140-1200x628px.jpg.png
END:VEVENT
END:VCALENDAR