BEGIN:VCALENDAR
VERSION:2.0
PRODID:-//Treibhaus Döbeln - ECPv6.15.13//NONSGML v1.0//EN
CALSCALE:GREGORIAN
METHOD:PUBLISH
X-ORIGINAL-URL:https://treibhaus-doebeln.de
X-WR-CALDESC:Veranstaltungen für Treibhaus Döbeln
REFRESH-INTERVAL;VALUE=DURATION:PT1H
X-Robots-Tag:noindex
X-PUBLISHED-TTL:PT1H
BEGIN:VTIMEZONE
TZID:Europe/Berlin
BEGIN:DAYLIGHT
TZOFFSETFROM:+0100
TZOFFSETTO:+0200
TZNAME:CEST
DTSTART:20220327T010000
END:DAYLIGHT
BEGIN:STANDARD
TZOFFSETFROM:+0200
TZOFFSETTO:+0100
TZNAME:CET
DTSTART:20221030T010000
END:STANDARD
BEGIN:DAYLIGHT
TZOFFSETFROM:+0100
TZOFFSETTO:+0200
TZNAME:CEST
DTSTART:20230326T010000
END:DAYLIGHT
BEGIN:STANDARD
TZOFFSETFROM:+0200
TZOFFSETTO:+0100
TZNAME:CET
DTSTART:20231029T010000
END:STANDARD
BEGIN:DAYLIGHT
TZOFFSETFROM:+0100
TZOFFSETTO:+0200
TZNAME:CEST
DTSTART:20240331T010000
END:DAYLIGHT
BEGIN:STANDARD
TZOFFSETFROM:+0200
TZOFFSETTO:+0100
TZNAME:CET
DTSTART:20241027T010000
END:STANDARD
END:VTIMEZONE
BEGIN:VEVENT
DTSTART;TZID=Europe/Berlin:20230210T083000
DTEND;TZID=Europe/Berlin:20230210T123000
DTSTAMP:20260421T214120
CREATED:20230125T112326Z
LAST-MODIFIED:20230125T112749Z
UID:13444-1676017800-1676032200@treibhaus-doebeln.de
SUMMARY:Workshop: Nachrichten verstehen und besprechen - AUSGEBUCHT
DESCRIPTION:Die Veranstaltung richtet sich an Lehrkräfte\, die mit ihren Schüler*innen Nachrichten(-sendungen) verstehen und einordnen möchten. Sie lernen die Vielfältigkeit des Nachrichtenwesen kennen und wie diese in verschiedenen Medien entstehen. Dabei wird auch geschaut\, wie sie kindegerechte Inhalte finden\, auswählen und diese sensibel und emanzipatorisch mit Kindern und Jugendlichen besprechen können. \nDer Workshop enthält Theorie- und Praxisanteile. So erhalten die Teilnehmenden ein umfassendes Hintergrundwissen\, sowie medienpädagogische Methoden\, die es ihnen ermöglichen\, das Gelernte in die eigenen Unterrichtspraxis zu integrieren. \n⏰ Zeit\n10. Februar \n8:30 – 12:30 \n🏡 Ort\nCafé Courage \nBahnhofstraße 56 \n04720 Döbeln \n📝 Anmeldung\nEs sind leider bereits alle Plätze belegt. \n📯 Ansprechpersonen Spektrum3000\nJohannes Fischer & Johannes Gersten\nMail: spektrum3000@treibhaus-doebeln.de\nWhatsApp & Telegram: +49 (0) 1575 / 0888 948\nFon: +49 (0) 3431 / 67 87 403 \nWir sind im Raum Döbeln\, Riesa und Oschatz für Sie unterwegs und wollen vor Ort mit unseren Angeboten die Medienkompetenz in Mittelsachsen stärken. Zu diesem Zweck bieten wir eine breite Auswahl an Veranstaltungen\, aus der Sie sich\, die für Sie passende\, auswählen können. Von Workshops & Kursen\, über Beratungsangebote\, bis hin zu Vorträgen können wir alles realisieren\, was Sie sich wünschen. Schauen Sie gern auf unsere Projektseite\, auch neue und individuelle Ideen können wir mit Ihnen angehen. \nDas Projekt Spektrum3000 wird von der Sächsischen Landesanstalt für privaten Rundfunk und neue Medien gefördert. \n📅 Weitere Medienbildungsangebote finden Sie hier 📅
URL:https://treibhaus-doebeln.de/event/medienbildung-fuer-erwachsene/
LOCATION:Sachsen
CATEGORIES:Fortbildung,Seminar,Workshop
ATTACH;FMTTYPE=image/png:https://treibhaus-doebeln.de/wp-content/uploads/2023/01/Kinder.png
END:VEVENT
END:VCALENDAR