BEGIN:VCALENDAR
VERSION:2.0
PRODID:-//Treibhaus Döbeln - ECPv6.15.13//NONSGML v1.0//EN
CALSCALE:GREGORIAN
METHOD:PUBLISH
X-WR-CALNAME:Treibhaus Döbeln
X-ORIGINAL-URL:https://treibhaus-doebeln.de
X-WR-CALDESC:Veranstaltungen für Treibhaus Döbeln
REFRESH-INTERVAL;VALUE=DURATION:PT1H
X-Robots-Tag:noindex
X-PUBLISHED-TTL:PT1H
BEGIN:VTIMEZONE
TZID:Europe/Berlin
BEGIN:DAYLIGHT
TZOFFSETFROM:+0100
TZOFFSETTO:+0200
TZNAME:CEST
DTSTART:20220327T010000
END:DAYLIGHT
BEGIN:STANDARD
TZOFFSETFROM:+0200
TZOFFSETTO:+0100
TZNAME:CET
DTSTART:20221030T010000
END:STANDARD
BEGIN:DAYLIGHT
TZOFFSETFROM:+0100
TZOFFSETTO:+0200
TZNAME:CEST
DTSTART:20230326T010000
END:DAYLIGHT
BEGIN:STANDARD
TZOFFSETFROM:+0200
TZOFFSETTO:+0100
TZNAME:CET
DTSTART:20231029T010000
END:STANDARD
BEGIN:DAYLIGHT
TZOFFSETFROM:+0100
TZOFFSETTO:+0200
TZNAME:CEST
DTSTART:20240331T010000
END:DAYLIGHT
BEGIN:STANDARD
TZOFFSETFROM:+0200
TZOFFSETTO:+0100
TZNAME:CET
DTSTART:20241027T010000
END:STANDARD
END:VTIMEZONE
BEGIN:VEVENT
DTSTART;TZID=Europe/Berlin:20230130T100000
DTEND;TZID=Europe/Berlin:20230130T160000
DTSTAMP:20260422T130317
CREATED:20230125T104905Z
LAST-MODIFIED:20230125T105823Z
UID:13434-1675072800-1675094400@treibhaus-doebeln.de
SUMMARY:Workshop: Wer braucht’n heut’ noch Websites?
DESCRIPTION:Wer braucht’n heut’ noch Websites?\nIn diesem Vortrag & Workshop schauen wir uns die Welt der Webseiten an. Viele vergessen nämlich gern\, dass wir nicht nur mit einer Suchmaschine das Internet nutzen können oder via App-Store Anwendungen finden und uns Funktionen der Onlinewelt nutzbar machen. In diesem Workshop schauen wir uns Browser & Websites an und erklären Hintergründe sowie praktische Aspekte für den Alltag. Woran erkennt man eine seriöse Seite\, was bedeutet .de und .com\, wie kann ich meinen Browser effektiv nutzen? All die kleinen und großen Fragen werden besprochen. \nIm zweiten Teil schauen wir auch in die Struktur des Internets und wie Websites eigentlich gespeichert und erstellt werden. Es darf also auch an echten Internetseiten gebastelt werden. Dieser Workshop hat eine begrenzte Teilnehmerzahl und eine Anmeldung ist unbedingt erforderlich. \n⏰ Zeit\n30. Januar 2023 \n10:00 – 16:00 Uhr \n🏡 Ort\nIm Bürgerhaus Roßwein \n📝 Anmeldung\nTelefon +49 (0) 3431 / 67 87 403\nMobil +49 (0) 157 50 888 948\nMail spektrum3000@treibhaus-doebeln.de \n📯 Ansprechpersonen Spektrum3000\nJohannes Fischer & Johannes Gersten\nMail: spektrum3000@treibhaus-doebeln.de\nWhatsApp & Telegram: +49 (0) 1575 / 0888 948\nFon: +49 (0) 3431 / 67 87 403 \nWir sind im Raum Döbeln\, Riesa und Oschatz für Sie unterwegs und wollen vor Ort mit unseren Angeboten die Medienkompetenz in Mittelsachsen stärken. Zu diesem Zweck bieten wir eine breite Auswahl an Veranstaltungen\, aus der Sie sich\, die für Sie passende\, auswählen können. Von Workshops & Kursen\, über Beratungsangebote\, bis hin zu Vorträgen können wir alles realisieren\, was Sie sich wünschen. Schauen Sie gern auf unsere Projektseite\, auch neue und individuelle Ideen können wir mit Ihnen angehen. \nDas Projekt Spektrum3000 wird von der Sächsischen Landesanstalt für privaten Rundfunk und neue Medien gefördert. \n📅 Weitere Medienbildungsangebote finden Sie hier 📅
URL:https://treibhaus-doebeln.de/event/medienbildung-in-doebeln-riesa-oschatz/
LOCATION:Bürgerhaus Roßwein\, Markt 08\, Roßwein\, Sachsen\, 04741\, Deutschland
CATEGORIES:Fortbildung,Seminar,Workshop
ATTACH;FMTTYPE=image/png:https://treibhaus-doebeln.de/wp-content/uploads/2023/01/Website-Wordpress-Workshop.png
ORGANIZER;CN="B%C3%BCrgerhaus Ro%C3%9Fwein":MAILTO:buergerhaus-rosswein@gmx.de
END:VEVENT
BEGIN:VEVENT
DTSTART;TZID=Europe/Berlin:20230130T173000
DTEND;TZID=Europe/Berlin:20230130T193000
DTSTAMP:20260422T130317
CREATED:20230118T095059Z
LAST-MODIFIED:20230124T130903Z
UID:13357-1675099800-1675107000@treibhaus-doebeln.de
SUMMARY:creativ.café
DESCRIPTION:Das creativ.café ist ein Kunsttreff für Frauen (FLINTA- Personen) mit und ohne Fluchthintergrund. Gemeinsam beschäftigen wir uns unter professioneller Anleitung mit verschiedenen Kunsttechniken – von Linoldruck\, Siebdruck\, Lithografie\, Radierung\, Collage bis hin zu Buchkunst\, Fotografie oder Kalligrafie. Sowohl die künstlerische Exploration als auch die intensive Auseinandersetzung mit einzelnen Techniken stehen dabei im Vordergrund. \nAuch fortgeschrittene oder professionelle Künstlerinnen sind bei uns herzlich willkommen.\nAllerdings musst du keine Vorerfahrungen mitbringen\, lediglich Freude und Interesse an kreativer Betätigung. Wir freuen uns auf dich. \nBeginn: 17.30 Uhr\nEnde: 19.30 Uhr \nDie Teilnahme ist kostenfrei.\nDas Material wird gestellt.
URL:https://treibhaus-doebeln.de/event/creativ-cafe-49/
LOCATION:Café Courage\, Bahnhofstraße 56\, Döbeln\, Sachsen\, 04720\, Deutschland
CATEGORIES:Kunst
ATTACH;FMTTYPE=image/jpeg:https://treibhaus-doebeln.de/wp-content/uploads/2023/01/22_Creativ.Café_Slider.jpg
ORGANIZER;CN="Treibhaus e.V. D%C3%B6beln":MAILTO:info@treibhaus-doebeln.de
END:VEVENT
END:VCALENDAR