BEGIN:VCALENDAR
VERSION:2.0
PRODID:-//Treibhaus Döbeln - ECPv6.15.13//NONSGML v1.0//EN
CALSCALE:GREGORIAN
METHOD:PUBLISH
X-WR-CALNAME:Treibhaus Döbeln
X-ORIGINAL-URL:https://treibhaus-doebeln.de
X-WR-CALDESC:Veranstaltungen für Treibhaus Döbeln
REFRESH-INTERVAL;VALUE=DURATION:PT1H
X-Robots-Tag:noindex
X-PUBLISHED-TTL:PT1H
BEGIN:VTIMEZONE
TZID:Europe/Berlin
BEGIN:DAYLIGHT
TZOFFSETFROM:+0100
TZOFFSETTO:+0200
TZNAME:CEST
DTSTART:20220327T010000
END:DAYLIGHT
BEGIN:STANDARD
TZOFFSETFROM:+0200
TZOFFSETTO:+0100
TZNAME:CET
DTSTART:20221030T010000
END:STANDARD
BEGIN:DAYLIGHT
TZOFFSETFROM:+0100
TZOFFSETTO:+0200
TZNAME:CEST
DTSTART:20230326T010000
END:DAYLIGHT
BEGIN:STANDARD
TZOFFSETFROM:+0200
TZOFFSETTO:+0100
TZNAME:CET
DTSTART:20231029T010000
END:STANDARD
BEGIN:DAYLIGHT
TZOFFSETFROM:+0100
TZOFFSETTO:+0200
TZNAME:CEST
DTSTART:20240331T010000
END:DAYLIGHT
BEGIN:STANDARD
TZOFFSETFROM:+0200
TZOFFSETTO:+0100
TZNAME:CET
DTSTART:20241027T010000
END:STANDARD
END:VTIMEZONE
BEGIN:VEVENT
DTSTART;TZID=Europe/Berlin:20230127T150000
DTEND;TZID=Europe/Berlin:20230127T180000
DTSTAMP:20260421T134905
CREATED:20221006T092911Z
LAST-MODIFIED:20221220T111101Z
UID:12667-1674831600-1674842400@treibhaus-doebeln.de
SUMMARY:Offene Siebdruckwerkstatt
DESCRIPTION:Der Treibhaus e.V. beherbergt eine gut ausgestattete Siebdruckwerkstatt und lädt regelmäßig zur offenen Siebdruckwerkstatt ein. Jeden letzen Freitag im Monat von 15.00 bis 18:00 Uhr hast du die Möglichkeit vorbeizukommen\, Fragen zu stellen oder selbst Sachen zu bedrucken. Es gibt immer eine große Auswahl an Motiven und Textilien vor Ort. Auf Anfrage können auch gerne eigens entworfene Motive gedruckt werden. Die offene Siebdruckwerkstatt bietet einen Raum\, um die Siebdrucktechnik kennenzulernen und eigene Projekte selbstständig oder mit Anleitung durchzuführen. \nÖffnungszeiten\njeden letzten Freitag im Monat 15.00 – 18.00 Uhr\n2. Etage // Bahnhofstraße 56 \nKontakt\nJulia Kaltofen\nMail: siebdruck@treibhaus-doebeln.de\nFon: +49 (0) 3431 / 60 52 978
URL:https://treibhaus-doebeln.de/event/offene-siebdruckwerkstatt-63/
LOCATION:Treibhaus e.V.\, Bahnhofstraße 56\, Döbeln\, Sachsen\, 04720\, Deutschland
CATEGORIES:Kunst,Kurs
ATTACH;FMTTYPE=image/jpeg:https://treibhaus-doebeln.de/wp-content/uploads/2022/10/FB-4-scaled.jpg
ORGANIZER;CN="Treibhaus e.V. D%C3%B6beln":MAILTO:info@treibhaus-doebeln.de
END:VEVENT
BEGIN:VEVENT
DTSTART;TZID=Europe/Berlin:20230127T190000
DTEND;TZID=Europe/Berlin:20230127T210000
DTSTAMP:20260421T134905
CREATED:20221219T203438Z
LAST-MODIFIED:20221220T111356Z
UID:13245-1674846000-1674853200@treibhaus-doebeln.de
SUMMARY:Film: Der Karski Bericht
DESCRIPTION:Ein filmisches Zeugnis über das Warschauer Ghetto von Claude Lanzmann\nAnlässlich des Jahrestages der Befreiung des Konzentrationslagers Auschwitz erinnern wir mit dem Film: „Der Karski Bericht“ von Claude Lanzmann an die deutschen Massenverbrechen während des Zweiten Weltkrieges. Jan Karski\, ein polnischer Widerstandskämpfer\, der in das Warschauer Ghetto eingeschleust wurde\, erhielt den Auftrag den britischen und amerikanischen Alliierten von den antisemitischen Gräueltaten zu berichten. Mit seinen Schilderungen des Unbegreiflichen trat er vor Churchill und Roosevelt\, um die Weltgemeinschaft zum Eingreifen gegen den Zivilisationsbruch zu bewegen. Im Anschluss laden wir dazu ein\, über die Hintergründe und Eindrücke des Filmes zu sprechen. \nEinlass: 18.30 Uhr\nBeginn: 19.00 Uhr \nDer Eintritt ist frei.
URL:https://treibhaus-doebeln.de/event/film-der-karski-bericht-claude-lanzmann-cafe-courage/
LOCATION:Café Courage\, Bahnhofstraße 56\, Döbeln\, Sachsen\, 04720\, Deutschland
CATEGORIES:Film,Gespräch
ATTACH;FMTTYPE=image/jpeg:https://treibhaus-doebeln.de/wp-content/uploads/2022/12/230127_Karski-Bericht_HEADER.jpg
ORGANIZER;CN="Treibhaus e.V. D%C3%B6beln":MAILTO:info@treibhaus-doebeln.de
END:VEVENT
END:VCALENDAR