BEGIN:VCALENDAR
VERSION:2.0
PRODID:-//Treibhaus Döbeln - ECPv6.15.13//NONSGML v1.0//EN
CALSCALE:GREGORIAN
METHOD:PUBLISH
X-WR-CALNAME:Treibhaus Döbeln
X-ORIGINAL-URL:https://treibhaus-doebeln.de
X-WR-CALDESC:Veranstaltungen für Treibhaus Döbeln
REFRESH-INTERVAL;VALUE=DURATION:PT1H
X-Robots-Tag:noindex
X-PUBLISHED-TTL:PT1H
BEGIN:VTIMEZONE
TZID:Europe/Berlin
BEGIN:DAYLIGHT
TZOFFSETFROM:+0100
TZOFFSETTO:+0200
TZNAME:CEST
DTSTART:20220327T010000
END:DAYLIGHT
BEGIN:STANDARD
TZOFFSETFROM:+0200
TZOFFSETTO:+0100
TZNAME:CET
DTSTART:20221030T010000
END:STANDARD
BEGIN:DAYLIGHT
TZOFFSETFROM:+0100
TZOFFSETTO:+0200
TZNAME:CEST
DTSTART:20230326T010000
END:DAYLIGHT
BEGIN:STANDARD
TZOFFSETFROM:+0200
TZOFFSETTO:+0100
TZNAME:CET
DTSTART:20231029T010000
END:STANDARD
BEGIN:DAYLIGHT
TZOFFSETFROM:+0100
TZOFFSETTO:+0200
TZNAME:CEST
DTSTART:20240331T010000
END:DAYLIGHT
BEGIN:STANDARD
TZOFFSETFROM:+0200
TZOFFSETTO:+0100
TZNAME:CET
DTSTART:20241027T010000
END:STANDARD
END:VTIMEZONE
BEGIN:VEVENT
DTSTART;TZID=Europe/Berlin:20230120T083000
DTEND;TZID=Europe/Berlin:20230120T123000
DTSTAMP:20260422T005018
CREATED:20230119T150748Z
LAST-MODIFIED:20230125T112207Z
UID:13397-1674203400-1674217800@treibhaus-doebeln.de
SUMMARY:Workshop: Nachrichten verstehen und besprechen - AUSGEBUCHT
DESCRIPTION:Die Veranstaltung richtet sich an Lehrkräfte\, die mit ihren Schüler*innen Nachrichten(-sendungen) verstehen und einordnen möchten. Sie lernen die Vielfältigkeit des Nachrichtenwesen kennen und wie diese in verschiedenen Medien entstehen. Dabei wird auch geschaut\, wie sie kindegerechte Inhalte finden\, auswählen und diese sensibel und emanzipatorisch mit Kindern und Jugendlichen besprechen können. \nDer Workshop enthält Theorie- und Praxisanteile. So erhalten die Teilnehmenden ein umfassendes Hintergrundwissen\, sowie medienpädagogische Methoden\, die es ihnen ermöglichen\, das Gelernte in die eigenen Unterrichtspraxis zu integrieren. \n⏰ Zeit\n20. Januar \n8:30 – 12:30 \n🏡 Ort\nCafé Courage \nBahnhofstraße 56 \n04720 Döbeln \n📝 Anmeldung\nEs sind leider bereits alle Plätze belegt. \n📯 Ansprechpersonen Spektrum3000\nJohannes Fischer & Johannes Gersten\nMail: spektrum3000@treibhaus-doebeln.de\nWhatsApp & Telegram: +49 (0) 1575 / 0888 948\nFon: +49 (0) 3431 / 67 87 403 \nWir sind im Raum Döbeln\, Riesa und Oschatz für Sie unterwegs und wollen vor Ort mit unseren Angeboten die Medienkompetenz in Mittelsachsen stärken. Zu diesem Zweck bieten wir eine breite Auswahl an Veranstaltungen\, aus der Sie sich\, die für Sie passende\, auswählen können. Von Workshops & Kursen\, über Beratungsangebote\, bis hin zu Vorträgen können wir alles realisieren\, was Sie sich wünschen. Schauen Sie gern auf unsere Projektseite\, auch neue und individuelle Ideen können wir mit Ihnen angehen. \nDas Projekt Spektrum3000 wird von der Sächsischen Landesanstalt für privaten Rundfunk und neue Medien gefördert. \n📅 Weitere Medienbildungsangebote finden Sie hier 📅
URL:https://treibhaus-doebeln.de/event/workshop-nachrichten-verstehen-und-besprechen-ausgebucht/
LOCATION:Café Courage\, Bahnhofstraße 56\, Döbeln\, Sachsen\, 04720\, Deutschland
CATEGORIES:Workshop
ATTACH;FMTTYPE=image/png:https://treibhaus-doebeln.de/wp-content/uploads/2023/01/Kinder.png
END:VEVENT
BEGIN:VEVENT
DTSTART;TZID=Europe/Berlin:20230120T190000
DTEND;TZID=Europe/Berlin:20230120T233000
DTSTAMP:20260422T005018
CREATED:20221219T201852Z
LAST-MODIFIED:20221220T110912Z
UID:13241-1674241200-1674257400@treibhaus-doebeln.de
SUMMARY:Punkrock-Tresen
DESCRIPTION:Es ist mal wieder „Punkrock“ im Café Courage. Schaut unbedingt vorbei und hängt mit uns am Tresen rum! \nBeginn: 19.00 Uhr\nEnde: offen \n Ja\, wir freuen uns auf Euch!
URL:https://treibhaus-doebeln.de/event/punkrock-tresen-im-cafe-courage/
LOCATION:Café Courage\, Bahnhofstraße 56\, Döbeln\, Sachsen\, 04720\, Deutschland
CATEGORIES:Musik,Open Café
ORGANIZER;CN="Treibhaus e.V. D%C3%B6beln":MAILTO:info@treibhaus-doebeln.de
END:VEVENT
END:VCALENDAR