BEGIN:VCALENDAR
VERSION:2.0
PRODID:-//Treibhaus Döbeln - ECPv6.15.13//NONSGML v1.0//EN
CALSCALE:GREGORIAN
METHOD:PUBLISH
X-WR-CALNAME:Treibhaus Döbeln
X-ORIGINAL-URL:https://treibhaus-doebeln.de
X-WR-CALDESC:Veranstaltungen für Treibhaus Döbeln
REFRESH-INTERVAL;VALUE=DURATION:PT1H
X-Robots-Tag:noindex
X-PUBLISHED-TTL:PT1H
BEGIN:VTIMEZONE
TZID:Europe/Berlin
BEGIN:DAYLIGHT
TZOFFSETFROM:+0100
TZOFFSETTO:+0200
TZNAME:CEST
DTSTART:20220327T010000
END:DAYLIGHT
BEGIN:STANDARD
TZOFFSETFROM:+0200
TZOFFSETTO:+0100
TZNAME:CET
DTSTART:20221030T010000
END:STANDARD
BEGIN:DAYLIGHT
TZOFFSETFROM:+0100
TZOFFSETTO:+0200
TZNAME:CEST
DTSTART:20230326T010000
END:DAYLIGHT
BEGIN:STANDARD
TZOFFSETFROM:+0200
TZOFFSETTO:+0100
TZNAME:CET
DTSTART:20231029T010000
END:STANDARD
BEGIN:DAYLIGHT
TZOFFSETFROM:+0100
TZOFFSETTO:+0200
TZNAME:CEST
DTSTART:20240331T010000
END:DAYLIGHT
BEGIN:STANDARD
TZOFFSETFROM:+0200
TZOFFSETTO:+0100
TZNAME:CET
DTSTART:20241027T010000
END:STANDARD
END:VTIMEZONE
BEGIN:VEVENT
DTSTART;TZID=Europe/Berlin:20230116T173000
DTEND;TZID=Europe/Berlin:20230116T193000
DTSTAMP:20260422T010841
CREATED:20230109T120305Z
LAST-MODIFIED:20230109T120305Z
UID:13321-1673890200-1673897400@treibhaus-doebeln.de
SUMMARY:creativ.café
DESCRIPTION:Das creativ.café ist ein Kunsttreff für Frauen (FLINTA- Personen) mit und ohne Fluchthintergrund. Gemeinsam beschäftigen wir uns unter professioneller Anleitung mit verschiedenen Kunsttechniken – von Linoldruck\, Siebdruck\, Lithografie\, Radierung\, Collage bis hin zu Buchkunst\, Fotografie oder Kalligrafie. Sowohl die künstlerische Exploration als auch die intensive Auseinandersetzung mit einzelnen Techniken stehen dabei im Vordergrund. \nAuch fortgeschrittene oder professionelle Künstlerinnen sind bei uns herzlich willkommen.\nAllerdings musst du keine Vorerfahrungen mitbringen\, lediglich Freude und Interesse an kreativer Betätigung. Wir freuen uns auf dich. \nBeginn: 17.30 Uhr\nEnde: 19.30 Uhr \nDie Teilnahme ist kostenfrei.\nDas Material wird gestellt.
URL:https://treibhaus-doebeln.de/event/creativ-cafe-48/
LOCATION:Café Courage\, Bahnhofstraße 56\, Döbeln\, Sachsen\, 04720\, Deutschland
CATEGORIES:Kunst
ATTACH;FMTTYPE=image/jpeg:https://treibhaus-doebeln.de/wp-content/uploads/2022/04/22_Creativ.Café_Slider.jpg
ORGANIZER;CN="Treibhaus e.V. D%C3%B6beln":MAILTO:info@treibhaus-doebeln.de
END:VEVENT
END:VCALENDAR