BEGIN:VCALENDAR
VERSION:2.0
PRODID:-//Treibhaus Döbeln - ECPv6.15.13//NONSGML v1.0//EN
CALSCALE:GREGORIAN
METHOD:PUBLISH
X-WR-CALNAME:Treibhaus Döbeln
X-ORIGINAL-URL:https://treibhaus-doebeln.de
X-WR-CALDESC:Veranstaltungen für Treibhaus Döbeln
REFRESH-INTERVAL;VALUE=DURATION:PT1H
X-Robots-Tag:noindex
X-PUBLISHED-TTL:PT1H
BEGIN:VTIMEZONE
TZID:Europe/Berlin
BEGIN:DAYLIGHT
TZOFFSETFROM:+0100
TZOFFSETTO:+0200
TZNAME:CEST
DTSTART:20210328T010000
END:DAYLIGHT
BEGIN:STANDARD
TZOFFSETFROM:+0200
TZOFFSETTO:+0100
TZNAME:CET
DTSTART:20211031T010000
END:STANDARD
BEGIN:DAYLIGHT
TZOFFSETFROM:+0100
TZOFFSETTO:+0200
TZNAME:CEST
DTSTART:20220327T010000
END:DAYLIGHT
BEGIN:STANDARD
TZOFFSETFROM:+0200
TZOFFSETTO:+0100
TZNAME:CET
DTSTART:20221030T010000
END:STANDARD
BEGIN:DAYLIGHT
TZOFFSETFROM:+0100
TZOFFSETTO:+0200
TZNAME:CEST
DTSTART:20230326T010000
END:DAYLIGHT
BEGIN:STANDARD
TZOFFSETFROM:+0200
TZOFFSETTO:+0100
TZNAME:CET
DTSTART:20231029T010000
END:STANDARD
END:VTIMEZONE
BEGIN:VEVENT
DTSTART;TZID=Europe/Berlin:20221226T190000
DTEND;TZID=Europe/Berlin:20221226T233000
DTSTAMP:20260423T085251
CREATED:20221020T125325Z
LAST-MODIFIED:20221201T091035Z
UID:12914-1672081200-1672097400@treibhaus-doebeln.de
SUMMARY:Rockin’ Around The Christmas Tree – Open Christmas Café
DESCRIPTION:Rockin’ Around The Christmas Tree – Open Christmas Café  Auch am zweiten Weihnachtsfeiertag öffnet das Café Courage seine heiligen Hallen und lädt zur entspannten Afterhour nach Familienfraß und Festtagsstimmung ein. \nBeginn: 19.00 Uhr
URL:https://treibhaus-doebeln.de/event/rockin-around-the-christmas-tree-open-christmas-cafe%e2%80%a8/
LOCATION:Café Courage\, Bahnhofstraße 56\, Döbeln\, Sachsen\, 04720\, Deutschland
ATTACH;FMTTYPE=image/jpeg:https://treibhaus-doebeln.de/wp-content/uploads/2022/10/pexels-photo-713148.jpeg
ORGANIZER;CN="Treibhaus e.V. D%C3%B6beln":MAILTO:info@treibhaus-doebeln.de
END:VEVENT
BEGIN:VEVENT
DTSTART;TZID=Europe/Berlin:20221226T200000
DTEND;TZID=Europe/Berlin:20221226T200000
DTSTAMP:20260423T085251
CREATED:20221011T123400Z
LAST-MODIFIED:20221024T085259Z
UID:12815-1672084800-1672084800@treibhaus-doebeln.de
SUMMARY:Open Café
DESCRIPTION:Ab sofort ist das Café Courage immer am Montag ab 20 Uhr geöffnet. \nDas Café Courage ist unsere Begegnungs- und Veranstaltungsstätte in Döbeln. Es bietet eine Alternative zur übrigen Kneipenkultur und wird ehrenamtlich organisiert. Hier hast du die Möglichkeit\, Freund*innen zu treffen\, Musik zu hören\, Filme zu schauen\, zu kickern\, PlayStation zu spielen\, Barabende selbst zu gestalten und gemeinsam über gesellschaftliche\, politische und andere Themen zu diskutieren.
URL:https://treibhaus-doebeln.de/event/open-cafe-19/
LOCATION:Café Courage\, Bahnhofstraße 56\, Döbeln\, Sachsen\, 04720\, Deutschland
CATEGORIES:Open Café
ATTACH;FMTTYPE=image/jpeg:https://treibhaus-doebeln.de/wp-content/uploads/2022/10/Open-Cafe-Header.jpg
ORGANIZER;CN="Treibhaus e.V. D%C3%B6beln":MAILTO:info@treibhaus-doebeln.de
END:VEVENT
END:VCALENDAR