BEGIN:VCALENDAR
VERSION:2.0
PRODID:-//Treibhaus Döbeln - ECPv6.15.13//NONSGML v1.0//EN
CALSCALE:GREGORIAN
METHOD:PUBLISH
X-ORIGINAL-URL:https://treibhaus-doebeln.de
X-WR-CALDESC:Veranstaltungen für Treibhaus Döbeln
REFRESH-INTERVAL;VALUE=DURATION:PT1H
X-Robots-Tag:noindex
X-PUBLISHED-TTL:PT1H
BEGIN:VTIMEZONE
TZID:Europe/Berlin
BEGIN:DAYLIGHT
TZOFFSETFROM:+0100
TZOFFSETTO:+0200
TZNAME:CEST
DTSTART:20210328T010000
END:DAYLIGHT
BEGIN:STANDARD
TZOFFSETFROM:+0200
TZOFFSETTO:+0100
TZNAME:CET
DTSTART:20211031T010000
END:STANDARD
BEGIN:DAYLIGHT
TZOFFSETFROM:+0100
TZOFFSETTO:+0200
TZNAME:CEST
DTSTART:20220327T010000
END:DAYLIGHT
BEGIN:STANDARD
TZOFFSETFROM:+0200
TZOFFSETTO:+0100
TZNAME:CET
DTSTART:20221030T010000
END:STANDARD
BEGIN:DAYLIGHT
TZOFFSETFROM:+0100
TZOFFSETTO:+0200
TZNAME:CEST
DTSTART:20230326T010000
END:DAYLIGHT
BEGIN:STANDARD
TZOFFSETFROM:+0200
TZOFFSETTO:+0100
TZNAME:CET
DTSTART:20231029T010000
END:STANDARD
END:VTIMEZONE
BEGIN:VEVENT
DTSTART;TZID=Europe/Berlin:20221221T190000
DTEND;TZID=Europe/Berlin:20221221T220000
DTSTAMP:20260421T213211
CREATED:20221206T114222Z
LAST-MODIFIED:20221206T114256Z
UID:13189-1671649200-1671660000@treibhaus-doebeln.de
SUMMARY:Jam session
DESCRIPTION:Jam session\nWir laden zu einer Jam session ins Café Courage ein! Ob Profi oder Hobbymusiker*in\, musiziert und improvisiert gemeinsam auf unserer Bühne. Bringt eure Instrumente mit\, ölt eure Stimmen oder nutzt\, was auf der Bühne bereits ausgelegt ist und lasst euch im Klangteppich mitreißen. Wohin die musikalische Reise dabei geht\, ist immer wieder eine Überraschung. \nWer nur zuhören und ein Getränk an der Bar genießen möchte\, ist natürlich ebenso willkommen. \nBeginn: 19.00 Uhr
URL:https://treibhaus-doebeln.de/event/jam-session-2/
LOCATION:Café Courage\, Bahnhofstraße 56\, Döbeln\, Sachsen\, 04720\, Deutschland
CATEGORIES:Konzert,Kunst,Musik
ATTACH;FMTTYPE=image/jpeg:https://treibhaus-doebeln.de/wp-content/uploads/2022/08/20220906-Jam-session.jpg
ORGANIZER;CN="Treibhaus e.V. D%C3%B6beln":MAILTO:info@treibhaus-doebeln.de
END:VEVENT
END:VCALENDAR