BEGIN:VCALENDAR
VERSION:2.0
PRODID:-//Treibhaus Döbeln - ECPv6.15.13//NONSGML v1.0//EN
CALSCALE:GREGORIAN
METHOD:PUBLISH
X-ORIGINAL-URL:https://treibhaus-doebeln.de
X-WR-CALDESC:Veranstaltungen für Treibhaus Döbeln
REFRESH-INTERVAL;VALUE=DURATION:PT1H
X-Robots-Tag:noindex
X-PUBLISHED-TTL:PT1H
BEGIN:VTIMEZONE
TZID:Europe/Berlin
BEGIN:DAYLIGHT
TZOFFSETFROM:+0100
TZOFFSETTO:+0200
TZNAME:CEST
DTSTART:20210328T010000
END:DAYLIGHT
BEGIN:STANDARD
TZOFFSETFROM:+0200
TZOFFSETTO:+0100
TZNAME:CET
DTSTART:20211031T010000
END:STANDARD
BEGIN:DAYLIGHT
TZOFFSETFROM:+0100
TZOFFSETTO:+0200
TZNAME:CEST
DTSTART:20220327T010000
END:DAYLIGHT
BEGIN:STANDARD
TZOFFSETFROM:+0200
TZOFFSETTO:+0100
TZNAME:CET
DTSTART:20221030T010000
END:STANDARD
BEGIN:DAYLIGHT
TZOFFSETFROM:+0100
TZOFFSETTO:+0200
TZNAME:CEST
DTSTART:20230326T010000
END:DAYLIGHT
BEGIN:STANDARD
TZOFFSETFROM:+0200
TZOFFSETTO:+0100
TZNAME:CET
DTSTART:20231029T010000
END:STANDARD
END:VTIMEZONE
BEGIN:VEVENT
DTSTART;TZID=Europe/Berlin:20221219T173000
DTEND;TZID=Europe/Berlin:20221219T193000
DTSTAMP:20260422T024746
CREATED:20221020T111827Z
LAST-MODIFIED:20221020T111827Z
UID:12895-1671471000-1671478200@treibhaus-doebeln.de
SUMMARY:creativ.café
DESCRIPTION:creativ.café\nDas creativ.café ist ein Kunsttreff für Frauen (FLINTA- Personen) mit und ohne Fluchthintergrund. Gemeinsam beschäftigen wir uns unter professioneller Anleitung mit verschiedenen Kunsttechniken – von Linoldruck\, Siebdruck\, Lithografie\, Radierung\, Collage bis hin zu Buchkunst\, Fotografie oder Kalligrafie. Sowohl die künstlerische Exploration als auch die intensive Auseinandersetzung mit einzelnen Techniken stehen dabei im Vordergrund. \nAuch fortgeschrittene oder professionelle Künstlerinnen sind bei uns herzlich willkommen.\nAllerdings musst du keine Vorerfahrungen mitbringen\, lediglich Freude und Interesse an kreativer Betätigung. Wir freuen uns auf dich. \nBeginn: 17.30 Uhr\nEnde: 19.30 Uhr \nDie Teilnahme ist kostenfrei.\nDas Material wird gestellt.
URL:https://treibhaus-doebeln.de/event/creativ-cafe-47/
LOCATION:Café Courage\, Bahnhofstraße 56\, Döbeln\, Sachsen\, 04720\, Deutschland
ATTACH;FMTTYPE=image/jpeg:https://treibhaus-doebeln.de/wp-content/uploads/2022/10/2048-1152-max.jpg
ORGANIZER;CN="Treibhaus e.V. D%C3%B6beln":MAILTO:info@treibhaus-doebeln.de
END:VEVENT
BEGIN:VEVENT
DTSTART;TZID=Europe/Berlin:20221219T200000
DTEND;TZID=Europe/Berlin:20221219T200000
DTSTAMP:20260422T024746
CREATED:20221011T123251Z
LAST-MODIFIED:20221024T085215Z
UID:12812-1671480000-1671480000@treibhaus-doebeln.de
SUMMARY:Open Café
DESCRIPTION:Ab sofort ist das Café Courage immer am Montag ab 20 Uhr geöffnet. \nDas Café Courage ist unsere Begegnungs- und Veranstaltungsstätte in Döbeln. Es bietet eine Alternative zur übrigen Kneipenkultur und wird ehrenamtlich organisiert. Hier hast du die Möglichkeit\, Freund*innen zu treffen\, Musik zu hören\, Filme zu schauen\, zu kickern\, PlayStation zu spielen\, Barabende selbst zu gestalten und gemeinsam über gesellschaftliche\, politische und andere Themen zu diskutieren.
URL:https://treibhaus-doebeln.de/event/open-cafe-18/
LOCATION:Café Courage\, Bahnhofstraße 56\, Döbeln\, Sachsen\, 04720\, Deutschland
CATEGORIES:Open Café
ATTACH;FMTTYPE=image/jpeg:https://treibhaus-doebeln.de/wp-content/uploads/2022/10/Open-Cafe-Header.jpg
ORGANIZER;CN="Treibhaus e.V. D%C3%B6beln":MAILTO:info@treibhaus-doebeln.de
END:VEVENT
BEGIN:VEVENT
DTSTART;TZID=Europe/Berlin:20221219T200000
DTEND;TZID=Europe/Berlin:20221219T220000
DTSTAMP:20260422T024746
CREATED:20221212T133524Z
LAST-MODIFIED:20221212T133524Z
UID:13213-1671480000-1671487200@treibhaus-doebeln.de
SUMMARY:Kurzfilmabend: "Im Rausch der Alltäglichkeit" (Kurzsüchtig)
DESCRIPTION:Kurzfilmabend: “Im Rausch der Alltäglichkeit” (Kurzsüchtig)\nAnlässlich der Kurzfilmtage zeigen wir am 19.12.2022 das Filmprogramm “Im Rausch der Alltäglichkeit” (Kurzsüchtig). Diese preisgekrönten Kurzfilme widmen sich bekannten und unbekannten\, schönen und schauerlichen Geschichten des Lebens: \nWie fühlt es sich an\, wochenlang auf einem Containerschiff über die Meere zu kreuzen? Wie verändert eine Stadt\, die sich nach dem Untergang ihrer Industrie neu definieren muss\, die Menschen\, die in ihr leben? Warum passieren politische Ereignisse oft auf Balkonen? Darf man auf einen Holocaust-Witz mit der Faust antworten? Und hat Bertolt Brecht am Ende Recht? Am Ende verlieren wir uns noch im Rausch der Alltäglichkeit. \nEinlass: 19.30 Uhr\nBeginn: 20.00 Uhr\nEnde: ca. 21.30 Uhr (Gesamtlaufzeit ca. 92 min.)\nEintritt frei\, Spende erwünscht \nDiese Veranstaltung ist Teil des Programms “film.land.sachsen” vom Filmverband Sachsen e.V. \nUnd hier schon einmal der Trailer zum Programm: \nhttps://vimeo.com/690500603?embedded=true&source=video_title&owner=92818317 \n 
URL:https://treibhaus-doebeln.de/event/kurzfilm-im-rausch-der-alltaeglichkeit-kurzsuechtig/
LOCATION:Café Courage\, Bahnhofstraße 56\, Döbeln\, Sachsen\, 04720\, Deutschland
CATEGORIES:Film
ATTACH;FMTTYPE=image/jpeg:https://treibhaus-doebeln.de/wp-content/uploads/2022/11/Kurzsüchtig_22.12.19_WEBSITE-1.jpg
ORGANIZER;CN="Treibhaus e.V. D%C3%B6beln":MAILTO:info@treibhaus-doebeln.de
END:VEVENT
END:VCALENDAR