BEGIN:VCALENDAR
VERSION:2.0
PRODID:-//Treibhaus Döbeln - ECPv6.15.13//NONSGML v1.0//EN
CALSCALE:GREGORIAN
METHOD:PUBLISH
X-WR-CALNAME:Treibhaus Döbeln
X-ORIGINAL-URL:https://treibhaus-doebeln.de
X-WR-CALDESC:Veranstaltungen für Treibhaus Döbeln
REFRESH-INTERVAL;VALUE=DURATION:PT1H
X-Robots-Tag:noindex
X-PUBLISHED-TTL:PT1H
BEGIN:VTIMEZONE
TZID:Europe/Berlin
BEGIN:DAYLIGHT
TZOFFSETFROM:+0100
TZOFFSETTO:+0200
TZNAME:CEST
DTSTART:20210328T010000
END:DAYLIGHT
BEGIN:STANDARD
TZOFFSETFROM:+0200
TZOFFSETTO:+0100
TZNAME:CET
DTSTART:20211031T010000
END:STANDARD
BEGIN:DAYLIGHT
TZOFFSETFROM:+0100
TZOFFSETTO:+0200
TZNAME:CEST
DTSTART:20220327T010000
END:DAYLIGHT
BEGIN:STANDARD
TZOFFSETFROM:+0200
TZOFFSETTO:+0100
TZNAME:CET
DTSTART:20221030T010000
END:STANDARD
BEGIN:DAYLIGHT
TZOFFSETFROM:+0100
TZOFFSETTO:+0200
TZNAME:CEST
DTSTART:20230326T010000
END:DAYLIGHT
BEGIN:STANDARD
TZOFFSETFROM:+0200
TZOFFSETTO:+0100
TZNAME:CET
DTSTART:20231029T010000
END:STANDARD
END:VTIMEZONE
BEGIN:VEVENT
DTSTART;TZID=Europe/Berlin:20221216T080000
DTEND;TZID=Europe/Berlin:20221216T170000
DTSTAMP:20260421T231424
CREATED:20221110T134052Z
LAST-MODIFIED:20221122T120524Z
UID:12904-1671177600-1671210000@treibhaus-doebeln.de
SUMMARY:Exkursion: Redaktionsbesuch bei der Sächsischen Zeitung
DESCRIPTION:Exkursion: Redaktionsbesuch bei der Sächsischen Zeitung\nNachwievor haben viele Menschen morgens die Tageszeitung im Briefkasten. Mittlerweile lesen aber auch viele ihre Nachrichten online. Die großen Zeitungsverlage haben sich auf beides eingestellt und ihr Angebot wächst stetig. Doch wie kommen Informationen und Nachrichten in die Zeitung? Wie wählen die Redaktionen Themen aus? Und wie sind die Arbeitsabläufe bei so einer Zeitung? Diese Fragen wollen wir mit unserem Besuch in der Redaktion der Sächsischen Zeitung in Dresden beantworten. Im Nachhinein gibt es noch ein Gespräch im Medienkulturzentrum Dresden\, bei dem wir das Gehörte und Gesehene einordnen\, sowie diskutieren\, welche Herausforderungen und Chancen die Printpresse in der heutigen Medienlandschaft hat. \n⏰ Ablauf\n08:15 Uhr Treff am Döbelner Busbahnhof\, Fahrt nach Dresden\n—————————\n10:30 Uhr Führung im Haus der Presse Dresden (Sächsische Zeitung\, TAG24\, DDv Mediengruppe)\n12:00 Uhr Mittagspause in der Dresdner Innenstadt\n13:00 Uhr Besuch im Medienkulturzentrum & Austausch zum Besuch im Haus der Presse\n—————————\n15:00 Uhr Rückfahrt von Dresden nach Döbeln \n📝 Anmeldung\nWir haben insgesamt 20 Plätze. Eine Anmeldung ist daher unbedingt notwendig. Bitte teilen Sie uns bei Ihrer Anmeldung mit\, ob Sie separat oder gemeinsam mit dem Bus nach Dresden fahren möchten. Sie können auch eigenständig 10:20 Uhr am Haus der Presse sein und uns dort treffen. Die Bus-Tickets (Döbeln-Dresden und zurück) sowie die Führung werden durch uns gestellt. Wir bitten Sie sich selbst zu verpflegen und beachten Sie\, dass manche Wegstrecke zu Fuß bewältigt wird (ein bis zwei Km).\nTeilnahmegebühr: 5 Euro \n📯 Ansprechpersonen Spektrum3000\nJohannes Fischer & Johannes Gersten\nMail: spektrum3000@treibhaus-doebeln.de\nWhatsApp & Telegram: +49 (0) 1575 / 0888 948\nFon: +49 (0) 3431 / 67 87 403 \nWir sind im Raum Döbeln\, Riesa und Oschatz für Sie unterwegs und wollen vor Ort mit unseren Angeboten die Medienkompetenz in Mittelsachsen stärken. Zu diesem Zweck bieten wir eine breite Auswahl an Veranstaltungen\, aus der Sie sich\, die für Sie passende\, auswählen können. Von Workshops & Kursen\, über Beratungsangebote\, bis hin zu Vorträgen können wir alles realisieren\, was Sie sich wünschen. Schauen Sie gern auf unsere Projektseite\, auch neue und individuelle Ideen können wir mit Ihnen angehen. \nDas Projekt Spektrum3000 wird von der Sächsischen Landesanstalt für privaten Rundfunk und neue Medien gefördert. In Kooperation mit der Sächsischen Zeitung.\n \n📅 Weitere Medienbildungsangebote hier 📅
URL:https://treibhaus-doebeln.de/event/exkursion-zur-saechsischen-zeitung/
LOCATION:Haus der Presse\, Ostra-Allee 20\, Dresden\, Sachsen\, 01067\, Deutschland
CATEGORIES:Bildungsfahrt,Diskussion,Vortrag
ATTACH;FMTTYPE=image/png:https://treibhaus-doebeln.de/wp-content/uploads/2022/10/Beitragsbild-Newspaper.png
END:VEVENT
BEGIN:VEVENT
DTSTART;TZID=Europe/Berlin:20221216T190000
DTEND;TZID=Europe/Berlin:20221216T190000
DTSTAMP:20260421T231424
CREATED:20221107T100058Z
LAST-MODIFIED:20221107T100514Z
UID:12994-1671217200-1671217200@treibhaus-doebeln.de
SUMMARY:Whisky Tasting IV
DESCRIPTION:Das mittlerweile vierte Whisky Tasting im Café Courage dreht sich diesmal um das regionale „Wasser des Lebens“ aus dem Striegistal.\nWir haben für euch sechs Flaschen dieser recht jungen Brennerei aus Sachsen ausgewählt. Darunter sind fünf Single Malts die in unterschiedlichen Fässen reiften und ein Single Grain Whisky aus regionalem Getreide.\nWie immer kommen alle Whiskys ohne Farbstoff und Kühlfiltrierung aus.\n  \nEinlass: 18.30 Uhr\nBeginn: 19.00 Uhr\n  \nDer Unkostenbeitrag beträgt 20 Euro pro Person für 6 Kostproben a 2 cl.\n  \nAnmeldung\nDa die Teilnehmendenanzahl begrenzt ist\, bitten wir um Anmeldung an:\nFon: +49 (0) 3431 / 60 52 972\nWhatsApp & Telegram: +49 (0) 157 35 701 142\nMail: stephan_conrad@treibhaus-doebeln.de
URL:https://treibhaus-doebeln.de/event/whisky-tasting-iv/
LOCATION:Café Courage\, Bahnhofstraße 56\, Döbeln\, Sachsen\, 04720\, Deutschland
CATEGORIES:Information
ATTACH;FMTTYPE=image/jpeg:https://treibhaus-doebeln.de/wp-content/uploads/2022/11/314437141_2263017257213036_3544053682336929843_n.jpg
ORGANIZER;CN="Treibhaus e.V. D%C3%B6beln":MAILTO:info@treibhaus-doebeln.de
END:VEVENT
END:VCALENDAR