BEGIN:VCALENDAR
VERSION:2.0
PRODID:-//Treibhaus Döbeln - ECPv6.15.13//NONSGML v1.0//EN
CALSCALE:GREGORIAN
METHOD:PUBLISH
X-ORIGINAL-URL:https://treibhaus-doebeln.de
X-WR-CALDESC:Veranstaltungen für Treibhaus Döbeln
REFRESH-INTERVAL;VALUE=DURATION:PT1H
X-Robots-Tag:noindex
X-PUBLISHED-TTL:PT1H
BEGIN:VTIMEZONE
TZID:Europe/Berlin
BEGIN:DAYLIGHT
TZOFFSETFROM:+0100
TZOFFSETTO:+0200
TZNAME:CEST
DTSTART:20210328T010000
END:DAYLIGHT
BEGIN:STANDARD
TZOFFSETFROM:+0200
TZOFFSETTO:+0100
TZNAME:CET
DTSTART:20211031T010000
END:STANDARD
BEGIN:DAYLIGHT
TZOFFSETFROM:+0100
TZOFFSETTO:+0200
TZNAME:CEST
DTSTART:20220327T010000
END:DAYLIGHT
BEGIN:STANDARD
TZOFFSETFROM:+0200
TZOFFSETTO:+0100
TZNAME:CET
DTSTART:20221030T010000
END:STANDARD
BEGIN:DAYLIGHT
TZOFFSETFROM:+0100
TZOFFSETTO:+0200
TZNAME:CEST
DTSTART:20230326T010000
END:DAYLIGHT
BEGIN:STANDARD
TZOFFSETFROM:+0200
TZOFFSETTO:+0100
TZNAME:CET
DTSTART:20231029T010000
END:STANDARD
END:VTIMEZONE
BEGIN:VEVENT
DTSTART;TZID=Europe/Berlin:20221215T170000
DTEND;TZID=Europe/Berlin:20221215T190000
DTSTAMP:20260421T231520
CREATED:20221111T113426Z
LAST-MODIFIED:20221206T150221Z
UID:13041-1671123600-1671130800@treibhaus-doebeln.de
SUMMARY:Vortrag: Digitalisierung in der Sozialen Fürsorge
DESCRIPTION:Vortrag: Digitalisierung in der Sozialen Fürsorge\nSie arbeiten in der Pflege\, im betreuten Wohnen\, im Hospiz oder begleiten im Rahmen der sozialen Arbeit Familien oder Menschen mit Behinderung im Alltag? Dann wird Ihnen sicherlich aufgefallen sein\, dass zunehmend digitale Medien eine wichtige Rolle spielen. Von Verwaltung über die E-Akte der Krankenkassen bis hin zum privaten Smartphone der Klient*innen und Patient*innen wird derzeit alles „auf digital“ umgestellt. Viele wichtige Aspekte und eine kritische Auseinandersetzung finden oft keinen Raum\, im Arbeitsalltag behandelt zu werden. Kolleg*innen sind überfordert\, Apps sind nicht barrierefrei und die Menschen\, um die es eigentlich gehen sollte\, erhalten nicht automatisch mehr Partizipationsmöglichkeiten. \nDieser Vortrag ist für alle Berufe und Personen aus der sozialen und gesundheitlichen Fürsorge gedacht. Beispielhaft zeigen wir\, wie die Lebenshilfe Oschatz den Weg der Digitalisierung geht und dabei weiter schaut\, als nur auf TV-Bildschrime im Flur. Vielmehr geht es um Partizipation\, die Erleichterung des Arbeitsalltags (ohne Überforderung und Barrieren)\, eine transparente Hilfeplanung und Dokumentation mit Klient*innen\, Datenschutz und den Schutz der Persönlichkeitsrechte. Eigens eine App wurde dafür produziert\, die ihresgleichen sucht. Die Projektleiterin und einer der Programmierer werden uns zu dem Vortrag tiefergehende Einblicke gewähren und können uns viele Fragen beantworten. \n👱‍♀️👨‍💻 Zu den Referent*innen:\nNadine Hallbauer ist Mitglied der Geschäftsleitung der Lebenshilfe Oschatz und war zuvor Heim- und Wohnstättenleiterin\, sowie Qualitätsbeauftrage. Im Rahmen der “digitalen Klientenakte” war sie maßgeblich für die Planung und Entwicklung verantwortlich\, mit den Zielen: aktive Teilhabe der Betroffenen an der Dokumentation zu unterstützen; mehr direkte Betreuungszeit zu ermöglichen und das angestellte Team zu entlasten. \nMartin Stegert ist Projektleiter bei der Davitec GmbH und hat einen Großteil der zu digitalisierenden Prozesse bei der Lebenshilfe Oschatz analysiert und passende Lösungen dafür konzipiert. Zum Vortrag wird er auf Entwicklungs- und Digitalisierungsfragen eingehen und ist mit den gängigen Methoden der Softwareentwicklung bestens vertraut. \n⏰ Ablauf\nEinlass  16:30 Uhr\nBeginn  17:00 Uhr\nEnde     19:00 Uhr (danach weiterhin offene Bar) \n📝 Anmeldung\nEs ist keine Anmeldung notwendig.\nTeilnahmegebühr: freier Eintritt \n📯 Ansprechpersonen Spektrum3000\nJohannes Fischer & Johannes Gersten\nMail: spektrum3000@treibhaus-doebeln.de\nWhatsApp & Telegram: +49 (0) 1575 / 0888 948\nFon: +49 (0) 3431 / 67 87 403 \nWir sind im Raum Döbeln\, Riesa und Oschatz für Sie unterwegs und wollen vor Ort mit unseren Angeboten die Medienkompetenz in Mittelsachsen stärken. Zu diesem Zweck bieten wir eine breite Auswahl an Veranstaltungen\, aus der Sie sich\, die für Sie passende\, auswählen können. Von Workshops & Kursen\, über Beratungsangebote\, bis hin zu Vorträgen können wir alles realisieren\, was Sie sich wünschen. Schauen Sie gern auf unsere Projektseite\, auch neue und individuelle Ideen können wir mit Ihnen angehen. \nDas Projekt Spektrum3000 wird von der Sächsischen Landesanstalt für privaten Rundfunk und neue Medien gefördert.\n \n📅 Weitere Medienbildungsangebote hier 📅
URL:https://treibhaus-doebeln.de/event/vortrag-digitalisierung-in-der-sozialen-fuersorge/
LOCATION:Café Courage\, Bahnhofstraße 56\, Döbeln\, Sachsen\, 04720\, Deutschland
CATEGORIES:Gespräch,Information,Vortrag
ATTACH;FMTTYPE=image/jpeg:https://treibhaus-doebeln.de/wp-content/uploads/2022/11/Digitale-soziale-Fuersorge.jpg
ORGANIZER;CN="Lebenshilfe RV Oschatz e.V.":MAILTO:info@lebenshilfe-oschatz.de
END:VEVENT
END:VCALENDAR