BEGIN:VCALENDAR
VERSION:2.0
PRODID:-//Treibhaus Döbeln - ECPv6.15.13//NONSGML v1.0//EN
CALSCALE:GREGORIAN
METHOD:PUBLISH
X-WR-CALNAME:Treibhaus Döbeln
X-ORIGINAL-URL:https://treibhaus-doebeln.de
X-WR-CALDESC:Veranstaltungen für Treibhaus Döbeln
REFRESH-INTERVAL;VALUE=DURATION:PT1H
X-Robots-Tag:noindex
X-PUBLISHED-TTL:PT1H
BEGIN:VTIMEZONE
TZID:Europe/Berlin
BEGIN:DAYLIGHT
TZOFFSETFROM:+0100
TZOFFSETTO:+0200
TZNAME:CEST
DTSTART:20210328T010000
END:DAYLIGHT
BEGIN:STANDARD
TZOFFSETFROM:+0200
TZOFFSETTO:+0100
TZNAME:CET
DTSTART:20211031T010000
END:STANDARD
BEGIN:DAYLIGHT
TZOFFSETFROM:+0100
TZOFFSETTO:+0200
TZNAME:CEST
DTSTART:20220327T010000
END:DAYLIGHT
BEGIN:STANDARD
TZOFFSETFROM:+0200
TZOFFSETTO:+0100
TZNAME:CET
DTSTART:20221030T010000
END:STANDARD
BEGIN:DAYLIGHT
TZOFFSETFROM:+0100
TZOFFSETTO:+0200
TZNAME:CEST
DTSTART:20230326T010000
END:DAYLIGHT
BEGIN:STANDARD
TZOFFSETFROM:+0200
TZOFFSETTO:+0100
TZNAME:CET
DTSTART:20231029T010000
END:STANDARD
END:VTIMEZONE
BEGIN:VEVENT
DTSTART;TZID=Europe/Berlin:20221209T190000
DTEND;TZID=Europe/Berlin:20221209T230000
DTSTAMP:20260421T232352
CREATED:20221124T092647Z
LAST-MODIFIED:20221124T092647Z
UID:13121-1670612400-1670626800@treibhaus-doebeln.de
SUMMARY:Film: Rettet die Clubs
DESCRIPTION:Rettet die Clubs\nEin Film von Ritchy Fondermann\nDer Künstler Alex Molter fertigte im August 2020 Kunstwerke in Gitarrenform. Berliner Bands signierten die Gitarren und verschenkten sie an die Clubs\, die sie gerne unterstützen wollten. Die Clubs konnten die Gitarren versteigern\, um aus den erzielten Gewinnen die finanziellen Folgen der Corona-Pandemie zu lindern. \nIm September 2021\, zwischen der dritten und vierten Corona-Welle und nach mehreren Monaten Lockdown war die Aktion unter dem Motto „Rettet die Clubs – on Tour“ deutschlandweit unterwegs. In acht Tagen wurden 26 Bands\, Künstler*innen\, Menschen aus der Kulturbranche\, sowie 17 Clubs und Veranstaltungsorte besucht. Letztlich hielt ihr Tourbus auch vor dem Café Courage. Der Prinzen-Sänger Sebastian Krumbiegel signierte eine Gitarre\, die zu Gunsten des Jugendhaus Roßwein\, des AJZ Leisnig und dem Treibhaus e.V. versteigert wurde. \nAus dieser Solidaritätsaktion ist nun der Dokumentarfilm „Rettet die Clubs – der Film“ entstanden. Diesen Film werden wir am 9.12.22 im Café Courage zeigen mit anschließender Podiumsdiskussion mit dem „Rettet die Clubs“-Team\, Livemusik und der berühmten „Strafbar“. \nErscheint zahlreich und rettet die Clubs! \nEinlass: 18.30 Uhr\nBeginn: 19.00 Uhr\nEintritt ist auf Spende
URL:https://treibhaus-doebeln.de/event/film-rettet-die-clubs/
LOCATION:Café Courage\, Bahnhofstraße 56\, Döbeln\, Sachsen\, 04720\, Deutschland
CATEGORIES:Diskussion,Film,Konzert,Musik
ATTACH;FMTTYPE=image/jpeg:https://treibhaus-doebeln.de/wp-content/uploads/2022/11/HEADER_RettetDieClubs_9.12.22.jpg
ORGANIZER;CN="Treibhaus e.V. D%C3%B6beln":MAILTO:info@treibhaus-doebeln.de
END:VEVENT
END:VCALENDAR