BEGIN:VCALENDAR
VERSION:2.0
PRODID:-//Treibhaus Döbeln - ECPv6.15.13//NONSGML v1.0//EN
CALSCALE:GREGORIAN
METHOD:PUBLISH
X-WR-CALNAME:Treibhaus Döbeln
X-ORIGINAL-URL:https://treibhaus-doebeln.de
X-WR-CALDESC:Veranstaltungen für Treibhaus Döbeln
REFRESH-INTERVAL;VALUE=DURATION:PT1H
X-Robots-Tag:noindex
X-PUBLISHED-TTL:PT1H
BEGIN:VTIMEZONE
TZID:Europe/Berlin
BEGIN:DAYLIGHT
TZOFFSETFROM:+0100
TZOFFSETTO:+0200
TZNAME:CEST
DTSTART:20210328T010000
END:DAYLIGHT
BEGIN:STANDARD
TZOFFSETFROM:+0200
TZOFFSETTO:+0100
TZNAME:CET
DTSTART:20211031T010000
END:STANDARD
BEGIN:DAYLIGHT
TZOFFSETFROM:+0100
TZOFFSETTO:+0200
TZNAME:CEST
DTSTART:20220327T010000
END:DAYLIGHT
BEGIN:STANDARD
TZOFFSETFROM:+0200
TZOFFSETTO:+0100
TZNAME:CET
DTSTART:20221030T010000
END:STANDARD
BEGIN:DAYLIGHT
TZOFFSETFROM:+0100
TZOFFSETTO:+0200
TZNAME:CEST
DTSTART:20230326T010000
END:DAYLIGHT
BEGIN:STANDARD
TZOFFSETFROM:+0200
TZOFFSETTO:+0100
TZNAME:CET
DTSTART:20231029T010000
END:STANDARD
END:VTIMEZONE
BEGIN:VEVENT
DTSTART;TZID=Europe/Berlin:20221207T160000
DTEND;TZID=Europe/Berlin:20221207T180000
DTSTAMP:20260422T061525
CREATED:20221020T112234Z
LAST-MODIFIED:20221201T091128Z
UID:12897-1670428800-1670436000@treibhaus-doebeln.de
SUMMARY:Workshop: Drahtengel fertigen
DESCRIPTION:Workshop: Drahtengel fertigen\nAus Papierdraht\, Pergamentpapier und alten Buchseiten werden schöne Dekoengel für die Weihnachtszeit gefertigt. Eine sehr interessante und leicht zu erlernende Technik. \nAuch für Kinder geeignet. \nBeginn: 16.00 Uhr\nTeilnahmegebühr: 5€ \nAnmeldung\nSusanne Harz\nMail: naehcafe@treibhaus-doebeln.de\nFon: +49 (0) 163 / 15 79 074
URL:https://treibhaus-doebeln.de/event/workshop-drahtengel-fertigen%e2%80%a8/
LOCATION:Nähcafé Döbeln\, Zwingerstraße 3/4\, Döbeln\, 04720
ATTACH;FMTTYPE=image/jpeg:https://treibhaus-doebeln.de/wp-content/uploads/2022/10/Nähcafe.jpg
ORGANIZER;CN="Treibhaus e.V. D%C3%B6beln":MAILTO:info@treibhaus-doebeln.de
END:VEVENT
END:VCALENDAR