BEGIN:VCALENDAR
VERSION:2.0
PRODID:-//Treibhaus Döbeln - ECPv6.15.13//NONSGML v1.0//EN
CALSCALE:GREGORIAN
METHOD:PUBLISH
X-WR-CALNAME:Treibhaus Döbeln
X-ORIGINAL-URL:https://treibhaus-doebeln.de
X-WR-CALDESC:Veranstaltungen für Treibhaus Döbeln
REFRESH-INTERVAL;VALUE=DURATION:PT1H
X-Robots-Tag:noindex
X-PUBLISHED-TTL:PT1H
BEGIN:VTIMEZONE
TZID:Europe/Berlin
BEGIN:DAYLIGHT
TZOFFSETFROM:+0100
TZOFFSETTO:+0200
TZNAME:CEST
DTSTART:20210328T010000
END:DAYLIGHT
BEGIN:STANDARD
TZOFFSETFROM:+0200
TZOFFSETTO:+0100
TZNAME:CET
DTSTART:20211031T010000
END:STANDARD
BEGIN:DAYLIGHT
TZOFFSETFROM:+0100
TZOFFSETTO:+0200
TZNAME:CEST
DTSTART:20220327T010000
END:DAYLIGHT
BEGIN:STANDARD
TZOFFSETFROM:+0200
TZOFFSETTO:+0100
TZNAME:CET
DTSTART:20221030T010000
END:STANDARD
BEGIN:DAYLIGHT
TZOFFSETFROM:+0100
TZOFFSETTO:+0200
TZNAME:CEST
DTSTART:20230326T010000
END:DAYLIGHT
BEGIN:STANDARD
TZOFFSETFROM:+0200
TZOFFSETTO:+0100
TZNAME:CET
DTSTART:20231029T010000
END:STANDARD
END:VTIMEZONE
BEGIN:VEVENT
DTSTART;TZID=Europe/Berlin:20221206T173000
DTEND;TZID=Europe/Berlin:20221206T193000
DTSTAMP:20260421T200415
CREATED:20221006T091355Z
LAST-MODIFIED:20221006T091355Z
UID:12645-1670347800-1670355000@treibhaus-doebeln.de
SUMMARY:Siebdruckworkshop: CHRISTMAS PRINTING
DESCRIPTION:Siebdruckworkshop: CHRISTMAS PRINTING\n\nIn diesem Workshop möchten wir gemeinsam Siebdruck ausprobieren und dabei noch wunderschöne Prints auf Stoff und Papier herstellen\, die sich super zu Weihnachten verschenken lassen.\n\nWir haben verschiedene weihnachtliche Motive zusammengestellt\, aus denen du auswählen kannst. Außerdem bieten wir unterschiedliche Druckträger an\, die du vor Ort erwerben kannst\, z.B. Postkarten\, Papiertüten\, Beutel\, Notizhefte u.v.m. Du zahlst nur\, was du wirklich druckst und kannst über deinen Teilnehmer*innenbeitrag selbst entscheiden.\n\nDu musst nichts vorbereiten und brauchst auch keine Vorkenntnisse\, nur etwas Zeit und Lust zum Experimentieren!\n\nDu willst dabei sein? Dann melde dich an\, die Teilnehmer*innenanzahl ist begrenzt!\n\nBeginn: 17.30 Uhr\nEnde: ca. 19.30 Uhr\n\n\nAnmeldung\n\nMail: siebdruck@treibhaus-doebeln.de\nFon: +49 (0) 3431 / 60 52 978
URL:https://treibhaus-doebeln.de/event/siebdruckworkshop-christmas-printing/
LOCATION:Café Courage\, Bahnhofstraße 56\, Döbeln\, Sachsen\, 04720\, Deutschland
CATEGORIES:Kunst,Workshop
ATTACH;FMTTYPE=image/jpeg:https://treibhaus-doebeln.de/wp-content/uploads/2022/10/FB-1-scaled.jpg
ORGANIZER;CN="Treibhaus e.V. D%C3%B6beln":MAILTO:info@treibhaus-doebeln.de
END:VEVENT
END:VCALENDAR