BEGIN:VCALENDAR
VERSION:2.0
PRODID:-//Treibhaus Döbeln - ECPv6.15.13//NONSGML v1.0//EN
CALSCALE:GREGORIAN
METHOD:PUBLISH
X-WR-CALNAME:Treibhaus Döbeln
X-ORIGINAL-URL:https://treibhaus-doebeln.de
X-WR-CALDESC:Veranstaltungen für Treibhaus Döbeln
REFRESH-INTERVAL;VALUE=DURATION:PT1H
X-Robots-Tag:noindex
X-PUBLISHED-TTL:PT1H
BEGIN:VTIMEZONE
TZID:Europe/Berlin
BEGIN:DAYLIGHT
TZOFFSETFROM:+0100
TZOFFSETTO:+0200
TZNAME:CEST
DTSTART:20210328T010000
END:DAYLIGHT
BEGIN:STANDARD
TZOFFSETFROM:+0200
TZOFFSETTO:+0100
TZNAME:CET
DTSTART:20211031T010000
END:STANDARD
BEGIN:DAYLIGHT
TZOFFSETFROM:+0100
TZOFFSETTO:+0200
TZNAME:CEST
DTSTART:20220327T010000
END:DAYLIGHT
BEGIN:STANDARD
TZOFFSETFROM:+0200
TZOFFSETTO:+0100
TZNAME:CET
DTSTART:20221030T010000
END:STANDARD
BEGIN:DAYLIGHT
TZOFFSETFROM:+0100
TZOFFSETTO:+0200
TZNAME:CEST
DTSTART:20230326T010000
END:DAYLIGHT
BEGIN:STANDARD
TZOFFSETFROM:+0200
TZOFFSETTO:+0100
TZNAME:CET
DTSTART:20231029T010000
END:STANDARD
END:VTIMEZONE
BEGIN:VEVENT
DTSTART;TZID=Europe/Berlin:20221202T183000
DTEND;TZID=Europe/Berlin:20221202T200000
DTSTAMP:20260421T200425
CREATED:20221006T140602Z
LAST-MODIFIED:20221020T122648Z
UID:12714-1670005800-1670011200@treibhaus-doebeln.de
SUMMARY:Vortrag: Big Data - Was unsere Daten über uns verraten.
DESCRIPTION:Vortrag: Big Data – Was unsere Daten über uns verraten.\nin Kooperation mit der Stadtbibliothek Riesa. \nDaten sind heutzutage ständig um uns herum. Ob wir online ein Zugticket kaufen\, die Weihnachtsgeschenke besorgen\, Nachrichten lesen oder recherchieren. Überall hinterlassen wir Spuren im Internet und diese werden in großen Mengen gesammelt und gespeichert. Diese Datenbanken können Firmen und auch Parteien viel über uns verraten.So geht man z.B. davon aus\, dass der Wahlkampf Donald Trumps gezielt auf Basis solcher Datenbanken auf bestimmte Personengruppen ausgerichtet wurde. \nNach einer inhaltlichen Einführung\, gibt es Zeit für Diskussionen und Fragen aus dem Publikum. \nPräsentiert und moderiert wird die Veranstaltung von Dr. Charlotte Knorr. Sie ist wissenschaftliche Mitarbeiterin am Institut für Kommunikations- und Medienwissenschaft\, Universität Leipzig. Seit 2021 erforscht sie die medienkommunikative Rahmung von Big Data aus einer Kultur-\, Zeit- und Ländervergleichenden Perspektive (DFG-Projekt\, Leitung: Prof. Dr. Christian Pentzold). Zusätzlich ist sie ausgebildete Mediatorin (nach ZMediatAusbV) mit dem Schwerpunkt Transformative Mediation für zivilgesellschaftliche Akteur*innen und sozio-politische Konflikte. \nEs ist keine Anmeldung erforderlich. Die Teilnahme ist kostenfrei. \n⏰ Zeit\n02. Dezember 2022 \nEinlass:  18:00 Uhr \nBeginn:  18:30 Uhr \nEnde:     20:00 Uhr \n🏡 Ort\nStadtbibliothek Riesa\nPoppitzer Platz 3\n01589 Riesa \n📯 Ansprechpersonen Spektrum3000:\nJohannes Fischer & Johannes Gersten\nMail: spektrum3000@treibhaus-doebeln.de\nWhatsApp & Telegram: +49 (0) 1575 / 0888 948\nFon: +49 (0) 3431 / 67 87 403 \nWir sind im Raum Döbeln\, Riesa und Oschatz für euch unterwegs und wollen vor Ort mit unseren Angeboten die Medienkompetenz in Mittelsachsen stärken. Zu diesem Zweck bieten wir eine breite Auswahl an Veranstaltungen\, aus der ihr euch\, die für euch passende\, auswählen könnt. Von Workshops & Kursen\, über Beratungsangebote\, bis hin zu Vorträgen können wir alles realisieren\, was ihr euch wünscht. Schaut gern auf unsere Projektseite\, auch neue und individuelle Ideen können wir mit Euch angehen. \nDas Projekt Spektrum3000 wird von der Sächsischen Landesanstalt für privaten Rundfunk und neue Medien gefördert. In Kooperation mit der Stadtbibliothek Riesa.\n \n📅 Weitere Medienbildungsangebote hier 📅
URL:https://treibhaus-doebeln.de/event/vortrag-big-data-was-unsere-daten-ueber-uns-verraten/
LOCATION:Stadtbibliothek Riesa\, Poppitzer Platz 3\, Riesa\, Sachsen\, 01589\, Deutschland
CATEGORIES:Gespräch,Vortrag
ATTACH;FMTTYPE=image/png:https://treibhaus-doebeln.de/wp-content/uploads/2022/10/Beitragsbild-Big-Data.png
END:VEVENT
END:VCALENDAR