BEGIN:VCALENDAR
VERSION:2.0
PRODID:-//Treibhaus Döbeln - ECPv6.15.13//NONSGML v1.0//EN
CALSCALE:GREGORIAN
METHOD:PUBLISH
X-ORIGINAL-URL:https://treibhaus-doebeln.de
X-WR-CALDESC:Veranstaltungen für Treibhaus Döbeln
REFRESH-INTERVAL;VALUE=DURATION:PT1H
X-Robots-Tag:noindex
X-PUBLISHED-TTL:PT1H
BEGIN:VTIMEZONE
TZID:Europe/Berlin
BEGIN:DAYLIGHT
TZOFFSETFROM:+0100
TZOFFSETTO:+0200
TZNAME:CEST
DTSTART:20210328T010000
END:DAYLIGHT
BEGIN:STANDARD
TZOFFSETFROM:+0200
TZOFFSETTO:+0100
TZNAME:CET
DTSTART:20211031T010000
END:STANDARD
BEGIN:DAYLIGHT
TZOFFSETFROM:+0100
TZOFFSETTO:+0200
TZNAME:CEST
DTSTART:20220327T010000
END:DAYLIGHT
BEGIN:STANDARD
TZOFFSETFROM:+0200
TZOFFSETTO:+0100
TZNAME:CET
DTSTART:20221030T010000
END:STANDARD
BEGIN:DAYLIGHT
TZOFFSETFROM:+0100
TZOFFSETTO:+0200
TZNAME:CEST
DTSTART:20230326T010000
END:DAYLIGHT
BEGIN:STANDARD
TZOFFSETFROM:+0200
TZOFFSETTO:+0100
TZNAME:CET
DTSTART:20231029T010000
END:STANDARD
END:VTIMEZONE
BEGIN:VEVENT
DTSTART;TZID=Europe/Berlin:20221130T090000
DTEND;TZID=Europe/Berlin:20221130T150000
DTSTAMP:20260421T213206
CREATED:20221011T123407Z
LAST-MODIFIED:20221011T123608Z
UID:12813-1669798800-1669820400@treibhaus-doebeln.de
SUMMARY:Unterwegs: Projekttag in Oschatz - Sicher im Netz
DESCRIPTION:Unterwegs: Projekttag in Oschatz – Sicher im Netz\n📚 Gemeinsam mit der Lebenshilfe Oschatz setzen wir mehrere Aktivitäten um. Am 30. November sind wir mit einer Gruppe Menschen mit Behinderung unterwegs. Die Teilnehmenden setzen sich mit aktuellen Chancen und Risiken moderner digitaler Endgeräte auseinander. Dabei steht auch Partizipation im Fokus\, also Teilhabe von Menschen fördern\, deren Zugang zum Internet bisher oft nur eingeschränkt möglich war. Weitere Aspekte werden sein: \n\neigenen Konsum reflektieren\ngemeinsame Nutzung (statt alleine)\nInformationssuche im Netz\nQuellen finden und prüfen; Fakes & Lügen erkennen\nRegeln und Vereinbarungen entwickeln\nkreative Ausdrucksmöglichkeiten erproben\n\n☝️ Hinweis\nFür dieses Angebot sind leider keine Anmeldungen mehr möglich\, die Plätze sind belegt. Falls Sie oder Ihre Einrichtung Interesse daran haben Medienbildungsangebote für Erwachsene umzusetzen\, dann melden Sie sich bei uns. Alle weiteren Infos zu Spektrum3000 hier… \n📝Kontakt\nJohannes Fischer & Johannes Gersten\nMail: spektrum3000@treibhaus-doebeln.de\nWhatsApp & Telegram: +49 (0) 1575 / 0888 948\nFon: +49 (0) 3431 / 67 87 403 \nWir sind im Raum Döbeln\, Riesa und Oschatz für Sie unterwegs und wollen vor Ort mit unseren Angeboten die Medienkompetenz in Mittelsachsen stärken. Zu diesem Zweck bieten wir eine breite Auswahl an Veranstaltungen\, aus der Sie sich\, die für Sie passende\, auswählen können. Von Workshops & Kursen\, über Beratungsangebote\, bis hin zu Vorträgen können wir alles realisieren\, was Sie sich wünschen. Schauen Sie gern auf unsere Projektseite\, auch neue und individuelle Ideen können wir mit Ihnen angehen. \n📅 Weitere Medienbildungsangebote finden Sie hier 📅 \nDas Projekt Spektrum3000 wird von der Sächsischen Landesanstalt für privaten Rundfunk und neue Medien gefördert. \n 
URL:https://treibhaus-doebeln.de/event/unterwegs-projekttag-in-oschatz-sicher-im-netz-8/
LOCATION:Sachsen
CATEGORIES:Beratung,Information,Projekt
ATTACH;FMTTYPE=image/jpeg:https://treibhaus-doebeln.de/wp-content/uploads/2022/02/inklusive-Medienbildung-Webheader-unterwegs.jpg
ORGANIZER;CN="Lebenshilfe RV Oschatz e.V.":MAILTO:info@lebenshilfe-oschatz.de
END:VEVENT
END:VCALENDAR