BEGIN:VCALENDAR
VERSION:2.0
PRODID:-//Treibhaus Döbeln - ECPv6.15.13//NONSGML v1.0//EN
CALSCALE:GREGORIAN
METHOD:PUBLISH
X-WR-CALNAME:Treibhaus Döbeln
X-ORIGINAL-URL:https://treibhaus-doebeln.de
X-WR-CALDESC:Veranstaltungen für Treibhaus Döbeln
REFRESH-INTERVAL;VALUE=DURATION:PT1H
X-Robots-Tag:noindex
X-PUBLISHED-TTL:PT1H
BEGIN:VTIMEZONE
TZID:Europe/Berlin
BEGIN:DAYLIGHT
TZOFFSETFROM:+0100
TZOFFSETTO:+0200
TZNAME:CEST
DTSTART:20210328T010000
END:DAYLIGHT
BEGIN:STANDARD
TZOFFSETFROM:+0200
TZOFFSETTO:+0100
TZNAME:CET
DTSTART:20211031T010000
END:STANDARD
BEGIN:DAYLIGHT
TZOFFSETFROM:+0100
TZOFFSETTO:+0200
TZNAME:CEST
DTSTART:20220327T010000
END:DAYLIGHT
BEGIN:STANDARD
TZOFFSETFROM:+0200
TZOFFSETTO:+0100
TZNAME:CET
DTSTART:20221030T010000
END:STANDARD
BEGIN:DAYLIGHT
TZOFFSETFROM:+0100
TZOFFSETTO:+0200
TZNAME:CEST
DTSTART:20230326T010000
END:DAYLIGHT
BEGIN:STANDARD
TZOFFSETFROM:+0200
TZOFFSETTO:+0100
TZNAME:CET
DTSTART:20231029T010000
END:STANDARD
END:VTIMEZONE
BEGIN:VEVENT
DTSTART;TZID=Europe/Berlin:20221125T150000
DTEND;TZID=Europe/Berlin:20221125T180000
DTSTAMP:20260423T220416
CREATED:20221006T092616Z
LAST-MODIFIED:20221006T093804Z
UID:12663-1669388400-1669399200@treibhaus-doebeln.de
SUMMARY:Offene Siebdruckwerkstatt
DESCRIPTION:Offene Siebdruckwerkstatt\nDer Treibhaus e.V. beherbergt eine gut ausgestattete Siebdruckwerkstatt und lädt regelmäßig zur offenen Siebdruckwerkstatt ein. Jeden letzen Freitag im Monat von 15.00 bis 18:00 Uhr hast du die Möglichkeit vorbeizukommen\, Fragen zu stellen oder selbst Sachen zu bedrucken. Es gibt immer eine große Auswahl an Motiven und Textilien vor Ort. Auf Anfrage können auch gerne eigens entworfene Motive gedruckt werden. Die offene Siebdruckwerkstatt bietet einen Raum\, um die Siebdrucktechnik kennenzulernen und eigene Projekte selbstständig oder mit Anleitung durchzuführen. \nÖffnungszeiten\njeden letzten Freitag im Monat 15.00 – 18.00 Uhr\n2. Etage // Bahnhofstraße 56 \nKontakt\nJulia Kaltofen\nMail: siebdruck@treibhaus-doebeln.de\nFon: +49 (0) 3431 / 60 52 978
URL:https://treibhaus-doebeln.de/event/offene-siebdruckwerkstatt-60/
LOCATION:Treibhaus e.V.\, Bahnhofstraße 56\, Döbeln\, Sachsen\, 04720\, Deutschland
CATEGORIES:Kunst,Kurs
ATTACH;FMTTYPE=image/jpeg:https://treibhaus-doebeln.de/wp-content/uploads/2022/10/FB-6-scaled.jpg
ORGANIZER;CN="Treibhaus e.V. D%C3%B6beln":MAILTO:info@treibhaus-doebeln.de
END:VEVENT
BEGIN:VEVENT
DTSTART;TZID=Europe/Berlin:20221125T180000
DTEND;TZID=Europe/Berlin:20221125T190000
DTSTAMP:20260423T220416
CREATED:20221007T092454Z
LAST-MODIFIED:20221007T092454Z
UID:12728-1669399200-1669402800@treibhaus-doebeln.de
SUMMARY:Theateraufführung: LOOK AT ME
DESCRIPTION:Schau mich an!\nMit meinen Fehlern\, Stärken und allem was zu mir gehört.\nSchau mich an!\nSo wie ich bin und sein will\, gestern und morgen.\nSchau mich an!\nSo wie ich vor dir stehe\, mit meinen Ängsten und meinen Träumen. \nWir wollen euch einladen unser Theaterstück „LOOK AT ME“ auf der Bühne des Döbelner Theaters zu sehen. \nDie „FUTURAS“ sind Mädchen im Alter von 10-14 Jahren\, die seit über einem Jahr gemeinsam Theater spielen und inszinieren. Im Stück „LOOK AT ME“ sind die Ergebnisse einer Stückentwicklung zu sehen\, die neben verschiedenen Szenen\, selbst produzierter Musik und Kulissen die Themen der Jugendlichen auf die Bühne des Döbelner Theaters bringen. Tickets sind über alle bekannten Vorverkaufsstellen des Döbelner Theaters erhältlich.
URL:https://treibhaus-doebeln.de/event/theaterauffuehrung-look-at-me/
LOCATION:Theather im Bürgerhaus (TiB)\, Theaterstraße 7\, Döbeln\, sachsen\, 04720\, Deutschland
ATTACH;FMTTYPE=image/jpeg:https://treibhaus-doebeln.de/wp-content/uploads/2022/10/2022_FUTURAS_VERANSTALTUNG-WEBSITE-scaled.jpg
ORGANIZER;CN="Treibhaus e.V. D%C3%B6beln":MAILTO:info@treibhaus-doebeln.de
END:VEVENT
BEGIN:VEVENT
DTSTART;TZID=Europe/Berlin:20221125T183000
DTEND;TZID=Europe/Berlin:20221125T200000
DTSTAMP:20260423T220416
CREATED:20221020T100525Z
LAST-MODIFIED:20221024T142050Z
UID:12871-1669401000-1669406400@treibhaus-doebeln.de
SUMMARY:Vortrag: Medienlust und Medienfrust - Wann wird es zu viel?
DESCRIPTION:Vortrag: Medienlust und Medienfrust – Wann wird es zu viel?\nMedien machen Spaß\, sind vielfältig und nützlich. Doch manchmal fällt es uns schwer sie abzuschalten. Dann wird doch nochmal eine halbe Stunde mehr auf Instagram verbracht\, doch nochmal eine Stunde gespielt oder doch nochmal eine Folge der Lieblingsserie geschaut. Das muss aber nicht gleich selbstschädigendes Verhalten sein. Wir schauen uns an\, welche Alarmsignale Mediensucht haben kann und wie wir Angehörige unterstützen können\, wenn es doch einmal zu viel wird. \nDie Veranstaltung richtet sich in erster Linie an Eltern und Multiplikator*innen. Aber auch Jugendliche und junge Erwachsene\, die selbst betroffen sind\, oder Betroffene im Freunden- und Bekanntenkreis haben\, sind herzlich eingeladen! \nEs ist keine Anmeldung erforderlich. Die Teilnahme ist kostenfrei. \n⏰ Zeit\n25. November 2022 \nEinlass: 18:00 Uhr \nBeginn: 18:30 Uhr \nEnde: 20:00 Uhr \n🏡 Ort\nMehrgenerationenhaus Riesa \nAlleestrasse 88 \n01591 Riesa \n📯 Ansprechpersonen Spektrum3000: \nJohannes Fischer & Johannes Gersten\nMail: spektrum3000@treibhaus-doebeln.de\nWhatsApp & Telegram: +49 (0) 1575 / 0888 948\nFon: +49 (0) 3431 / 67 87 403 \nWir sind im Raum Döbeln\, Riesa und Oschatz für euch unterwegs und wollen vor Ort mit unseren Angeboten die Medienkompetenz in Mittelsachsen stärken. Zu diesem Zweck bieten wir eine breite Auswahl an Veranstaltungen\, aus der ihr euch\, die für euch passende\, auswählen könnt. Von Workshops & Kursen\, über Beratungsangebote\, bis hin zu Vorträgen können wir alles realisieren\, was ihr euch wünscht. Schaut gern auf unsere Projektseite\, auch neue und individuelle Ideen können wir mit Euch angehen etc. \nDas Projekt Spektrum3000 wird von der Sächsischen Landesanstalt für privaten Rundfunk und neue Medien gefördert. In Kooperation mit dem Sprungbrett e.V. Riesa und dem Mehrgenerationenhaus Riesa\, ein Projekt gefördert durch das BMFSJ.\n \n📅 Weitere Medienbildungsangebote hier 📅
URL:https://treibhaus-doebeln.de/event/vortrag-medienlust-und-medienfrust-wann-wird-es-zu-viel/
LOCATION:Mehrgenerationenhaus Riesa\, Hafenstraße 2\, Riesa\, 01591
CATEGORIES:Diskussion,Gespräch,Vortrag
ATTACH;FMTTYPE=image/png:https://treibhaus-doebeln.de/wp-content/uploads/2022/10/Mediensucht-OeA-Website.png
END:VEVENT
END:VCALENDAR