BEGIN:VCALENDAR
VERSION:2.0
PRODID:-//Treibhaus Döbeln - ECPv6.15.13//NONSGML v1.0//EN
CALSCALE:GREGORIAN
METHOD:PUBLISH
X-ORIGINAL-URL:https://treibhaus-doebeln.de
X-WR-CALDESC:Veranstaltungen für Treibhaus Döbeln
REFRESH-INTERVAL;VALUE=DURATION:PT1H
X-Robots-Tag:noindex
X-PUBLISHED-TTL:PT1H
BEGIN:VTIMEZONE
TZID:Europe/Berlin
BEGIN:DAYLIGHT
TZOFFSETFROM:+0100
TZOFFSETTO:+0200
TZNAME:CEST
DTSTART:20210328T010000
END:DAYLIGHT
BEGIN:STANDARD
TZOFFSETFROM:+0200
TZOFFSETTO:+0100
TZNAME:CET
DTSTART:20211031T010000
END:STANDARD
BEGIN:DAYLIGHT
TZOFFSETFROM:+0100
TZOFFSETTO:+0200
TZNAME:CEST
DTSTART:20220327T010000
END:DAYLIGHT
BEGIN:STANDARD
TZOFFSETFROM:+0200
TZOFFSETTO:+0100
TZNAME:CET
DTSTART:20221030T010000
END:STANDARD
BEGIN:DAYLIGHT
TZOFFSETFROM:+0100
TZOFFSETTO:+0200
TZNAME:CEST
DTSTART:20230326T010000
END:DAYLIGHT
BEGIN:STANDARD
TZOFFSETFROM:+0200
TZOFFSETTO:+0100
TZNAME:CET
DTSTART:20231029T010000
END:STANDARD
END:VTIMEZONE
BEGIN:VEVENT
DTSTART;TZID=Europe/Berlin:20221121T100000
DTEND;TZID=Europe/Berlin:20221121T150000
DTSTAMP:20260424T004559
CREATED:20221020T125747Z
LAST-MODIFIED:20221109T080724Z
UID:12907-1669024800-1669042800@treibhaus-doebeln.de
SUMMARY:Kurs: Der richtige Umgang mit Internet\, Smartphone & Tablet
DESCRIPTION:Kurs: Der richtige Umgang mit Internet\, Smartphone & Tablet\nJa\, ja die Technik?! Smartphones und Tablets bringen den Menschen heutzutage zwar allerhand Freude oder zumindest in vielerlei Bereichen große Erleichterung\, aber dafür muss man die Geräte bedienen können und wissen\, was es bei der Nutzung des Internets zu beachten gilt. Womit die Jugend heutzutage aufwächst\, bleibt aber für viele Erwachsene und ältere Menschen ein Buch mit sieben Siegeln.\nDamit Sie Ihr neu erworbenes oder vielleicht von den Kindern geschenktes Smartphone oder Tablet sicher und mit Freude nutzen können\, bieten wir am Mittwoch\, den 05. Oktober von 9 bis14 Uhr eine Schulung an\, die Ihnen sofort praktischen Nutzen bringt. Der Workshop eignet sich als Einführung in den Umgang mit Smartphone und Tablet für Erwachsene jeden Alters. Neben dem geschickten Umgang mit Ihrem eigenen schon vorhandenen Gerät\, zeigt Ihnen der Profi auch\, was es bei der Nutzung von Internet oder Apps zu beachten gilt. Der Workshop bietet gerade für Unerfahrene einen optimalen Einstieg und begleitet ihre ersten Schritte. Es sind keine Vorkenntnisse erforderlich. Einzig mitzubringen gilt das bereits vorhandene Gerät\, welches Sie auch in Zukunft weiterhin nutzen möchten.\nEs wird eine Teilnahmegebühr erhoben. Eine Anmeldung beim E-Werk Oschatz ist unbedingt erforderlich. \n⏰ Zeit\n21. November\n10:00 – 15:00 Uhr \n🏡 Ort\nE-Werk \nLichtstraße 1 \n04758 Oschatz \n📝Anmeldung\nBitte melden Sie sich direkt beim E-Werk Oschatz an:\nTelefon +49 (0) 1747 / 124027\nMail info@ewerk-oschatz.de \n📯 Ansprechpersonen Spektrum3000\nJohannes Fischer & Johannes Gersten\nMail: spektrum3000@treibhaus-doebeln.de\nWhatsApp & Telegram: +49 (0) 1575 / 0888 948\nFon: +49 (0) 3431 / 67 87 403 \nWir sind im Raum Döbeln\, Riesa und Oschatz für Sie unterwegs und wollen vor Ort mit unseren Angeboten die Medienkompetenz in Mittelsachsen stärken. Zu diesem Zweck bieten wir eine breite Auswahl an Veranstaltungen\, aus der Sie sich\, die für Sie passende\, auswählen können. Von Workshops & Kursen\, über Beratungsangebote\, bis hin zu Vorträgen können wir alles realisieren\, was Sie sich wünschen. Schauen Sie gern auf unsere Projektseite\, auch neue und individuelle Ideen können wir mit Ihnen angehen. \nDas Projekt Spektrum3000 wird von der Sächsischen Landesanstalt für privaten Rundfunk und neue Medien gefördert. In Kooperation mit dem E-Werk Oschatz.\n \n📅 Weitere Medienbildungsangebote finden Sie hier 📅
URL:https://treibhaus-doebeln.de/event/kurs-der-richtige-umgang-mit-internet-smartphone-tablet-3/
LOCATION:E-Werk Oschatz\, Lichtstraße 1\, Oschatz\, Sachsen\, 04758\, Deutschland
CATEGORIES:Beratung,Kurs
ATTACH;FMTTYPE=image/png:https://treibhaus-doebeln.de/wp-content/uploads/2022/07/Seniorin-und-Smartphone-pexels-ron-lach-7884140-1200x628px.jpg.png
END:VEVENT
BEGIN:VEVENT
DTSTART;TZID=Europe/Berlin:20221121T173000
DTEND;TZID=Europe/Berlin:20221121T193000
DTSTAMP:20260424T004559
CREATED:20221020T111608Z
LAST-MODIFIED:20221020T111608Z
UID:12891-1669051800-1669059000@treibhaus-doebeln.de
SUMMARY:creativ.café
DESCRIPTION:creativ.café\nDas creativ.café ist ein Kunsttreff für Frauen (FLINTA- Personen) mit und ohne Fluchthintergrund. Gemeinsam beschäftigen wir uns unter professioneller Anleitung mit verschiedenen Kunsttechniken – von Linoldruck\, Siebdruck\, Lithografie\, Radierung\, Collage bis hin zu Buchkunst\, Fotografie oder Kalligrafie. Sowohl die künstlerische Exploration als auch die intensive Auseinandersetzung mit einzelnen Techniken stehen dabei im Vordergrund. \nAuch fortgeschrittene oder professionelle Künstlerinnen sind bei uns herzlich willkommen.\nAllerdings musst du keine Vorerfahrungen mitbringen\, lediglich Freude und Interesse an kreativer Betätigung. Wir freuen uns auf dich. \nBeginn: 17.30 Uhr\nEnde: 19.30 Uhr \nDie Teilnahme ist kostenfrei.\nDas Material wird gestellt.
URL:https://treibhaus-doebeln.de/event/creativ-cafe-45/
LOCATION:Café Courage\, Bahnhofstraße 56\, Döbeln\, Sachsen\, 04720\, Deutschland
ATTACH;FMTTYPE=image/jpeg:https://treibhaus-doebeln.de/wp-content/uploads/2022/10/2048-1152-max.jpg
ORGANIZER;CN="Treibhaus e.V. D%C3%B6beln":MAILTO:info@treibhaus-doebeln.de
END:VEVENT
BEGIN:VEVENT
DTSTART;TZID=Europe/Berlin:20221121T183000
DTEND;TZID=Europe/Berlin:20221121T200000
DTSTAMP:20260424T004559
CREATED:20220921T121051Z
LAST-MODIFIED:20221020T131732Z
UID:12516-1669055400-1669060800@treibhaus-doebeln.de
SUMMARY:Podiumsdiskussion: Medienbildung in Kindheit und Jugend
DESCRIPTION:Podiumsdiskussion: Medienbildung in Kindheit und Jugend\nHeute sind Medien aus unserem Alltag nicht mehr weg zu denken. Auf Arbeit und im Privaten organisieren wir uns mit Medien. Wir gestalten unsere Freizeit mit Medien und informieren uns über Medien. Das gilt auch insbesonders für die nachfolgenden Generationen\, die sogenannten “Digital Natives”. Für sie sind (digitale) Medien selbstverständlich und ganz natürlich in ihrer Lebenswelt zu finden und so wird es zur Aufgabe für Eltern und Fachkräfte\, Kindern und Jugendlichen einen gesunden und förderlichen Umgang mit ihnen zu vermitteln. Wie das gelingen kann und welche Chancen und Risiken mit der Mediennutzung für junge Menschen einhergehen\, wollen wir mit Expert*innen aus Wissenschaft und Praxis diskutieren. \n  \nGäste\n\nJulia Nickel\, Universität Leipzig\n\nJulia Nickel ist wissenschaftliche Mitarbeiterin an der Professur für Medienkompetenz- und Aneignungsforschung am Institut für Kommunikations- und Medienwissenschaft der Universität Leipzig. Desweiteren ist sie am Zentrum für Lehrer*innenbildung und Schulforschung (ZLS) im Projekt “PraxisdigitaliS” tätig. Ihre Forschungsschwerpunkte liegen u.a. bei der Mediensozialisation von Kindern und Jugendlichen\, sowie der Medienbildung/-erziehung in Schule und Lehrer*innenbildung.\n\n\nDr. Johannes Gemkow\, Universität Leipzig\n\nJohannes Gemwok ist wissenschaftlicher Mitarbeiter an der Professur für Medienkompetenz- und Aneignungsforschung am Institut für Kommunikations- und Medienwissenschaft der Universität Leipzig. Derzeit forscht er zu Populismuserfahrungen von Jugendlichen auf Social Media. Weitere Forschungsschwerpunkte sind u.a. Medien- und Informationskompetenz\, sowie Mediatisierung. Er ist Mitglied der European Communication Research and Education Association (ECREA)\, der Deutschen Gesellschaft für Erziehungswissenschaft (DGfE) und der Gesellschaft für Medienpädagogik- und Kommunikationskultur (GMK).\n\n\nMarie-Therese Stedry\n\n\nMarie-Therese Stedry ist als Medienpädagogin und Systemischer Coach für Kinder und Jugendliche aktiv. Nachdem sie mehrere Jahre im Rahmen ihrer Tätigkeit für das SAEK-Projekt die Medienbildungslandschaft in Sachsen mitgeprägt hat\, verfolgt sie nun auf freiberuflicher Basis mit ihrem Unternehmen “Waldspatz-Medien” die Mission\, Kinder und Jugendliche mithilfe von medienpädagogischer Coaching-Arbeit stark fürs Leben zu machen. Dafür nutzt sie Themen und Methoden aus der aktiven und reflexiven Medienarbeit und kombiniert diese mit Coaching-Tools und -Ansätzen\, um junge Menschen dabei zu unterstützen\, ihre innere Kraft zu entwickeln\, ihr Selbstvertrauen zu stärken und ihre persönlichen Probleme zu meistern. Ihre Arbeit richtet sich vor allem an Kinder\, Jugendliche und junge Erwachsene auf der Suche nach sich selbst und alle\, die sie dabei unterstützen möchten.  \n\n\n\nMarie Dietrich-Streubel\n\n Marie Dietrich-Streubel ist staatlich anerkannte Ergotherapeutin\, hat einen Abschluss in sozialer Arbeit (SozialpädagogIn/-arbeiterIn) und ist systemische Familientherapeutin (SG) mit diversen Zusatzqualifikationen. Durch ihre Arbeit in der Familienhilfe und -beratung ist sie mit den Herausforderungen und Entwicklungsaufgaben von Kindern und Jugendlichen sowie deren Eltern vertraut. Für den AWO-Familienkreis Döbeln betreibt sie einen Podcast rund um die kleinen und großen Sorgen im Familienleben.\n\n\n\n\n⏰ Zeit\n21. November \nEinlass: 18:00 Uhr \nBeginn: 18:30 Uhr \nEnde: 20:00 Uhr \n🏡 Ort\nE-Werk \nLichtstraße 1 \n04758 Oschatz \n📯 Ansprechpersonen Spektrum3000\nJohannes Fischer & Johannes Gersten\nMail: spektrum3000@treibhaus-doebeln.de\nWhatsApp & Telegram: +49 (0) 1575 / 0888 948\nFon: +49 (0) 3431 / 67 87 403 \nWir sind im Raum Döbeln\, Riesa und Oschatz für Sie unterwegs und wollen vor Ort mit unseren Angeboten die Medienkompetenz in Mittelsachsen stärken. Zu diesem Zweck bieten wir eine breite Auswahl an Veranstaltungen\, aus der Sie sich\, die für Sie passende\, auswählen können. Von Workshops & Kursen\, über Beratungsangebote\, bis hin zu Vorträgen können wir alles realisieren\, was Sie sich wünschen. Schauen Sie gern auf unsere Projektseite\, auch neue und individuelle Ideen können wir mit Ihnen angehen. \nDas Projekt Spektrum3000 wird von der Sächsischen Landesanstalt für privaten Rundfunk und neue Medien gefördert und findet in Kooperation mit dem E-Werk in Oschatz statt.\n \n📅 Weitere Medienbildungsangebote finden Sie hier 📅
URL:https://treibhaus-doebeln.de/event/podiumsdiskussion-medienbildung-in-kindheit-und-jugend/
LOCATION:E-Werk Oschatz\, Lichtstraße 1\, Oschatz\, Sachsen\, 04758\, Deutschland
CATEGORIES:Diskussion,Podiumsgespräch
ATTACH;FMTTYPE=image/png:https://treibhaus-doebeln.de/wp-content/uploads/2021/08/Podium-01-Zuschnitt.png
ORGANIZER;CN="Treibhaus e.V. D%C3%B6beln":MAILTO:info@treibhaus-doebeln.de
END:VEVENT
BEGIN:VEVENT
DTSTART;TZID=Europe/Berlin:20221121T200000
DTEND;TZID=Europe/Berlin:20221121T200000
DTSTAMP:20260424T004559
CREATED:20221011T122807Z
LAST-MODIFIED:20221024T084944Z
UID:12801-1669060800-1669060800@treibhaus-doebeln.de
SUMMARY:Open Café
DESCRIPTION:Ab sofort ist das Café Courage immer am Montag ab 20 Uhr geöffnet. \nDas Café Courage ist unsere Begegnungs- und Veranstaltungsstätte in Döbeln. Es bietet eine Alternative zur übrigen Kneipenkultur und wird ehrenamtlich organisiert. Hier hast du die Möglichkeit\, Freund*innen zu treffen\, Musik zu hören\, Filme zu schauen\, zu kickern\, PlayStation zu spielen\, Barabende selbst zu gestalten und gemeinsam über gesellschaftliche\, politische und andere Themen zu diskutieren.
URL:https://treibhaus-doebeln.de/event/open-cafe-14/
LOCATION:Café Courage\, Bahnhofstraße 56\, Döbeln\, Sachsen\, 04720\, Deutschland
CATEGORIES:Open Café
ATTACH;FMTTYPE=image/jpeg:https://treibhaus-doebeln.de/wp-content/uploads/2022/10/Open-Cafe-Header.jpg
ORGANIZER;CN="Treibhaus e.V. D%C3%B6beln":MAILTO:info@treibhaus-doebeln.de
END:VEVENT
END:VCALENDAR