BEGIN:VCALENDAR
VERSION:2.0
PRODID:-//Treibhaus Döbeln - ECPv6.15.13//NONSGML v1.0//EN
CALSCALE:GREGORIAN
METHOD:PUBLISH
X-WR-CALNAME:Treibhaus Döbeln
X-ORIGINAL-URL:https://treibhaus-doebeln.de
X-WR-CALDESC:Veranstaltungen für Treibhaus Döbeln
REFRESH-INTERVAL;VALUE=DURATION:PT1H
X-Robots-Tag:noindex
X-PUBLISHED-TTL:PT1H
BEGIN:VTIMEZONE
TZID:Europe/Berlin
BEGIN:DAYLIGHT
TZOFFSETFROM:+0100
TZOFFSETTO:+0200
TZNAME:CEST
DTSTART:20210328T010000
END:DAYLIGHT
BEGIN:STANDARD
TZOFFSETFROM:+0200
TZOFFSETTO:+0100
TZNAME:CET
DTSTART:20211031T010000
END:STANDARD
BEGIN:DAYLIGHT
TZOFFSETFROM:+0100
TZOFFSETTO:+0200
TZNAME:CEST
DTSTART:20220327T010000
END:DAYLIGHT
BEGIN:STANDARD
TZOFFSETFROM:+0200
TZOFFSETTO:+0100
TZNAME:CET
DTSTART:20221030T010000
END:STANDARD
BEGIN:DAYLIGHT
TZOFFSETFROM:+0100
TZOFFSETTO:+0200
TZNAME:CEST
DTSTART:20230326T010000
END:DAYLIGHT
BEGIN:STANDARD
TZOFFSETFROM:+0200
TZOFFSETTO:+0100
TZNAME:CET
DTSTART:20231029T010000
END:STANDARD
END:VTIMEZONE
BEGIN:VEVENT
DTSTART;TZID=Europe/Berlin:20221120T160000
DTEND;TZID=Europe/Berlin:20221120T170000
DTSTAMP:20260424T062955
CREATED:20221007T092345Z
LAST-MODIFIED:20221011T102343Z
UID:12725-1668960000-1668963600@treibhaus-doebeln.de
SUMMARY:Theaterpremiere: LOOK AT ME
DESCRIPTION:Schau mich an!\nMit meinen Fehlern\, Stärken und allem was zu mir gehört.\nSchau mich an!\nSo wie ich bin und sein will\, gestern und morgen.\nSchau mich an!\nSo wie ich vor dir stehe\, mit meinen Ängsten und meinen Träumen. \nWir wollen euch einladen unser Theaterstück „LOOK AT ME“ auf der Bühne des Döbelner Theaters zu sehen. \nDie „FUTURAS“ sind Mädchen im Alter von 10-14 Jahren\, die seit über einem Jahr gemeinsam Theater spielen und inszinieren. Im Stück „LOOK AT ME“ sind die Ergebnisse einer Stückentwicklung zu sehen\, die neben verschiedenen Szenen\, selbst produzierter Musik und Kulissen die Themen der Jugendlichen auf die Bühne des Döbelner Theaters bringen. \nTickets sind über alle bekannten Vorverkaufsstellen des Döbelner Theaters erhältlich.
URL:https://treibhaus-doebeln.de/event/premiere-look-at-me/
LOCATION:Theather im Bürgerhaus (TiB)\, Theaterstraße 7\, Döbeln\, sachsen\, 04720\, Deutschland
CATEGORIES:Theater
ATTACH;FMTTYPE=image/jpeg:https://treibhaus-doebeln.de/wp-content/uploads/2022/10/2022_FUTURAS_VERANSTALTUNG-WEBSITE-scaled.jpg
ORGANIZER;CN="Treibhaus e.V. D%C3%B6beln":MAILTO:info@treibhaus-doebeln.de
END:VEVENT
END:VCALENDAR