BEGIN:VCALENDAR
VERSION:2.0
PRODID:-//Treibhaus Döbeln - ECPv6.15.13//NONSGML v1.0//EN
CALSCALE:GREGORIAN
METHOD:PUBLISH
X-WR-CALNAME:Treibhaus Döbeln
X-ORIGINAL-URL:https://treibhaus-doebeln.de
X-WR-CALDESC:Veranstaltungen für Treibhaus Döbeln
REFRESH-INTERVAL;VALUE=DURATION:PT1H
X-Robots-Tag:noindex
X-PUBLISHED-TTL:PT1H
BEGIN:VTIMEZONE
TZID:Europe/Berlin
BEGIN:DAYLIGHT
TZOFFSETFROM:+0100
TZOFFSETTO:+0200
TZNAME:CEST
DTSTART:20210328T010000
END:DAYLIGHT
BEGIN:STANDARD
TZOFFSETFROM:+0200
TZOFFSETTO:+0100
TZNAME:CET
DTSTART:20211031T010000
END:STANDARD
BEGIN:DAYLIGHT
TZOFFSETFROM:+0100
TZOFFSETTO:+0200
TZNAME:CEST
DTSTART:20220327T010000
END:DAYLIGHT
BEGIN:STANDARD
TZOFFSETFROM:+0200
TZOFFSETTO:+0100
TZNAME:CET
DTSTART:20221030T010000
END:STANDARD
BEGIN:DAYLIGHT
TZOFFSETFROM:+0100
TZOFFSETTO:+0200
TZNAME:CEST
DTSTART:20230326T010000
END:DAYLIGHT
BEGIN:STANDARD
TZOFFSETFROM:+0200
TZOFFSETTO:+0100
TZNAME:CET
DTSTART:20231029T010000
END:STANDARD
END:VTIMEZONE
BEGIN:VEVENT
DTSTART;TZID=Europe/Berlin:20221119T100000
DTEND;TZID=Europe/Berlin:20221119T130000
DTSTAMP:20260424T062935
CREATED:20220921T120809Z
LAST-MODIFIED:20221102T150508Z
UID:12586-1668852000-1668862800@treibhaus-doebeln.de
SUMMARY:Historischer Stadtrundgang „Niemand kam zurück – Jüdisches Leben in Döbeln“
DESCRIPTION:Historischer Stadtrundgang „Niemand kam zurück – Jüdisches Leben in Döbeln“\nBis heute ist wenig über das Leben und den Alltag der Döbelner Jüdinnen und Juden bekannt. Ein Großteil der jüdischen Familien siedelte sich zwischen Mitte des 19. Jahrhunderts und Anfang des 20. Jahrhunderts in der Region an. Viele waren assimiliert und in die Stadtgesellschaft integriert. Gerade die kaufmännischen Tätigkeiten prägten die Region. So gab es in Döbeln jüdische Geschäfte\, die das Leben in der Stadt prosperieren ließen. Diese waren in städtische Festlichkeiten eingebunden\, schalteten Werbeanzeigen in Lokalzeitungen und waren im Stadtbild präsent. \nNach der Machtübernahme der Nationalsozialist*innen 1933 kam es auch in Döbeln zu Verfolgung\, Ausgrenzung\, Demütigung und Entrechtung der hier ansässigen Jüdinnen und Juden. So wurden sie bspw. namentlich in der Lokalzeitung diffamiert und es wurde zum Boykott ihrer Geschäfte aufgerufen. Viele versuchten in die Anonymität der Großstädte zu fliehen. Aus der Stadt wurde das jüdische Leben zur Gänze vertrieben. Die meisten Jüdinnen und Juden wurden in einem Konzentrations- oder Vernichtungslager ermordet. Einigen wenigen gelang die Flucht und sie überlebten die Shoah. \nAn den historischen Orten wird über das jüdische Leben und das Schicksal der Menschen berichtet\, um an sie zu erinnern und ihre Geschichten weiterzutragen. \nBeginn: 10.00 Uhr\nEnde: 13.00 Uhr\nTreffpunkt: Café Courage \nDie Teilnahme ist kostenfrei.
URL:https://treibhaus-doebeln.de/event/historischer-stadtrundgang-niemand-kam-zurueck-juedisches-leben-in-doebeln/
LOCATION:Café Courage\, Bahnhofstraße 56\, Döbeln\, Sachsen\, 04720\, Deutschland
CATEGORIES:Historischer Stadtrundgang
ATTACH;FMTTYPE=image/jpeg:https://treibhaus-doebeln.de/wp-content/uploads/2022/09/2022_OeA_HIPO_Veranstaltungen-Webiste.jpg
END:VEVENT
END:VCALENDAR