BEGIN:VCALENDAR
VERSION:2.0
PRODID:-//Treibhaus Döbeln - ECPv6.15.13//NONSGML v1.0//EN
CALSCALE:GREGORIAN
METHOD:PUBLISH
X-ORIGINAL-URL:https://treibhaus-doebeln.de
X-WR-CALDESC:Veranstaltungen für Treibhaus Döbeln
REFRESH-INTERVAL;VALUE=DURATION:PT1H
X-Robots-Tag:noindex
X-PUBLISHED-TTL:PT1H
BEGIN:VTIMEZONE
TZID:Europe/Berlin
BEGIN:DAYLIGHT
TZOFFSETFROM:+0100
TZOFFSETTO:+0200
TZNAME:CEST
DTSTART:20210328T010000
END:DAYLIGHT
BEGIN:STANDARD
TZOFFSETFROM:+0200
TZOFFSETTO:+0100
TZNAME:CET
DTSTART:20211031T010000
END:STANDARD
BEGIN:DAYLIGHT
TZOFFSETFROM:+0100
TZOFFSETTO:+0200
TZNAME:CEST
DTSTART:20220327T010000
END:DAYLIGHT
BEGIN:STANDARD
TZOFFSETFROM:+0200
TZOFFSETTO:+0100
TZNAME:CET
DTSTART:20221030T010000
END:STANDARD
BEGIN:DAYLIGHT
TZOFFSETFROM:+0100
TZOFFSETTO:+0200
TZNAME:CEST
DTSTART:20230326T010000
END:DAYLIGHT
BEGIN:STANDARD
TZOFFSETFROM:+0200
TZOFFSETTO:+0100
TZNAME:CET
DTSTART:20231029T010000
END:STANDARD
END:VTIMEZONE
BEGIN:VEVENT
DTSTART;TZID=Europe/Berlin:20221109T150000
DTEND;TZID=Europe/Berlin:20221109T170000
DTSTAMP:20260425T155429
CREATED:20221006T093951Z
LAST-MODIFIED:20221006T093951Z
UID:12672-1668006000-1668013200@treibhaus-doebeln.de
SUMMARY:Beratung: Medien-Kaffeeklatsch für Senior*innen
DESCRIPTION:Beratung: Medien-Kaffeeklatsch für Senior*innen\nAm 09. November sind wir in den Räumen des Bürgerhaus Roßwein für Sie ansprechbar. Bei Fragen zu Medien wie Internet\, Smartphone\, Persönlichkeitsrechte und vielem mehr können wir helfen. Bringen Sie Ihr Gerät mit oder sprechen mit uns\, wenn Sie vorhaben eines zu kaufen. Das Ziel der Veranstaltung ist es\, Ihnen den Zugang zu (neuen) Medien zu erleichtern und Hemmungen abzubauen. Sie können mit einer ganz konkreten Frage zu uns kommen\, oder im Gespräch mit uns herausfinden\, wie Medien Sie in ihrem Alltag unterstützen können. Dabei können Sie kommen und gehen\, wann Sie wollen. \nThemenvorschläge und mögliche Fragen sind: \n\nBrauche ich überhaupt ein Smartphone oder Tablet?\nWas bedeuten die Zeichen und Bilder auf dem Smartphone/Tablet? (Begriffe & Hintergründe)\nSchnelle Hilfe im Internet: Hilfe es brennt\, was kann ich tun? An wen kann ich mich wenden?\nHabe ich einen Virus auf dem Smartphone oder was ist passiert? (Internetsicherheit)\nKann ich das Internet löschen?\nWas sind App-Berechtigungen\, Benutzerkonten und sichere Passwörter? (Einstellungen)\nWas das alles kostet! Gibt es da auch alternative Wege?\n\nWir wissen\, dass neue Technik oft einschüchternd wirken kann. Deshalb sind wir für Sie da und nehmen uns Zeit für Ihre Fragen und Bedenken. Wir können zuhören\, viele Fragen beantworten\, helfen und begleiten. Dieses Angebot ist jedoch keine juristische\, psychische oder psycho-soziale Beratung. \nNeben dieser Beratung bieten wir viele weitere Angebote im Rahmen der Medienbildung an. \n📝 Anmeldung\nBitte melden Sie sich direkt beim Bürgerhaus Roßwein\, Am Markt 8 an:\nTelefon +49 (0) 34322 / 581 431\nMail buergerhaus-rosswein@gmx.de \n📯 Ansprechpersonen Spektrum3000\nJohannes Fischer & Johannes Gersten\nMail: spektrum3000@treibhaus-doebeln.de\nWhatsApp & Telegram: +49 (0) 1575 / 0888 948\nFon: +49 (0) 3431 / 67 87 403 \nWir sind im Raum Döbeln\, Riesa und Oschatz für Sie unterwegs und wollen vor Ort mit unseren Angeboten die Medienkompetenz in Mittelsachsen stärken. Zu diesem Zweck bieten wir eine breite Auswahl an Veranstaltungen\, aus der Sie sich\, die für Sie passende\, auswählen können. Von Workshops & Kursen\, über Beratungsangebote\, bis hin zu Vorträgen können wir alles realisieren\, was Sie sich wünschen. Schauen Sie gern auf unsere Projektseite\, auch neue und individuelle Ideen können wir mit Ihnen angehen. \nDas Projekt Spektrum3000 wird von der Sächsischen Landesanstalt für privaten Rundfunk und neue Medien gefördert. \n📅 Weitere Medienbildungsangebote finden Sie hier 📅
URL:https://treibhaus-doebeln.de/event/beratung-medien-kaffeeklatsch-fuer-seniorinnen-8/
LOCATION:Bürgerhaus Roßwein\, Markt 08\, Roßwein\, Sachsen\, 04741\, Deutschland
CATEGORIES:Beratung
ATTACH;FMTTYPE=image/png:https://treibhaus-doebeln.de/wp-content/uploads/2022/07/Seniorin-und-Smartphone-pexels-ron-lach-7884140-1200x628px.jpg.png
END:VEVENT
BEGIN:VEVENT
DTSTART;TZID=Europe/Berlin:20221109T160000
DTEND;TZID=Europe/Berlin:20221109T180000
DTSTAMP:20260425T155429
CREATED:20221020T095116Z
LAST-MODIFIED:20221024T075213Z
UID:12877-1668009600-1668016800@treibhaus-doebeln.de
SUMMARY:Workshop: Knitalong
DESCRIPTION:Workshop: Knitalong\nWir stricken gemeinsam einen Loop\, eine Mütze oder Handstulpen aus Sockengarn.\nFür all jene\, die ihre verschütteten Strickkenntnisse wiederbeleben wollen.\nMaterialien sind vorhanden. Sockenwollreste willkommen! \nBei Bedarf werden weitere Termine mit den Teilnehmenden vor Ort abgestimmt. \nBeginn: 16.00 Uhr\nTeilnahmegebühr: 5€ \nAnmeldung \nSusanne Harz\nMail: naehcafe@treibhaus-doebeln.de\nFon: +49 (0) 163 / 15 79 074
URL:https://treibhaus-doebeln.de/event/workshop-knitalong/
LOCATION:Nähcafé Döbeln\, Zwingerstraße 3/4\, Döbeln\, 04720
ATTACH;FMTTYPE=image/jpeg:https://treibhaus-doebeln.de/wp-content/uploads/2022/10/Nähcafe.jpg
ORGANIZER;CN="Treibhaus e.V. D%C3%B6beln":MAILTO:info@treibhaus-doebeln.de
END:VEVENT
BEGIN:VEVENT
DTSTART;TZID=Europe/Berlin:20221109T180000
DTEND;TZID=Europe/Berlin:20221109T220000
DTSTAMP:20260425T155429
CREATED:20220921T114601Z
LAST-MODIFIED:20221101T133952Z
UID:12578-1668016800-1668031200@treibhaus-doebeln.de
SUMMARY:Mahnwachen an den Stolpersteinen
DESCRIPTION:Mahnwachen an den Stolpersteinen\nIn der Nacht vom 9. auf den 10. November 1938 brannten im gesamten Deutschen Reich unzählige Synagogen\, jüdische Geschäfte und Friedhöfe wurden zerstört\, Versammlungsräume\, Wohnungen und Gebetsräume geplündert. Die Pogromnacht war ein weiterer Höhepunkt beispielloser Verfolgung und Vernichtung von Jüdinnen und Juden. Nach dem Ende der NS-Diktatur war auch in der Region Döbeln das jüdische Leben gänzlich vernichtet oder vertrieben worden. Heute gibt es nur noch wenige Spuren\, die Aufschluss über die ehemaligen jüdischen Bürgerinnen und Bürger in den Städten geben. \nWir wenden uns entschlossen gegen jede Form von Menschenfeindlichkeit\, Rassismus und Antisemitismus und rufen dazu auf\, für ein demokratisches Miteinander\, für Weltoffenheit und Zivilcourage einzutreten. Darum laden wir zur Gedenkveranstaltung anlässlich des 84. Jahrestages der Pogromnacht 1938 ein. Den Opfern ein würdevolles Gedenken! \nDöbeln\n18.00 Uhr: Treffpunkt: Obermarkt 14 \nLeisnig\n18.00 Uhr: Treffpunkt: Marktplatz \nHartha\n18.00 Uhr: Treffpunkt: Pestalozzistraße 8 \nWaldheim\n18.00 Uhr: Treffpunkt: Augustinerplatz \nRoßwein\n19.00 Uhr: Treffpunkt: Großer Rathaussaal\, Markt 4 \nBei der Gedenkveranstaltung wird Bernd-Lutz Lange aus seinem Buch „Davidstern und Weihnachtsbaum“ lesen und sich gemeinsam mit den Anwesenden auf die Suche nach jüdischen Bürgern der Stadt Leipzig begeben. Wie ein Archäologe legt er Spuren ihres Lebens frei\, erzählt von Schicksalen rund um die Welt und trägt die Mauer des Vergessens Schicht für Schicht ab – getreu der jüdischen Weisheit: „Erinnerung bringt die Erlösung\, Vergessen hält sie auf.“ Musikalisch begleitet wird die Lesung durch das Klezmer-Ensemble Quadro Freylach. \nVor bzw. nach der Lesung besteht die Möglichkeit für ein individuelles Gedenken an den 11 Stolpersteinen im Stadtgebiet. Alle Roßweiner:innen sind eingeladen\, eine Kerze zu entzünden oder Blume niederzulegen.
URL:https://treibhaus-doebeln.de/event/mahnwachen-2022/
LOCATION:Sachsen
CATEGORIES:Gedenkveranstaltung
ATTACH;FMTTYPE=image/jpeg:https://treibhaus-doebeln.de/wp-content/uploads/2022/09/Mahnwachen-1536x864-1.jpg
ORGANIZER;CN="Treibhaus e.V. D%C3%B6beln":MAILTO:info@treibhaus-doebeln.de
END:VEVENT
END:VCALENDAR