BEGIN:VCALENDAR
VERSION:2.0
PRODID:-//Treibhaus Döbeln - ECPv6.15.13//NONSGML v1.0//EN
CALSCALE:GREGORIAN
METHOD:PUBLISH
X-ORIGINAL-URL:https://treibhaus-doebeln.de
X-WR-CALDESC:Veranstaltungen für Treibhaus Döbeln
REFRESH-INTERVAL;VALUE=DURATION:PT1H
X-Robots-Tag:noindex
X-PUBLISHED-TTL:PT1H
BEGIN:VTIMEZONE
TZID:Europe/Berlin
BEGIN:DAYLIGHT
TZOFFSETFROM:+0100
TZOFFSETTO:+0200
TZNAME:CEST
DTSTART:20210328T010000
END:DAYLIGHT
BEGIN:STANDARD
TZOFFSETFROM:+0200
TZOFFSETTO:+0100
TZNAME:CET
DTSTART:20211031T010000
END:STANDARD
BEGIN:DAYLIGHT
TZOFFSETFROM:+0100
TZOFFSETTO:+0200
TZNAME:CEST
DTSTART:20220327T010000
END:DAYLIGHT
BEGIN:STANDARD
TZOFFSETFROM:+0200
TZOFFSETTO:+0100
TZNAME:CET
DTSTART:20221030T010000
END:STANDARD
BEGIN:DAYLIGHT
TZOFFSETFROM:+0100
TZOFFSETTO:+0200
TZNAME:CEST
DTSTART:20230326T010000
END:DAYLIGHT
BEGIN:STANDARD
TZOFFSETFROM:+0200
TZOFFSETTO:+0100
TZNAME:CET
DTSTART:20231029T010000
END:STANDARD
END:VTIMEZONE
BEGIN:VEVENT
DTSTART;TZID=Europe/Berlin:20221108T173000
DTEND;TZID=Europe/Berlin:20221108T193000
DTSTAMP:20260424T081954
CREATED:20221006T090858Z
LAST-MODIFIED:20221006T090858Z
UID:12640-1667928600-1667935800@treibhaus-doebeln.de
SUMMARY:Siebdruckworkshop: CALENDAR PRINTING
DESCRIPTION:Siebdruckworkshop: CALENDAR PRINTING\n\nIn diesem Workshop möchten wir gemeinsam einen selbstbefüllbaren Adventskalender gestalten.\n\nWir haben verschiedene Motive zum Thema Winter/Weihnachten zusammengestellt\, aus denen du auswählen kannst. Vor Ort stehen dir verschiedene Papiertüten für deinen Kalender zur Wahl\, außerdem bieten wir noch andere Druckträger an\, die du erwerben kannst.\nDu zahlst nur\, was du wirklich druckst und kannst über deinen Teilnahmebeitrag selbst entscheiden. Für einen vollständigen Kalender (24 Papiertüten/2 Drucken pro Tüte) solltest du mindestens 24\,00 € einplanen.\n\nDu musst nichts vorbereiten und brauchst auch keine Vorkenntnisse\, nur etwas Zeit und Lust zum Experimentieren!\n\nDu willst dabei sein? Dann melde dich an\, die Teilnehmer*innenanzahl ist begrenzt!\n\nBeginn: 17.30 Uhr\nEnde: ca. 19.30 Uhr\n\n\nAnmeldung\n\nMail: siebdruck@treibhaus-doebeln.de\nFon: +49 (0) 3431 / 60 52 978
URL:https://treibhaus-doebeln.de/event/siebdruckworkshop-calendar-printing/
LOCATION:Café Courage\, Bahnhofstraße 56\, Döbeln\, Sachsen\, 04720\, Deutschland
CATEGORIES:Kunst,Workshop
ATTACH;FMTTYPE=image/jpeg:https://treibhaus-doebeln.de/wp-content/uploads/2022/10/FB-scaled.jpg
ORGANIZER;CN="Treibhaus e.V. D%C3%B6beln":MAILTO:info@treibhaus-doebeln.de
END:VEVENT
END:VCALENDAR