BEGIN:VCALENDAR
VERSION:2.0
PRODID:-//Treibhaus Döbeln - ECPv6.15.13//NONSGML v1.0//EN
CALSCALE:GREGORIAN
METHOD:PUBLISH
X-ORIGINAL-URL:https://treibhaus-doebeln.de
X-WR-CALDESC:Veranstaltungen für Treibhaus Döbeln
REFRESH-INTERVAL;VALUE=DURATION:PT1H
X-Robots-Tag:noindex
X-PUBLISHED-TTL:PT1H
BEGIN:VTIMEZONE
TZID:Europe/Berlin
BEGIN:DAYLIGHT
TZOFFSETFROM:+0100
TZOFFSETTO:+0200
TZNAME:CEST
DTSTART:20210328T010000
END:DAYLIGHT
BEGIN:STANDARD
TZOFFSETFROM:+0200
TZOFFSETTO:+0100
TZNAME:CET
DTSTART:20211031T010000
END:STANDARD
BEGIN:DAYLIGHT
TZOFFSETFROM:+0100
TZOFFSETTO:+0200
TZNAME:CEST
DTSTART:20220327T010000
END:DAYLIGHT
BEGIN:STANDARD
TZOFFSETFROM:+0200
TZOFFSETTO:+0100
TZNAME:CET
DTSTART:20221030T010000
END:STANDARD
BEGIN:DAYLIGHT
TZOFFSETFROM:+0100
TZOFFSETTO:+0200
TZNAME:CEST
DTSTART:20230326T010000
END:DAYLIGHT
BEGIN:STANDARD
TZOFFSETFROM:+0200
TZOFFSETTO:+0100
TZNAME:CET
DTSTART:20231029T010000
END:STANDARD
END:VTIMEZONE
BEGIN:VEVENT
DTSTART;TZID=Europe/Berlin:20221107T150000
DTEND;TZID=Europe/Berlin:20221107T170000
DTSTAMP:20260426T004716
CREATED:20221020T085224Z
LAST-MODIFIED:20221024T075251Z
UID:12853-1667833200-1667840400@treibhaus-doebeln.de
SUMMARY:Workshop: Nähmaschinenführerschein für Kinder
DESCRIPTION:Workshop: Nähmaschinenführerschein für Kinder\nDie Kinder lernen an mehreren Nachmittagen\, wie man richtig mit einer Nähmaschine umgeht. Wer schon eine eigene Maschine besitzt\, kann diese gerne mitbringen.   Der erste Termin findet am 7. November statt. Die weiteren Termine werden mit den Teilnehmenden vor Ort abgestimmt. \nBeginn: 15.00 Uhr \nTeilnahmegebühr: 5€ \nAnmeldung\nSusanne Harz\nMail: naehcafe@treibhaus-doebeln.de\nFon: +49 (0) 163 / 15 79 074
URL:https://treibhaus-doebeln.de/event/workshop-naehmaschinenfuehrerschein-fuer-kinder/
LOCATION:Nähcafé Döbeln\, Zwingerstraße 3/4\, Döbeln\, 04720
ATTACH;FMTTYPE=image/jpeg:https://treibhaus-doebeln.de/wp-content/uploads/2022/10/Nähcafe.jpg
ORGANIZER;CN="Treibhaus e.V. D%C3%B6beln":MAILTO:info@treibhaus-doebeln.de
END:VEVENT
BEGIN:VEVENT
DTSTART;TZID=Europe/Berlin:20221107T173000
DTEND;TZID=Europe/Berlin:20221107T193000
DTSTAMP:20260426T004716
CREATED:20221020T091152Z
LAST-MODIFIED:20221020T091319Z
UID:12856-1667842200-1667849400@treibhaus-doebeln.de
SUMMARY:creativ.café
DESCRIPTION:creativ.café  \nDas creativ.café ist ein Kunsttreff für Frauen (FLINTA- Personen) mit und ohne Fluchthintergrund. Gemeinsam beschäftigen wir uns unter professioneller Anleitung mit verschiedenen Kunsttechniken – von Linoldruck\, Siebdruck\, Lithografie\, Radierung\, Collage bis hin zu Buchkunst\, Fotografie oder Kalligrafie. Sowohl die künstlerische Exploration als auch die intensive Auseinandersetzung mit einzelnen Techniken stehen dabei im Vordergrund. \nAuch fortgeschrittene oder professionelle Künstlerinnen sind bei uns herzlich willkommen.\nAllerdings musst du keine Vorerfahrungen mitbringen\, lediglich Freude und Interesse an kreativer Betätigung. \nWir freuen uns auf dich. \nBeginn: 17.30 Uhr\nEnde: 19.30 Uhr\nOrt: Café Courage \nDie Teilnahme ist kostenfrei.\nDas Material wird gestellt.
URL:https://treibhaus-doebeln.de/event/creativ-cafe-43/
LOCATION:Café Courage\, Bahnhofstraße 56\, Döbeln\, Sachsen\, 04720\, Deutschland
ATTACH;FMTTYPE=image/jpeg:https://treibhaus-doebeln.de/wp-content/uploads/2022/10/2048-1152-max.jpg
ORGANIZER;CN="Treibhaus e.V. D%C3%B6beln":MAILTO:info@treibhaus-doebeln.de
END:VEVENT
BEGIN:VEVENT
DTSTART;TZID=Europe/Berlin:20221107T200000
DTEND;TZID=Europe/Berlin:20221107T200000
DTSTAMP:20260426T004716
CREATED:20221011T122554Z
LAST-MODIFIED:20221024T084735Z
UID:12797-1667851200-1667851200@treibhaus-doebeln.de
SUMMARY:Open Café
DESCRIPTION:Ab sofort ist das Café Courage immer am Montag ab 20 Uhr geöffnet. \nDas Café Courage ist unsere Begegnungs- und Veranstaltungsstätte in Döbeln. Es bietet eine Alternative zur übrigen Kneipenkultur und wird ehrenamtlich organisiert. Hier hast du die Möglichkeit\, Freund*innen zu treffen\, Musik zu hören\, Filme zu schauen\, zu kickern\, PlayStation zu spielen\, Barabende selbst zu gestalten und gemeinsam über gesellschaftliche\, politische und andere Themen zu diskutieren.
URL:https://treibhaus-doebeln.de/event/open-cafe-12/
LOCATION:Café Courage\, Bahnhofstraße 56\, Döbeln\, Sachsen\, 04720\, Deutschland
CATEGORIES:Open Café
ATTACH;FMTTYPE=image/jpeg:https://treibhaus-doebeln.de/wp-content/uploads/2022/10/Open-Cafe-Header.jpg
ORGANIZER;CN="Treibhaus e.V. D%C3%B6beln":MAILTO:info@treibhaus-doebeln.de
END:VEVENT
END:VCALENDAR