BEGIN:VCALENDAR
VERSION:2.0
PRODID:-//Treibhaus Döbeln - ECPv6.15.13//NONSGML v1.0//EN
CALSCALE:GREGORIAN
METHOD:PUBLISH
X-WR-CALNAME:Treibhaus Döbeln
X-ORIGINAL-URL:https://treibhaus-doebeln.de
X-WR-CALDESC:Veranstaltungen für Treibhaus Döbeln
REFRESH-INTERVAL;VALUE=DURATION:PT1H
X-Robots-Tag:noindex
X-PUBLISHED-TTL:PT1H
BEGIN:VTIMEZONE
TZID:Europe/Berlin
BEGIN:DAYLIGHT
TZOFFSETFROM:+0100
TZOFFSETTO:+0200
TZNAME:CEST
DTSTART:20210328T010000
END:DAYLIGHT
BEGIN:STANDARD
TZOFFSETFROM:+0200
TZOFFSETTO:+0100
TZNAME:CET
DTSTART:20211031T010000
END:STANDARD
BEGIN:DAYLIGHT
TZOFFSETFROM:+0100
TZOFFSETTO:+0200
TZNAME:CEST
DTSTART:20220327T010000
END:DAYLIGHT
BEGIN:STANDARD
TZOFFSETFROM:+0200
TZOFFSETTO:+0100
TZNAME:CET
DTSTART:20221030T010000
END:STANDARD
BEGIN:DAYLIGHT
TZOFFSETFROM:+0100
TZOFFSETTO:+0200
TZNAME:CEST
DTSTART:20230326T010000
END:DAYLIGHT
BEGIN:STANDARD
TZOFFSETFROM:+0200
TZOFFSETTO:+0100
TZNAME:CET
DTSTART:20231029T010000
END:STANDARD
END:VTIMEZONE
BEGIN:VEVENT
DTSTART;TZID=Europe/Berlin:20221105T200000
DTEND;TZID=Europe/Berlin:20221105T230000
DTSTAMP:20260424T125810
CREATED:20221014T115914Z
LAST-MODIFIED:20221014T124131Z
UID:12834-1667678400-1667689200@treibhaus-doebeln.de
SUMMARY:IT’S KARAOKE TIME
DESCRIPTION:Kommt vorbei zu unserem ersten Karaokeabend im Cafe Courage — zum Singen\, zum Brüllen oder zu Allem\, was eure Stimme sonst noch so hergibt. Wer sich nicht selbst an’s Mikro traut\, kann die Teilnehmer*innen trotzdem mit coolen Tanzmoves unterstützen! An der Bar werden leckere Getränke und Snacks auf euch warten!  \nEintritt ist natürlich kostenlos! Also schmeißt euch in eure coolsten Party-Outfits und kommt vorbei.
URL:https://treibhaus-doebeln.de/event/its-karaoke-time/
LOCATION:Café Courage\, Bahnhofstraße 56\, Döbeln\, Sachsen\, 04720\, Deutschland
ATTACH;FMTTYPE=image/png:https://treibhaus-doebeln.de/wp-content/uploads/2022/10/Mein-Projekt-1-3.png
ORGANIZER;CN="Treibhaus e.V. D%C3%B6beln":MAILTO:info@treibhaus-doebeln.de
END:VEVENT
END:VCALENDAR